BEGIN:VCALENDAR
VERSION:2.0
PRODID:-//The Law Society of Newfoundland and Labrador - ECPv6.15.19//NONSGML v1.0//EN
CALSCALE:GREGORIAN
METHOD:PUBLISH
X-WR-CALNAME:The Law Society of Newfoundland and Labrador
X-ORIGINAL-URL:https://lsnl.ca
X-WR-CALDESC:Events for The Law Society of Newfoundland and Labrador
REFRESH-INTERVAL;VALUE=DURATION:PT1H
X-Robots-Tag:noindex
X-PUBLISHED-TTL:PT1H
BEGIN:VTIMEZONE
TZID:America/St_Johns
BEGIN:DAYLIGHT
TZOFFSETFROM:-0330
TZOFFSETTO:-0230
TZNAME:NDT
DTSTART:20240310T053000
END:DAYLIGHT
BEGIN:STANDARD
TZOFFSETFROM:-0230
TZOFFSETTO:-0330
TZNAME:NST
DTSTART:20241103T043000
END:STANDARD
BEGIN:DAYLIGHT
TZOFFSETFROM:-0330
TZOFFSETTO:-0230
TZNAME:NDT
DTSTART:20250309T053000
END:DAYLIGHT
BEGIN:STANDARD
TZOFFSETFROM:-0230
TZOFFSETTO:-0330
TZNAME:NST
DTSTART:20251102T043000
END:STANDARD
BEGIN:DAYLIGHT
TZOFFSETFROM:-0330
TZOFFSETTO:-0230
TZNAME:NDT
DTSTART:20260308T053000
END:DAYLIGHT
BEGIN:STANDARD
TZOFFSETFROM:-0230
TZOFFSETTO:-0330
TZNAME:NST
DTSTART:20261101T043000
END:STANDARD
END:VTIMEZONE
BEGIN:VEVENT
DTSTART;TZID=America/St_Johns:20250608T090000
DTEND;TZID=America/St_Johns:20250608T223000
DTSTAMP:20260421T063204
CREATED:20250523T131513Z
LAST-MODIFIED:20250523T131513Z
UID:25965-1749373200-1749421800@lsnl.ca
SUMMARY:CBA-NL Sip & Sweat Pilates
DESCRIPTION:As part of CBA-NL’s ongoing wellness initiative\, we’re excited to team up with Higher State Health & Wellness to offer a gentle morning of movement\, connection\, and care with a 50-minute Pilates class. Stick around after class to enjoy light refreshments and an optional ear seeding session with their in-house acupuncturist. \nRegister here \nEvent DetailsWhat: Mat Pilates “Sip & Sweat” – a low-impact\, feel-good flow to help you reconnect with your breath and bodyWhen: Sunday\, June 8 | 9:00 – 10:30 AM (Class is 50 mins\, ear seeding and refreshments to follow)Where: Higher State’s new clinic — 5 Hebron Way\, Suite 202Fee: Free for members\, $15 for non-members \nPlease note: spots are very limited (only 14 participants)Format: In person
URL:https://lsnl.ca/event/cba-nl-sip-sweat-pilates/
END:VEVENT
END:VCALENDAR