BEGIN:VCALENDAR
VERSION:2.0
PRODID:-//The Law Society of Newfoundland and Labrador - ECPv6.15.19//NONSGML v1.0//EN
CALSCALE:GREGORIAN
METHOD:PUBLISH
X-ORIGINAL-URL:https://lsnl.ca
X-WR-CALDESC:Events for The Law Society of Newfoundland and Labrador
REFRESH-INTERVAL;VALUE=DURATION:PT1H
X-Robots-Tag:noindex
X-PUBLISHED-TTL:PT1H
BEGIN:VTIMEZONE
TZID:America/St_Johns
BEGIN:DAYLIGHT
TZOFFSETFROM:-0330
TZOFFSETTO:-0230
TZNAME:NDT
DTSTART:20240310T053000
END:DAYLIGHT
BEGIN:STANDARD
TZOFFSETFROM:-0230
TZOFFSETTO:-0330
TZNAME:NST
DTSTART:20241103T043000
END:STANDARD
BEGIN:DAYLIGHT
TZOFFSETFROM:-0330
TZOFFSETTO:-0230
TZNAME:NDT
DTSTART:20250309T053000
END:DAYLIGHT
BEGIN:STANDARD
TZOFFSETFROM:-0230
TZOFFSETTO:-0330
TZNAME:NST
DTSTART:20251102T043000
END:STANDARD
BEGIN:DAYLIGHT
TZOFFSETFROM:-0330
TZOFFSETTO:-0230
TZNAME:NDT
DTSTART:20260308T053000
END:DAYLIGHT
BEGIN:STANDARD
TZOFFSETFROM:-0230
TZOFFSETTO:-0330
TZNAME:NST
DTSTART:20261101T043000
END:STANDARD
END:VTIMEZONE
BEGIN:VEVENT
DTSTART;VALUE=DATE:20251205
DTEND;VALUE=DATE:20251206
DTSTAMP:20260421T144020
CREATED:20251106T190605Z
LAST-MODIFIED:20251106T190605Z
UID:27062-1764892800-1764979199@lsnl.ca
SUMMARY:Deadline for PLC Licence Applications\, Amendments\, and Cancellations
DESCRIPTION:Please be advised that all initial applications for\, amendments to\, or cancellations of Professional Law Corporation (PLC) licences must be submitted by 5 December 2025 to ensure sufficient time for review and processing before the Christmas break. Applications received after this date may not be processed until the New Year. \nThe necessary forms are available as follows: \n\nForm 11.03A: Submit this form along with the required documentation to apply for a Professional Law Corporation Licence. Please carefully review the ‘Instructions for Completion’ found at the beginning of Form 11.03A.\nForm 11.03B: Submit this form\, along with the applicable fee and any required supporting documentation\, to the Law Society for amendments to your PLC.\nForm 11.07: If you wish to cancel your PLC licence\, please submit this completed form and the required documentation as outlined in section 2.
URL:https://lsnl.ca/event/deadline-for-plc-licence-applications-amendments-and-cancellations/
CATEGORIES:Law Society
END:VEVENT
END:VCALENDAR