BEGIN:VCALENDAR
VERSION:2.0
PRODID:-//The Law Society of Newfoundland and Labrador - ECPv6.15.19//NONSGML v1.0//EN
CALSCALE:GREGORIAN
METHOD:PUBLISH
X-ORIGINAL-URL:https://lsnl.ca
X-WR-CALDESC:Events for The Law Society of Newfoundland and Labrador
REFRESH-INTERVAL;VALUE=DURATION:PT1H
X-Robots-Tag:noindex
X-PUBLISHED-TTL:PT1H
BEGIN:VTIMEZONE
TZID:America/St_Johns
BEGIN:DAYLIGHT
TZOFFSETFROM:-0330
TZOFFSETTO:-0230
TZNAME:NDT
DTSTART:20250309T053000
END:DAYLIGHT
BEGIN:STANDARD
TZOFFSETFROM:-0230
TZOFFSETTO:-0330
TZNAME:NST
DTSTART:20251102T043000
END:STANDARD
BEGIN:DAYLIGHT
TZOFFSETFROM:-0330
TZOFFSETTO:-0230
TZNAME:NDT
DTSTART:20260308T053000
END:DAYLIGHT
BEGIN:STANDARD
TZOFFSETFROM:-0230
TZOFFSETTO:-0330
TZNAME:NST
DTSTART:20261101T043000
END:STANDARD
BEGIN:DAYLIGHT
TZOFFSETFROM:-0330
TZOFFSETTO:-0230
TZNAME:NDT
DTSTART:20270314T053000
END:DAYLIGHT
BEGIN:STANDARD
TZOFFSETFROM:-0230
TZOFFSETTO:-0330
TZNAME:NST
DTSTART:20271107T043000
END:STANDARD
END:VTIMEZONE
BEGIN:VEVENT
DTSTART;TZID=America/St_Johns:20260223T093000
DTEND;TZID=America/St_Johns:20260223T120000
DTSTAMP:20260421T163010
CREATED:20260210T165327Z
LAST-MODIFIED:20260210T165327Z
UID:27603-1771839000-1771848000@lsnl.ca
SUMMARY:Benchers' Meeting
DESCRIPTION:Please note that the next Benchers’ meeting will take place on 23 February 2026\, at 9:30 am. Anyone wishing to attend a Benchers’ meeting: \n\nis required to provide notice of attendance to the Law Society by emailing erowe@lsnl.ca;\nwill not be permitted to use audio or video recording devices or communication devices during the meeting;\nshall not speak\, unless invited to do so by the President;\nmust observe and obey all rulings of the President; and\nshall leave if the meeting is declared closed to the public or if asked to do so by the President.\n\nAt this time\, attendance shall be via Zoom. An invite will be provided upon receipt of an attendance notice. Agendas will be posted on the Law Society website in advance of each meeting\, and the Minutes for the Public portion of each meeting will also be posted on the website. \nPlease RSVP by noon on 19 February 2026 to Erin Rowe at erowe@lsnl.ca if you plan to attend the Benchers’ Meeting.
URL:https://lsnl.ca/event/benchers-meeting-24/
LOCATION:Online
END:VEVENT
BEGIN:VEVENT
DTSTART;TZID=America/St_Johns:20260223T180000
DTEND;TZID=America/St_Johns:20260223T190000
DTSTAMP:20260421T163010
CREATED:20260210T195219Z
LAST-MODIFIED:20260210T195219Z
UID:27612-1771869600-1771873200@lsnl.ca
SUMMARY:Atlantic Immigrant Career Loan Fund Information Session
DESCRIPTION:On February 23rd\, join us for a one-hour webinar at 6:00 p.m. AST to learn about the Atlantic Immigrant Career Loan Fund (AICLF). This ISANS-led initiative can help immigrants with permanent resident status or Canadian citizenship obtain training and certification in their chosen fields or related fields in their new home provinces. \nDuring this event\, you will learn: \n\nWho is eligible for the AICLF\nWhat costs the AICLF can cover\nThe kinds of programs the AICLF can help pay for\nHow the AICLF is funded and how it is administered across Atlantic Canada\nWhy the AICLF is a better choice for immigrants in Atlantic Canada than funding through a private institution on their own\n\nDuring and after the presentation\, you can also ask any questions you might have about AICLF. \nRegistration and attendance details: \n\nRegister for the event by filling in this form.\nThe registration deadline is 5 pm AST February 20th.\nYou will receive a link to the meeting before the event.\n\nFor more information\, please contact:   Ken Partridge  |  kpartridge@isans.ca \nMonday\, February 23 \n6:00 – 7:00 pm AST
URL:https://lsnl.ca/event/atlantic-immigrant-career-loan-fund-information-session-4/
LOCATION:Online
CATEGORIES:Continuing Professional Development
END:VEVENT
END:VCALENDAR