BEGIN:VCALENDAR
VERSION:2.0
PRODID:-//The Law Society of Newfoundland and Labrador - ECPv6.15.19//NONSGML v1.0//EN
CALSCALE:GREGORIAN
METHOD:PUBLISH
X-ORIGINAL-URL:https://lsnl.ca
X-WR-CALDESC:Events for The Law Society of Newfoundland and Labrador
REFRESH-INTERVAL;VALUE=DURATION:PT1H
X-Robots-Tag:noindex
X-PUBLISHED-TTL:PT1H
BEGIN:VTIMEZONE
TZID:America/St_Johns
BEGIN:DAYLIGHT
TZOFFSETFROM:-0330
TZOFFSETTO:-0230
TZNAME:NDT
DTSTART:20250309T053000
END:DAYLIGHT
BEGIN:STANDARD
TZOFFSETFROM:-0230
TZOFFSETTO:-0330
TZNAME:NST
DTSTART:20251102T043000
END:STANDARD
BEGIN:DAYLIGHT
TZOFFSETFROM:-0330
TZOFFSETTO:-0230
TZNAME:NDT
DTSTART:20260308T053000
END:DAYLIGHT
BEGIN:STANDARD
TZOFFSETFROM:-0230
TZOFFSETTO:-0330
TZNAME:NST
DTSTART:20261101T043000
END:STANDARD
BEGIN:DAYLIGHT
TZOFFSETFROM:-0330
TZOFFSETTO:-0230
TZNAME:NDT
DTSTART:20270314T053000
END:DAYLIGHT
BEGIN:STANDARD
TZOFFSETFROM:-0230
TZOFFSETTO:-0330
TZNAME:NST
DTSTART:20271107T043000
END:STANDARD
END:VTIMEZONE
BEGIN:VEVENT
DTSTART;TZID=America/St_Johns:20260306T120000
DTEND;TZID=America/St_Johns:20260306T153000
DTSTAMP:20260421T180827
CREATED:20260128T152006Z
LAST-MODIFIED:20260128T152006Z
UID:27508-1772798400-1772811000@lsnl.ca
SUMMARY:Give To Gain - CBA-NL International Women's Day Event
DESCRIPTION:  \n✔️ 3 hour of PD credit \n✔️ lunch for all in-person attendees \n✔️ Discounted price for CBA-NL Members \nMarch will be filled with more CLE’s\, Lunch and Learns\, and Wellness Events. Check out what we have coming up and save it in your calendar. Email Robyn if you have any questions: cba-nl@cba.org
URL:https://lsnl.ca/event/give-to-gain-cba-nl-international-womens-day-event/
CATEGORIES:Continuing Professional Development
END:VEVENT
END:VCALENDAR