BEGIN:VCALENDAR
VERSION:2.0
PRODID:-//The Law Society of Newfoundland and Labrador - ECPv6.15.19//NONSGML v1.0//EN
CALSCALE:GREGORIAN
METHOD:PUBLISH
X-WR-CALNAME:The Law Society of Newfoundland and Labrador
X-ORIGINAL-URL:https://lsnl.ca
X-WR-CALDESC:Events for The Law Society of Newfoundland and Labrador
REFRESH-INTERVAL;VALUE=DURATION:PT1H
X-Robots-Tag:noindex
X-PUBLISHED-TTL:PT1H
BEGIN:VTIMEZONE
TZID:America/St_Johns
BEGIN:DAYLIGHT
TZOFFSETFROM:-0330
TZOFFSETTO:-0230
TZNAME:NDT
DTSTART:20250309T053000
END:DAYLIGHT
BEGIN:STANDARD
TZOFFSETFROM:-0230
TZOFFSETTO:-0330
TZNAME:NST
DTSTART:20251102T043000
END:STANDARD
BEGIN:DAYLIGHT
TZOFFSETFROM:-0330
TZOFFSETTO:-0230
TZNAME:NDT
DTSTART:20260308T053000
END:DAYLIGHT
BEGIN:STANDARD
TZOFFSETFROM:-0230
TZOFFSETTO:-0330
TZNAME:NST
DTSTART:20261101T043000
END:STANDARD
BEGIN:DAYLIGHT
TZOFFSETFROM:-0330
TZOFFSETTO:-0230
TZNAME:NDT
DTSTART:20270314T053000
END:DAYLIGHT
BEGIN:STANDARD
TZOFFSETFROM:-0230
TZOFFSETTO:-0330
TZNAME:NST
DTSTART:20271107T043000
END:STANDARD
END:VTIMEZONE
BEGIN:VEVENT
DTSTART;TZID=America/St_Johns:20260429T100000
DTEND;TZID=America/St_Johns:20260429T130000
DTSTAMP:20260419T124553
CREATED:20260304T152734Z
LAST-MODIFIED:20260304T152734Z
UID:27752-1777456800-1777467600@lsnl.ca
SUMMARY:Polarizing Conversations: How to Talk About Triggering Topics
DESCRIPTION:Do you want to learn how to maintain relationships when discussing potentially triggering issues? Many people find themselves ill-prepared for these conversations and\, as a result\, avoid them or feel overwhelmed when they’re happening. This workshop equips you with skills for managing your own emotions and understanding the various dynamics of having polarizing discussions so you can confidently ensure they are productive and respectful. This is helpful for talking about things such as gender and equity\, race relations\, environmentalism\, the pandemic\, and remote work. No matter where you might have to discuss a polarizing issue\, this workshop teaches you to do so in a way that will leave everyone feeling heard and respected. \n\n\n\n\n\n\n\n\n\n\n\nLearning Objectives\nUpon completion\, participants should be able to: \n\nExplain polarizing conversations and their many layers\nIdentify our natural emotional responses to challenging interactions\nUtilize listening and validation to reduce tension\nDemonstrate how to set up conversations for success and make people feel safe\nPractice skills to engage in conversations about polarizing topics\n\n\n\nMethod of Delivery\nPresentation\, case study exercises\, experiential practice\, and personal reflection\, delivered electronically. \n\n*Please allow only the registered individual(s) to view the materials. \nNote: An e-manual for this workshop is included in purchase. \n\n\n\n\nSome of the Topics Included\n\nUnderstanding the Dynamics of Polarizing Topics\nOur Natural Responses to Challenging Interactions\nPreparing for the Polarized Conversation\nDepersonalizing the Conversation\nFinding Common Ground\nUtilizing Empathy and Validation\nHow to Help People Feel Safe\nEngaging in a Respectful Conversation\n\n\n\nTarget Audience\nThis is an introductory-intermediate level workshop applicable to both employees and managers. \n\n\nTerms & Conditions\nView our cancellation policy and other information regarding your live virtual workshop or for your in-person workshop. \nThe fees above are for a live event and do not include any copyright or licensing fees for creating recordings or reproductions of the workshop. Participants may not use AI tools or other technology to capture\, transcribe\, or replicate facilitator content without prior written consent. Exceptions may be granted for accessibility purposes—please contact us in advance to discuss accommodations. \nThis is a live virtual event\, please check your system requirements prior to registering. \nParticipants will receive the Zoom meeting login details and information about viewing the live virtual workshop by email 3-4 calendar days prior to the date of the event.\nPlease note\, payment is required in order to receive the login details. \n\n\n\n\n\n\n\n\n\n\n\nFacilitator: Andrew Wychnenka\nAndrew is a conflict management professional with over a decade of experience in delivering conflict management services such as mediation\, coaching\, and training in a variety of sectors. He is passionate about helping people understand conflict and find solutions to problems that seem insurmountable on their own. He has a bachelor’s degree in Conflict Resolution Studies and Psychology and holds a Chartered Mediator designation through the Alternative Dispute Resolution Institute of Canada. He has conducted over 100 mediation processes in court\, family\, workplace\, and community settings\, and has over 18 years of service as a leader in the Canadian military\, which includes a deployment to Afghanistan. He also spent five years as a conflict management expert for a government department where he offered internal mediation services\, training\, and group processes. Andrew believes that a having a mindset that focuses on seeking understanding is the key to resolving conflict. As a facilitator\, he is passionate about making the content of a workshop relatable through practical examples and dialogue among participants.
URL:https://lsnl.ca/event/polarizing-conversations-how-to-talk-about-triggering-topics-4/
LOCATION:Online
CATEGORIES:Continuing Professional Development
END:VEVENT
END:VCALENDAR