BEGIN:VCALENDAR
VERSION:2.0
PRODID:-//The Law Society of Newfoundland and Labrador - ECPv6.15.19//NONSGML v1.0//EN
CALSCALE:GREGORIAN
METHOD:PUBLISH
X-ORIGINAL-URL:https://lsnl.ca
X-WR-CALDESC:Events for The Law Society of Newfoundland and Labrador
REFRESH-INTERVAL;VALUE=DURATION:PT1H
X-Robots-Tag:noindex
X-PUBLISHED-TTL:PT1H
BEGIN:VTIMEZONE
TZID:America/St_Johns
BEGIN:DAYLIGHT
TZOFFSETFROM:-0330
TZOFFSETTO:-0230
TZNAME:NDT
DTSTART:20200308T053000
END:DAYLIGHT
BEGIN:STANDARD
TZOFFSETFROM:-0230
TZOFFSETTO:-0330
TZNAME:NST
DTSTART:20201101T043000
END:STANDARD
BEGIN:DAYLIGHT
TZOFFSETFROM:-0330
TZOFFSETTO:-0230
TZNAME:NDT
DTSTART:20210314T053000
END:DAYLIGHT
BEGIN:STANDARD
TZOFFSETFROM:-0230
TZOFFSETTO:-0330
TZNAME:NST
DTSTART:20211107T043000
END:STANDARD
BEGIN:DAYLIGHT
TZOFFSETFROM:-0330
TZOFFSETTO:-0230
TZNAME:NDT
DTSTART:20220313T053000
END:DAYLIGHT
BEGIN:STANDARD
TZOFFSETFROM:-0230
TZOFFSETTO:-0330
TZNAME:NST
DTSTART:20221106T043000
END:STANDARD
END:VTIMEZONE
BEGIN:VEVENT
DTSTART;TZID=America/St_Johns:20210303T120000
DTEND;TZID=America/St_Johns:20210303T133000
DTSTAMP:20260424T004334
CREATED:20210216T133030Z
LAST-MODIFIED:20210216T144016Z
UID:15915-1614772800-1614778200@lsnl.ca
SUMMARY:Framing Contemporary Issues and the Impact of Microaggressions
DESCRIPTION:PLEASE NOTE: THE REGISTRATION PROCESS IS ONLINE ONLY. TO REGISTER FOR THIS SEMINAR\, PLEASE CLICK THE FOLLOWING LINK: \nhttps://zoom.us/meeting/register/tJYvc-Gtpj0iG9BP1nF0uwGCAdYFBPL4fLwt \nAfter registering\, you will receive a confirmation email containing information about joining the meeting. \nPlease note: your space will not be confirmed until payment is received and refunds will not be issued for cancellations after March 2\, 2021. \nRegistration deadline is Tuesday\, March 2\, 2021. After registering\, you will receive a confirmation email containing information about joining the meeting. \nRegistration Fee: $57.50 ($50 + HST) \nCLE Credit: 1.5 hours
URL:https://lsnl.ca/event/framing-contemporary-issues-and-the-impact-of-microaggressions/
LOCATION:Online
CATEGORIES:Continuing Professional Development
END:VEVENT
BEGIN:VEVENT
DTSTART;TZID=America/St_Johns:20210312T120000
DTEND;TZID=America/St_Johns:20210312T130000
DTSTAMP:20260424T004334
CREATED:20210308T132612Z
LAST-MODIFIED:20210308T132612Z
UID:16080-1615550400-1615554000@lsnl.ca
SUMMARY:An Overview of the Stephenville Family Violence Intervention Court
DESCRIPTION:THE REGISTRATION PROCESS IS ONLINE ONLY. TO REGISTER FOR THIS WEBINAR/MEETING\, PLEASE CLICK THE FOLLOWING LINK: \nhttps://zoom.us/meeting/register/tJApc-qgpzkuGdyjE3NAbIjYOWe4-CyFkZxH \nRegistration deadline is Thursday\, March 11\, 2021. After registering\, you will receive a confirmation email containing the link to join the meeting. \nCLE credit: 1 hour
URL:https://lsnl.ca/event/an-overview-of-the-stephenville-family-violence-intervention-court/
LOCATION:Online
CATEGORIES:Continuing Professional Development
END:VEVENT
BEGIN:VEVENT
DTSTART;TZID=America/St_Johns:20210322T093000
DTEND;TZID=America/St_Johns:20210322T120000
DTSTAMP:20260424T004334
CREATED:20210223T142311Z
LAST-MODIFIED:20210223T142311Z
UID:15986-1616405400-1616414400@lsnl.ca
SUMMARY:How to Achieve Great Career Success in the Legal Profession
DESCRIPTION:THE REGISTRATION PROCESS IS ONLINE ONLY. TO REGISTER FOR THIS SEMINAR\, PLEASE CLICK THE FOLLOWING LINK: \nhttps://zoom.us/webinar/register/WN_o452ZJ0KRd2is6E8f4w6vw \nYour space will not be confirmed until payment is received. Refunds will not be issued for cancellation after March 19\, 2021. \nRegistration fee: $115.00 \nCLE credit: 2.5 hours
URL:https://lsnl.ca/event/how-to-achieve-great-career-success-in-the-legal-profession/
LOCATION:Online
CATEGORIES:Continuing Professional Development
END:VEVENT
BEGIN:VEVENT
DTSTART;TZID=America/St_Johns:20210325T120000
DTEND;TZID=America/St_Johns:20210325T133000
DTSTAMP:20260424T004334
CREATED:20210319T150024Z
LAST-MODIFIED:20210319T150024Z
UID:16157-1616673600-1616679000@lsnl.ca
SUMMARY:An Overview of the Specialized Criminal Courts
DESCRIPTION:THE REGISTRATION PROCESS IS ONLINE ONLY. TO REGISTER FOR THIS SEMINAR\, PLEASE CLICK THE FOLLOWING LINK: \nhttps://zoom.us/webinar/register/WN_EPxI843XTS-KyHcy–W1uw \nCLE credit: 1.5 hours
URL:https://lsnl.ca/event/an-overview-of-the-specialized-criminal-courts/
LOCATION:Online
CATEGORIES:Continuing Professional Development
END:VEVENT
END:VCALENDAR