BEGIN:VCALENDAR
VERSION:2.0
PRODID:-//The Law Society of Newfoundland and Labrador - ECPv6.15.19//NONSGML v1.0//EN
CALSCALE:GREGORIAN
METHOD:PUBLISH
X-ORIGINAL-URL:https://lsnl.ca
X-WR-CALDESC:Events for The Law Society of Newfoundland and Labrador
REFRESH-INTERVAL;VALUE=DURATION:PT1H
X-Robots-Tag:noindex
X-PUBLISHED-TTL:PT1H
BEGIN:VTIMEZONE
TZID:America/St_Johns
BEGIN:DAYLIGHT
TZOFFSETFROM:-0330
TZOFFSETTO:-0230
TZNAME:NDT
DTSTART:20210314T053000
END:DAYLIGHT
BEGIN:STANDARD
TZOFFSETFROM:-0230
TZOFFSETTO:-0330
TZNAME:NST
DTSTART:20211107T043000
END:STANDARD
BEGIN:DAYLIGHT
TZOFFSETFROM:-0330
TZOFFSETTO:-0230
TZNAME:NDT
DTSTART:20220313T053000
END:DAYLIGHT
BEGIN:STANDARD
TZOFFSETFROM:-0230
TZOFFSETTO:-0330
TZNAME:NST
DTSTART:20221106T043000
END:STANDARD
BEGIN:DAYLIGHT
TZOFFSETFROM:-0330
TZOFFSETTO:-0230
TZNAME:NDT
DTSTART:20230312T053000
END:DAYLIGHT
BEGIN:STANDARD
TZOFFSETFROM:-0230
TZOFFSETTO:-0330
TZNAME:NST
DTSTART:20231105T043000
END:STANDARD
END:VTIMEZONE
BEGIN:VEVENT
DTSTART;TZID=America/St_Johns:20220412T120000
DTEND;TZID=America/St_Johns:20220412T130000
DTSTAMP:20260423T025926
CREATED:20220208T195012Z
LAST-MODIFIED:20220208T195316Z
UID:17927-1649764800-1649768400@lsnl.ca
SUMMARY:Criminality and its Impact on Immigration Status
DESCRIPTION:THE REGISTRATION PROCESS IS ONLINE ONLY. TO REGISTER FOR THIS SEMINAR\, PLEASE CLICK THE FOLLOWING LINK: \nhttps://us06web.zoom.us/webinar/register/WN_rVxjMEOAQxyw2zQzN7cmmw \nAfter registering\, you will receive a confirmation email containing information about joining the meeting. \nPLEASE NOTE: Your space will not be confirmed until payment is received and refunds will not be issued for cancellation after April 11\, 2022. \nRegistration fee: $28.75 \nCPD credit: 1 hour
URL:https://lsnl.ca/event/criminality-and-its-impact-on-immigration-status/
LOCATION:Online
CATEGORIES:Continuing Professional Development
END:VEVENT
BEGIN:VEVENT
DTSTART;TZID=America/St_Johns:20220429T093000
DTEND;TZID=America/St_Johns:20220429T133000
DTSTAMP:20260423T025926
CREATED:20220422T140200Z
LAST-MODIFIED:20220422T140200Z
UID:18488-1651224600-1651239000@lsnl.ca
SUMMARY:CLE Program and Luncheon
DESCRIPTION:Canadian Bar Association – Newfoundland and Labrador Branch\nCLE Program and Luncheon\nFriday\, April 29\, 9:30am-1:30pm\nDelta Hotel\, St. John’s \nRegister now to attend the CBA-NL CLE program and luncheon on Friday\, April 29\, 9:30am-1:30pm at the Delta Hotel St. John’s. Don’t miss the opportunity to hear from our distinguished speakers and to meet and reconnect with members of the local bar. \nThis CLE will include: \n\nSpecial guest\, the Honourable Russell Brown\, Supreme Court of Canada\, speaking on Causation in Tort Law.\nJudges panel with Justice R. Brown\, Justice W. Goodridge (Court of Appeal NL) and Justice R. McGrath (Supreme Court NL)\, discussing topics including best practices in virtual proceedings\, traits/tips for effective lawyers\, and more.\nLuncheon guest speaker\, the Honourable John Hogan\, QC\, Minister of Justice and Public Safety\, Attorney General.\n\nTo register email cba-nl@cba.org. \nVisit the CBA-NL website at www.nl-cba.org/Professional-Development-Resources for the program agenda and registration information.
URL:https://lsnl.ca/event/cle-program-and-luncheon/
LOCATION:Delta St. John’s Hotel and Conference Centre\, Delta Hotel\, St. John's\, Newfoundland & Labrador\, Canada
CATEGORIES:Continuing Professional Development
ORGANIZER;CN="Canadian Bar Association NL":MAILTO:cba-nl@cba.org
END:VEVENT
END:VCALENDAR