BEGIN:VCALENDAR
VERSION:2.0
PRODID:-//The Law Society of Newfoundland and Labrador - ECPv6.15.19//NONSGML v1.0//EN
CALSCALE:GREGORIAN
METHOD:PUBLISH
X-ORIGINAL-URL:https://lsnl.ca
X-WR-CALDESC:Events for The Law Society of Newfoundland and Labrador
REFRESH-INTERVAL;VALUE=DURATION:PT1H
X-Robots-Tag:noindex
X-PUBLISHED-TTL:PT1H
BEGIN:VTIMEZONE
TZID:America/New_York
BEGIN:DAYLIGHT
TZOFFSETFROM:-0500
TZOFFSETTO:-0400
TZNAME:EDT
DTSTART:20210314T070000
END:DAYLIGHT
BEGIN:STANDARD
TZOFFSETFROM:-0400
TZOFFSETTO:-0500
TZNAME:EST
DTSTART:20211107T060000
END:STANDARD
BEGIN:DAYLIGHT
TZOFFSETFROM:-0500
TZOFFSETTO:-0400
TZNAME:EDT
DTSTART:20220313T070000
END:DAYLIGHT
BEGIN:STANDARD
TZOFFSETFROM:-0400
TZOFFSETTO:-0500
TZNAME:EST
DTSTART:20221106T060000
END:STANDARD
BEGIN:DAYLIGHT
TZOFFSETFROM:-0500
TZOFFSETTO:-0400
TZNAME:EDT
DTSTART:20230312T070000
END:DAYLIGHT
BEGIN:STANDARD
TZOFFSETFROM:-0400
TZOFFSETTO:-0500
TZNAME:EST
DTSTART:20231105T060000
END:STANDARD
END:VTIMEZONE
BEGIN:VTIMEZONE
TZID:America/St_Johns
BEGIN:DAYLIGHT
TZOFFSETFROM:-0330
TZOFFSETTO:-0230
TZNAME:NDT
DTSTART:20210314T053000
END:DAYLIGHT
BEGIN:STANDARD
TZOFFSETFROM:-0230
TZOFFSETTO:-0330
TZNAME:NST
DTSTART:20211107T043000
END:STANDARD
BEGIN:DAYLIGHT
TZOFFSETFROM:-0330
TZOFFSETTO:-0230
TZNAME:NDT
DTSTART:20220313T053000
END:DAYLIGHT
BEGIN:STANDARD
TZOFFSETFROM:-0230
TZOFFSETTO:-0330
TZNAME:NST
DTSTART:20221106T043000
END:STANDARD
BEGIN:DAYLIGHT
TZOFFSETFROM:-0330
TZOFFSETTO:-0230
TZNAME:NDT
DTSTART:20230312T053000
END:DAYLIGHT
BEGIN:STANDARD
TZOFFSETFROM:-0230
TZOFFSETTO:-0330
TZNAME:NST
DTSTART:20231105T043000
END:STANDARD
END:VTIMEZONE
BEGIN:VEVENT
DTSTART;TZID=America/New_York:20220512T130000
DTEND;TZID=America/New_York:20220512T143000
DTSTAMP:20260423T013254
CREATED:20220323T174029Z
LAST-MODIFIED:20220323T174112Z
UID:18283-1652360400-1652365800@lsnl.ca
SUMMARY:CCDC 29-2016: A Guide to Pre-Qualification Webinar
DESCRIPTION:CCDC has launched CCDC Document Webinars\, an exciting new initiative aimed at providing information and guidance about the content and use of our standard construction documents. \nRegistration \nEnglish CCDC 29 Webinar: Thursday\, May 12\nFrench CCDC 29 Webinar: Thursday\, May 19 \nPrice: $95 + taxes\nLength: 90 minutes \nSubscribe to CCDC updates to stay informed on when we will be holding more in the future. \n[read more…]
URL:https://lsnl.ca/event/ccdc-29-2016-a-guide-to-pre-qualification-webinar/
LOCATION:Online
CATEGORIES:Continuing Professional Development
ORGANIZER;CN="Canadian Construction Documents Committee":MAILTO:info@ccdc.org
END:VEVENT
BEGIN:VEVENT
DTSTART;TZID=America/St_Johns:20220526T100000
DTEND;TZID=America/St_Johns:20220526T153000
DTSTAMP:20260423T013254
CREATED:20220323T170218Z
LAST-MODIFIED:20220520T132414Z
UID:18279-1653559200-1653579000@lsnl.ca
SUMMARY:Wills and Estates Refresher
DESCRIPTION:PLEASE NOTE: THE REGISTRATION PROCESS IS ONLINE ONLY. TO REGISTER FOR THIS SEMINAR\, PLEASE CLICK THE FOLLOWING LINK: \nhttps://us06web.zoom.us/webinar/register/WN_8aYv-O9AQ8WcmgKl54CFYQ \nAfter registering\, you will receive a confirmation email containing the information you will need to join the seminar. \nIn-person attendance is subject to capacity restrictions and other measures/policies imposed by the Law Society\, the Chief Medical Officer\, and any other applicable governmental authority. In-person attendance\, if permitted\, will be approved according to the order in which payment is received. \nPLEASE NOTE: YOUR SPACE WILL NOT BE CONFIRMED UNTIL PAYMENT IS RECEIVED AND REFUNDS WILL NOT BE ISSUED FOR CANCELLATION AFTER MAY 25\, 2022. \nCPD Credit: 4.5 hours \nRegistration Fee: $230.00 ($200.00 + HST) HST # R108086463 \nRegistration Includes\n1. Seminar attendance\n2. Light refreshments (for in-person attendees) \n[read more…]
URL:https://lsnl.ca/event/wills-and-estates-refresher/
LOCATION:3rd Floor\, Law Society Building\, 196-198 Water Street\, St. John’s\, Canada
CATEGORIES:Continuing Professional Development
ORGANIZER;CN="Law Society of Newfoundland & Labrador":MAILTO:churley@lsnl.ca
END:VEVENT
END:VCALENDAR