BEGIN:VCALENDAR
VERSION:2.0
PRODID:-//The Law Society of Newfoundland and Labrador - ECPv6.15.19//NONSGML v1.0//EN
CALSCALE:GREGORIAN
METHOD:PUBLISH
X-ORIGINAL-URL:https://lsnl.ca
X-WR-CALDESC:Events for The Law Society of Newfoundland and Labrador
REFRESH-INTERVAL;VALUE=DURATION:PT1H
X-Robots-Tag:noindex
X-PUBLISHED-TTL:PT1H
BEGIN:VTIMEZONE
TZID:America/St_Johns
BEGIN:DAYLIGHT
TZOFFSETFROM:-0330
TZOFFSETTO:-0230
TZNAME:NDT
DTSTART:20210314T053000
END:DAYLIGHT
BEGIN:STANDARD
TZOFFSETFROM:-0230
TZOFFSETTO:-0330
TZNAME:NST
DTSTART:20211107T043000
END:STANDARD
BEGIN:DAYLIGHT
TZOFFSETFROM:-0330
TZOFFSETTO:-0230
TZNAME:NDT
DTSTART:20220313T053000
END:DAYLIGHT
BEGIN:STANDARD
TZOFFSETFROM:-0230
TZOFFSETTO:-0330
TZNAME:NST
DTSTART:20221106T043000
END:STANDARD
BEGIN:DAYLIGHT
TZOFFSETFROM:-0330
TZOFFSETTO:-0230
TZNAME:NDT
DTSTART:20230312T053000
END:DAYLIGHT
BEGIN:STANDARD
TZOFFSETFROM:-0230
TZOFFSETTO:-0330
TZNAME:NST
DTSTART:20231105T043000
END:STANDARD
END:VTIMEZONE
BEGIN:VTIMEZONE
TZID:America/New_York
BEGIN:DAYLIGHT
TZOFFSETFROM:-0500
TZOFFSETTO:-0400
TZNAME:EDT
DTSTART:20210314T070000
END:DAYLIGHT
BEGIN:STANDARD
TZOFFSETFROM:-0400
TZOFFSETTO:-0500
TZNAME:EST
DTSTART:20211107T060000
END:STANDARD
BEGIN:DAYLIGHT
TZOFFSETFROM:-0500
TZOFFSETTO:-0400
TZNAME:EDT
DTSTART:20220313T070000
END:DAYLIGHT
BEGIN:STANDARD
TZOFFSETFROM:-0400
TZOFFSETTO:-0500
TZNAME:EST
DTSTART:20221106T060000
END:STANDARD
BEGIN:DAYLIGHT
TZOFFSETFROM:-0500
TZOFFSETTO:-0400
TZNAME:EDT
DTSTART:20230312T070000
END:DAYLIGHT
BEGIN:STANDARD
TZOFFSETFROM:-0400
TZOFFSETTO:-0500
TZNAME:EST
DTSTART:20231105T060000
END:STANDARD
END:VTIMEZONE
BEGIN:VEVENT
DTSTART;TZID=America/St_Johns:20220601T120000
DTEND;TZID=America/St_Johns:20220601T133000
DTSTAMP:20260422T235929
CREATED:20220510T192851Z
LAST-MODIFIED:20220510T193015Z
UID:18703-1654084800-1654090200@lsnl.ca
SUMMARY:Children Who Resist Contact with a Parent in the Post-Separation Environment: A Review of Current Literature and Practice Implications
DESCRIPTION:Online: via Zoom\nIn-person (if possible): 3rd Floor\, Law Society Building\, 196-198 Water Street \nRegistration Fee:   $115.00 ($100 + HST) HST # R108086463 \nRegistration Includes: \n\nSeminar attendance\nLight refreshments (for in-person attendees)\n\nPLEASE NOTE:  THE REGISTRATION PROCESS IS ONLINE ONLY.  TO REGISTER FOR THIS SEMINAR\, PLEASE CLICK THE FOLLOWING LINK: \nhttps://us06web.zoom.us/webinar/register/WN_-F201ITnQ7a0x2uYD4nfOg \nAFTER REGISTERING\, YOU WILL RECEIVE A CONFIRMATION EMAIL CONTAINING INFORMATION ABOUT JOINING THE MEETING. \nIn-person attendance is subject to capacity restrictions and other measures/policies imposed by the Law Society\, the Chief Medical Officer\, and any other applicable governmental authority. In-person attendance\, if permitted\, will be approved according to the order in which payment is received. \nPLEASE NOTE: YOUR SPACE WILL NOT BE CONFIRMED UNTIL PAYMENT IS RECEIVED AND REFUNDS WILL NOT BE ISSUED FOR CANCELLATION AFTER MAY 31\, 2022. \nCPD Credit:   1.5 hours
URL:https://lsnl.ca/event/children-who-resist-contact-with-a-parent-in-the-post-separation-environment-a-review-of-current-literature-and-practice-implications/
CATEGORIES:Continuing Professional Development
ORGANIZER;CN="Law Society of Newfoundland & Labrador":MAILTO:churley@lsnl.ca
END:VEVENT
BEGIN:VEVENT
DTSTART;TZID=America/St_Johns:20220609T110000
DTEND;TZID=America/St_Johns:20220609T130000
DTSTAMP:20260422T235929
CREATED:20220511T113902Z
LAST-MODIFIED:20220511T113902Z
UID:18706-1654772400-1654779600@lsnl.ca
SUMMARY:Documentation Automation Technology – What It Can Do For You
DESCRIPTION:Registration Fee:   $115.00 ($100.00 + HST)       HST # R108086463 \nPLEASE NOTE:  THE REGISTRATION PROCESS IS ONLINE ONLY.  TO REGISTER FOR THIS SEMINAR\, PLEASE CLICK THE FOLLOWING LINK: \nhttps://us06web.zoom.us/webinar/register/WN_5SLRHFSlRDGHIZoMQKG5mQ \nAFTER REGISTERING\, YOU WILL RECEIVE A CONFIRMATION EMAIL CONTAINING INFORMATION ABOUT JOINING THE MEETING. \nPLEASE NOTE: YOUR SPACE WILL NOT BE CONFIRMED UNTIL PAYMENT IS RECEIVED AND REFUNDS WILL NOT BE ISSUED FOR CANCELLATION AFTER JUNE 8\, 2022. \nCPD Credit:   2 hours
URL:https://lsnl.ca/event/documentation-automation-technology-what-it-can-do-for-you/
LOCATION:Online
CATEGORIES:Continuing Professional Development
END:VEVENT
BEGIN:VEVENT
DTSTART;TZID=America/New_York:20220609T130000
DTEND;TZID=America/New_York:20220609T143000
DTSTAMP:20260422T235929
CREATED:20220426T132851Z
LAST-MODIFIED:20220426T134452Z
UID:18499-1654779600-1654785000@lsnl.ca
SUMMARY:Contractors Qualification Statement Webinar
DESCRIPTION:CCDC has launched CCDC Document Webinars\, an exciting new initiative aimed at providing information and guidance about the content and use of our standard construction documents. \nCCDC’s June webinar will be on CCDC 11 ‘Contractors Qualification Statement’. CCDC 11 is an industry standard form that is often used for pre-qualifying general contractors and trade contractors. It can be used as a part of\, or as a sole document requested in the RFQ. The webinar will explain everything there is to know about CCDC 11\, including the two new sections on insurance references\, health\, and safety. Join us to learn how to properly fill out the CCDC 11 forms\, whether you are preparing or receiving the CCDC 11\, you won’t want to miss this informative webinar. \nRegistration \nEnglish CCDC 11 Webinar: Thursday\, June 9 \nFrench CCDC 11 Webinar: Tuesday\, June 22 \nPrice: $75 + taxes \nLength: 90 minutes \nSubscribe to CCDC updates to stay informed on when we will be holding more in the future!
URL:https://lsnl.ca/event/contractors-qualification-statement-webinar/
LOCATION:Online
CATEGORIES:Continuing Professional Development,Law Society
ORGANIZER;CN="Canadian Construction Documents Committee":MAILTO:info@ccdc.org
END:VEVENT
BEGIN:VEVENT
DTSTART;TZID=America/New_York:20220622T100000
DTEND;TZID=America/New_York:20220622T113000
DTSTAMP:20260422T235929
CREATED:20220426T133451Z
LAST-MODIFIED:20220426T134351Z
UID:18502-1655892000-1655897400@lsnl.ca
SUMMARY:Contractors Qualification Statement - French
DESCRIPTION:CCDC has launched CCDC Document Webinars\, an exciting new initiative aimed at providing information and guidance about the content and use of our standard construction documents. \nCCDC’s June webinar will be on CCDC 11 ‘Contractors Qualification Statement’. CCDC 11 is an industry standard form that is often used for pre-qualifying general contractors and trade contractors. It can be used as a part of\, or as a sole document requested in the RFQ. The webinar will explain everything there is to know about CCDC 11\, including the two new sections on insurance references\, health\, and safety. Join us to learn how to properly fill out the CCDC 11 forms\, whether you are preparing or receiving the CCDC 11\, you won’t want to miss this informative webinar. \nRegistration \nFrench CCDC 11 Webinar: Tuesday\, June 22 \nPrice: $75 + taxes \nLength: 90 minutes \nSubscribe to CCDC updates to stay informed on when we will be holding more in the future!
URL:https://lsnl.ca/event/contractors-qualification-statement-french/
LOCATION:Online
CATEGORIES:Continuing Professional Development,Law Society
ORGANIZER;CN="Canadian Construction Documents Committee":MAILTO:info@ccdc.org
END:VEVENT
BEGIN:VEVENT
DTSTART;TZID=America/St_Johns:20220624T123000
DTEND;TZID=America/St_Johns:20220624T133000
DTSTAMP:20260422T235929
CREATED:20220603T172911Z
LAST-MODIFIED:20220603T173217Z
UID:18906-1656073800-1656077400@lsnl.ca
SUMMARY:FREE CLE WEBINAR  An Introduction to the Grand Falls - Windsor Intimate Partner Violence Intervention Court
DESCRIPTION:The Intimate Partner Violence Intervention Court (IPVIC) is a specialized criminal court using an intervention-based approach to address the complex issues of intimate partner violence. Currently\, IPVIC operates in St. John’s and Stephenville but is expanding operations to central Newfoundland and will be housed in the Grand Falls – Windsor court. IPVIC uses a treatment-based approach intended to address the complex issue of intimate partner violence. The focus is on victim safety as well as emphasizing offender accountability and treatment. This court is a collaborative effort of several stakeholders\, including the Provincial Court of Newfoundland and Labrador\, Public Prosecutions\, the Supreme Court of Newfoundland and Labrador (Family Division)\, Legal Aid NL\, Victim Services\, Corrections\, and Community Services\, and the Department of Child\, Seniors\, and Social Development. \nThis one-hour presentation provides members on the west coast of the province with an overview of the IPVIC program\, objectives\, and outcomes as well as highlights the process to engage clients in the program. \nSeminar Presenters: \n\nJudge Robin Fowler – Judge\, Provincial Court of Newfoundland and Labrador\, Grand Falls – Windsor\nMichelle Park – Program and Policy Development Specialist\, Department of Justice and Public Safety\nPat O’Reilly – Risk Assessment Office\, Legal Aid NL\nJennie McDonald – Legal Aid NL\, Grand Falls – Windsor\nTina Walsh – Senior Crown\, Grand Falls – Windsor\nPeggy O’Reilly – Social Worker Liaison\, CSSD\n\nPLEASE NOTE:  THE REGISTRATION PROCESS IS ONLINE ONLY.  TO REGISTER FOR THIS SEMINAR\, PLEASE CLICK THE FOLLOWING LINK: \nhttps://us06web.zoom.us/webinar/register/WN_0UPWs-AzR9SsppcOWNtowQ \nCLE Credit: 1 hour
URL:https://lsnl.ca/event/free-cle-webinar-an-introduction-to-the-grand-falls-windsor-intimate-partner-violence-intervention-court/
LOCATION:Online
CATEGORIES:Continuing Professional Development
ORGANIZER;CN="Law Society of Newfoundland & Labrador":MAILTO:churley@lsnl.ca
END:VEVENT
END:VCALENDAR