BEGIN:VCALENDAR
VERSION:2.0
PRODID:-//The Law Society of Newfoundland and Labrador - ECPv6.15.19//NONSGML v1.0//EN
CALSCALE:GREGORIAN
METHOD:PUBLISH
X-ORIGINAL-URL:https://lsnl.ca
X-WR-CALDESC:Events for The Law Society of Newfoundland and Labrador
REFRESH-INTERVAL;VALUE=DURATION:PT1H
X-Robots-Tag:noindex
X-PUBLISHED-TTL:PT1H
BEGIN:VTIMEZONE
TZID:America/Vancouver
BEGIN:DAYLIGHT
TZOFFSETFROM:-0800
TZOFFSETTO:-0700
TZNAME:PDT
DTSTART:20210314T100000
END:DAYLIGHT
BEGIN:STANDARD
TZOFFSETFROM:-0700
TZOFFSETTO:-0800
TZNAME:PST
DTSTART:20211107T090000
END:STANDARD
BEGIN:DAYLIGHT
TZOFFSETFROM:-0800
TZOFFSETTO:-0700
TZNAME:PDT
DTSTART:20220313T100000
END:DAYLIGHT
BEGIN:STANDARD
TZOFFSETFROM:-0700
TZOFFSETTO:-0800
TZNAME:PST
DTSTART:20221106T090000
END:STANDARD
BEGIN:DAYLIGHT
TZOFFSETFROM:-0800
TZOFFSETTO:-0700
TZNAME:PDT
DTSTART:20230312T100000
END:DAYLIGHT
BEGIN:STANDARD
TZOFFSETFROM:-0700
TZOFFSETTO:-0800
TZNAME:PST
DTSTART:20231105T090000
END:STANDARD
END:VTIMEZONE
BEGIN:VTIMEZONE
TZID:America/Toronto
BEGIN:DAYLIGHT
TZOFFSETFROM:-0500
TZOFFSETTO:-0400
TZNAME:EDT
DTSTART:20210314T070000
END:DAYLIGHT
BEGIN:STANDARD
TZOFFSETFROM:-0400
TZOFFSETTO:-0500
TZNAME:EST
DTSTART:20211107T060000
END:STANDARD
BEGIN:DAYLIGHT
TZOFFSETFROM:-0500
TZOFFSETTO:-0400
TZNAME:EDT
DTSTART:20220313T070000
END:DAYLIGHT
BEGIN:STANDARD
TZOFFSETFROM:-0400
TZOFFSETTO:-0500
TZNAME:EST
DTSTART:20221106T060000
END:STANDARD
BEGIN:DAYLIGHT
TZOFFSETFROM:-0500
TZOFFSETTO:-0400
TZNAME:EDT
DTSTART:20230312T070000
END:DAYLIGHT
BEGIN:STANDARD
TZOFFSETFROM:-0400
TZOFFSETTO:-0500
TZNAME:EST
DTSTART:20231105T060000
END:STANDARD
END:VTIMEZONE
BEGIN:VTIMEZONE
TZID:UTC
BEGIN:STANDARD
TZOFFSETFROM:+0000
TZOFFSETTO:+0000
TZNAME:UTC
DTSTART:20210101T000000
END:STANDARD
END:VTIMEZONE
BEGIN:VEVENT
DTSTART;TZID=America/Vancouver:20221004T123000
DTEND;TZID=America/Vancouver:20221004T140000
DTSTAMP:20260422T172318
CREATED:20220830T130614Z
LAST-MODIFIED:20220830T130800Z
UID:19407-1664886600-1664892000@lsnl.ca
SUMMARY:Strategies\, Considerations\, and Pitfalls to Avoid in Negotiations and Settlements of Sexual Harassment Claims
DESCRIPTION:Description\n\n\nJoin Clea Parfitt\, an experienced human rights and employment law lawyer\, as she discusses strategies\, considerations\, and common pitfalls to avoid in negotiating settlements for clients with sexual harassment claims. She will discuss assessing your client’s claim\, approaches to negotiation\, and identifying and addressing concerns in settlement agreements and releases\, such as non-disclosure agreements. While Clea will highlight particular issues in sexual harassment claims\, this session may be of interest to anyone who engages in negotiations and settlements. \nThis 1.5 hour webinar is presented in partnership with the SHARP Workplaces program through CLAS (Sexual Harassment Advice\, Response\, and Prevention for Workplaces). The presentation will be aimed primarily at SHARP roster lawyers. However\, other lawyers and law students are welcome to attend. \nParticipants in this webinar may claim up to 1.5 hour of CPD credit with LSBC.
URL:https://lsnl.ca/event/strategies-considerations-and-pitfalls-to-avoid-in-negotiations-and-settlements-of-sexual-harassment-claims/
LOCATION:Online
CATEGORIES:Continuing Professional Development
END:VEVENT
BEGIN:VEVENT
DTSTART;TZID=America/Vancouver:20221006T123000
DTEND;TZID=America/Vancouver:20221006T140000
DTSTAMP:20260422T172318
CREATED:20220830T131039Z
LAST-MODIFIED:20220915T151206Z
UID:19410-1665059400-1665064800@lsnl.ca
SUMMARY:Gender Diversity in Legal Writing: Pronouns\, Honorifics\, and Gender-Inclusive Techniques
DESCRIPTION:Overview\nLike the law\, language and styles of writing evolve over time to meet the needs of new generations. One such shift is towards language that reflects a modern understanding of gender and gender identity. Inclusivity can no longer be limited to masculine and feminine but must be extended to include people who identify as non-binary\, agender\, two spirited\, or genderqueer. To meet these needs\, the British Columbia Law Institute is creating a guide to ‘Gender Diversity in Legal Writing: Pronouns\, Honorifics\, and Gender-Inclusive Techniques’ (Guide). \n\n\n\n\n\n\n\n\n\n\nThe Purpose of the Guide\nLegal writing comprises many forms: legislation\, court submissions\, opinion letters\, transactional writing (e.g.\, contracts\, wills)\, communications with clients and other lawyers\, legal memoranda\, legal texts and academic writing\, court forms\, judgments and decisions\, and other reports and papers. Ultimately\, the writer must choose the gender inclusive techniques needed for their audience and subject matter. The methods and tools explored in this publication give legal writers guidance to consider inclusivity in their writing. \nThe Guide: \n\nDefines terms and addresses common misconceptions associated with certain terminology (e.g. transgender\, not transgendered);\nOutlines techniques to reflect inclusivity and gender neutrality\, including review of honorifics\, greetings\, and pronouns;\nProvides examples of how to incorporate gender inclusivity into one’s own writing style; and\nProvides a list of resources for legal writers who want to learn more.\n\nThe Importance of Gender Diversity in Legal Writing\nGender-inclusive legal writing demonstrates a high level of professionalism and commitment to justice. It shows the writer’s commitment to the ideals underlying the legal profession and respect for their audience. \nInclusive language is important because it recognizes diversity and seeks to avoid discriminatory terminology. Inclusive language does not discourage a writer from discussing differences when it is important to do so. Instead\, it asks that a writer not exclude and marginalize people by drawing differences or using exclusionary language where differences are immaterial to the information being conveyed. More specifically\, it respects ability\, indigeneity\, race\, ethnicity\, gender\, gender identity\, sexual orientation\, age\, and other attributes of personal identity that have been used to discriminate against and marginalize persons with those attributes. \nThe Guide supports all legal writers in this goal- from long term practitioners seeking to learn a new way of writing\, to new lawyers beginning their careers with best practices. \nEmail About this Project\nbcli@bcli.org
URL:https://lsnl.ca/event/gender-diversity-in-legal-writing-pronouns-honorifics-and-gender-inclusive-techniques/
LOCATION:Online
CATEGORIES:Continuing Professional Development
END:VEVENT
BEGIN:VEVENT
DTSTART;TZID=America/Toronto:20221026T140000
DTEND;TZID=America/Toronto:20221026T140000
DTSTAMP:20260422T172318
CREATED:20221013T130728Z
LAST-MODIFIED:20221013T130812Z
UID:19643-1666792800-1666792800@lsnl.ca
SUMMARY:Westlaw Canada Presents: Legal Update on Insurance Law in Canada
DESCRIPTION:Event Hosted By: Thomson Reuters \nComprehensive or Commercial General Liability (collectively: “CGL”) policies are the most widely used liability policies in the business community\, designed to address the needs of most businesses. The particular wording of each insurer’s standard form may differ. As well\, manuscript policies may be accepted by insurers. In general\, the industry follows one of the formats adopted by the Insurance Bureau of Canada (“IBC”). \nJoin us on October 26 at 2:00 PM EST to gain expert insights on distinctions and developments in Insurance Law featuring the team from Snowden Law and authors of Annotated Commercial General Liability Policy. \nTopics:\n\nDevelopments on insurance coverage for additional insureds\nMaterial misrepresentation and voiding the policy in the context of the duty to defend\nLack of fortuity\nLatest judicial guidance on how the intentional act exclusion is construed in different contexts\nInterpretation of the professional services exclusion\nContextual interpretation of the pollution exclusion\nApplying policy deductible at the duty to defend stage\nSufficient notice of claim
URL:https://lsnl.ca/event/westlaw-canada-presents-legal-update-on-insurance-law-in-canada/
CATEGORIES:Continuing Professional Development
END:VEVENT
BEGIN:VEVENT
DTSTART;TZID=UTC:20221027T080000
DTEND;TZID=UTC:20221027T170000
DTSTAMP:20260422T172318
CREATED:20221027T134339Z
LAST-MODIFIED:20221027T134339Z
UID:19818-1666857600-1666890000@lsnl.ca
SUMMARY:Trauma-Informed Lawyering: What I Wish I Knew – the Lawyer Edition: Nova Scotia Barristers Society
DESCRIPTION:Join the Society’s TRC Working Group (TRCWG) for the education session Trauma-Informed Lawyering: What I Wish I Knew – the Lawyer Edition with lawyer and host of the “The Trauma-Informed Lawyer” podcast Myrna McCallum. \nThursday\, November 17\, 2022 12:00 PM-1:00 PM \nTrauma-informed lawyering is a do-no-further-harm\, relational approach to the practice of law that benefits you\, your clients\, your colleagues and the legal profession generally. \nDid you attend the previous trauma-informed lawyering session with Myrna? All members\, including those who attended the previous session\, are encouraged to attend this free education session. It will not only reflect on the content from the last session but it will also include additional information. \nPlease let us know if you have any accessibility accommodation requests to facilitate your participation by contacting Kerry Foss at kfoss@nsbs.org. \nRegister now\nAbout Myrna McCallum \nMyrna is a Métis lawyer from Green Lake in Treaty Six territory and the host of “The Trauma-Informed Lawyer” Podcast. Prior to founding Miyo Pimatisiwin Legal Services in 2019\, Myrna served as an adjudicator in the Indian Residential Schools Settlement Agreement claims process\, and Crown Prosecutor with the Ministry of the Attorney General in Saskatchewan. When she is not FaceTiming her three grandchildren\, educating or podcasting\, Myrna is advising\, advocating\, or conducting workplace investigations and reviews. In 2020\, the Federal Department of Justice awarded Myrna their first ever Excellence in Legal Practice and Victim Support Award. She lives in North Vancouver\, B.C \nAbout the Society’s TRC Working Group (TRCWG) \nThe TRCWG makes recommendations to the Society’s Council on a response to the Calls to Action. In developing recommendations for consideration by Council\, the TRCWG considers the Society’s role in responding to the Calls to Action and the value in supporting any activities the Society may undertake. Learn more. \nWebsite\nus02web.zoom.us \nEmail\nkfoss@nsbs.org
URL:https://lsnl.ca/event/trauma-informed-lawyering-what-i-wish-i-knew-the-lawyer-edition-nova-scotia-barristers-society/
LOCATION:Online
CATEGORIES:Continuing Professional Development
END:VEVENT
END:VCALENDAR