BEGIN:VCALENDAR
VERSION:2.0
PRODID:-//The Law Society of Newfoundland and Labrador - ECPv6.15.19//NONSGML v1.0//EN
CALSCALE:GREGORIAN
METHOD:PUBLISH
X-ORIGINAL-URL:https://lsnl.ca
X-WR-CALDESC:Events for The Law Society of Newfoundland and Labrador
REFRESH-INTERVAL;VALUE=DURATION:PT1H
X-Robots-Tag:noindex
X-PUBLISHED-TTL:PT1H
BEGIN:VTIMEZONE
TZID:UTC
BEGIN:STANDARD
TZOFFSETFROM:+0000
TZOFFSETTO:+0000
TZNAME:UTC
DTSTART:20210101T000000
END:STANDARD
END:VTIMEZONE
BEGIN:VTIMEZONE
TZID:America/St_Johns
BEGIN:DAYLIGHT
TZOFFSETFROM:-0330
TZOFFSETTO:-0230
TZNAME:NDT
DTSTART:20210314T053000
END:DAYLIGHT
BEGIN:STANDARD
TZOFFSETFROM:-0230
TZOFFSETTO:-0330
TZNAME:NST
DTSTART:20211107T043000
END:STANDARD
BEGIN:DAYLIGHT
TZOFFSETFROM:-0330
TZOFFSETTO:-0230
TZNAME:NDT
DTSTART:20220313T053000
END:DAYLIGHT
BEGIN:STANDARD
TZOFFSETFROM:-0230
TZOFFSETTO:-0330
TZNAME:NST
DTSTART:20221106T043000
END:STANDARD
BEGIN:DAYLIGHT
TZOFFSETFROM:-0330
TZOFFSETTO:-0230
TZNAME:NDT
DTSTART:20230312T053000
END:DAYLIGHT
BEGIN:STANDARD
TZOFFSETFROM:-0230
TZOFFSETTO:-0330
TZNAME:NST
DTSTART:20231105T043000
END:STANDARD
END:VTIMEZONE
BEGIN:VEVENT
DTSTART;TZID=UTC:20221201T120000
DTEND;TZID=UTC:20221201T170000
DTSTAMP:20260422T134950
CREATED:20221027T124025Z
LAST-MODIFIED:20221027T124025Z
UID:19776-1669896000-1669914000@lsnl.ca
SUMMARY:Mastering Forensic Investigations + Reporting After a Breach - Canadian Legal Information Forum
DESCRIPTION:Description\n\n\nWebinar description coming soon. For more information\, visit www.canlif.net/webinars.\n\n\nTime\nDec 1\, 2022 12:00 PM Eastern Time (US and Canada)
URL:https://lsnl.ca/event/mastering-forensic-investigations-reporting-after-a-breach-canadian-legal-information-forum/
LOCATION:Online
CATEGORIES:Continuing Professional Development
ORGANIZER;CN="Canadian Legal Innovation Forum":MAILTO:andrew@adbinsights.com
END:VEVENT
BEGIN:VEVENT
DTSTART;TZID=UTC:20221201T130000
DTEND;TZID=UTC:20221201T143000
DTSTAMP:20260422T134950
CREATED:20221027T130007Z
LAST-MODIFIED:20221027T130421Z
UID:19789-1669899600-1669905000@lsnl.ca
SUMMARY:Professionalism and Practice Management Issues in Administrative Law 2022: Law Society of Ontario
DESCRIPTION:Add this event to your calendar (Downloads an .ICS file) \n\n\n\n\n\n\nView this webcast-only program from your home or office computer \n\n\n\n\n\n\n\nDescription \n\nThe events of the last few years have changed the way administrative legal professionals manage their clients and themselves. Client needs are more complex and challenging\, while resources to assist clients are increasingly strained. All this is happening as practices and procedures at court and in tribunals continue to evolve in a (mostly) virtual hearing world. Our experienced presenters provide you with strategies to manage the unique professionalism and practice management issues that arise in this area so that you can successfully navigate these challenges for you and your clients. \n\nLearn how to serve clients with disabilities\nGet tips on managing challenging clients\nGain an understanding of the experience of racialized (female) lawyers in virtual hearings\n\nABOUT LIVE WEBCAST REPLAYS WITH LIVE CHAT \nThis live webcast replay contains an online chat feature that allows you to view the previously broadcast program and interact\, share ideas\, and exchange comments with fellow registrants online. \nRemember: Your CPD hours must be entered into the LSO Portal. Register for an account and log your CPD hours at https://portal.lso.ca.
URL:https://lsnl.ca/event/professionalism-and-practice-management-issues-in-administrative-law-2022-law-society-of-ontario/
LOCATION:Online
CATEGORIES:Continuing Professional Development
ORGANIZER;CN="Law Society of Ontario":MAILTO:lawsociety@lso.ca
END:VEVENT
BEGIN:VEVENT
DTSTART;TZID=UTC:20221202T090000
DTEND;TZID=UTC:20221202T160000
DTSTAMP:20260422T134950
CREATED:20221027T130917Z
LAST-MODIFIED:20221027T130917Z
UID:19798-1669971600-1669996800@lsnl.ca
SUMMARY:Technology and the Law: Law Society of Ontario
DESCRIPTION:Add this event to your calendar (Downloads an .ICS file) \n\n\n\n\n\n\n\n\nView this webcast-only program from your home or office computer \n\n\n\n\n\n\n\nDescription \n\nThe pandemic had a seismic impact on the way technology is used in the practice of law. Whether these changes will realize promised improvements to courtroom efficiency and improve access to justice or create additional barriers for those already marginalized remains to be seen. And what about the increased risk of cybersecurity attacks that opening the tech door brings? Your fellow practitioners\, technology experts\, legal app developers\, professors\, and judges discuss and advise how new and innovative technologies are changing (or will change) the delivery of legal services and the differences these changes make to your practice today. \n\nTechnology competence in practice: what do you need to know and do?\nWhat challenges arise for legal practitioners through remote work?\nHow is Artificial Intelligence affecting practice and litigation?\nWhat is the Metaverse and why should you care?\n\nABOUT LIVE WEBCAST REPLAYS WITH LIVE CHAT \nThis live webcast replay contains an online chat feature that allows you to view the previously broadcast program and interact\, share ideas\, and exchange comments with fellow registrants online. If you have already registered for the program\, you can view the replay at no additional fee and without re-registering. \nRemember: Your CPD hours must be entered into the LSO Portal. Register for an account and log your CPD hours at https://portal.lso.ca.
URL:https://lsnl.ca/event/technology-and-the-law-law-society-of-ontario/
LOCATION:Online
CATEGORIES:Continuing Professional Development
ORGANIZER;CN="Law Society of Ontario":MAILTO:lawsociety@lso.ca
END:VEVENT
BEGIN:VEVENT
DTSTART;TZID=America/St_Johns:20221202T120000
DTEND;TZID=America/St_Johns:20221202T130000
DTSTAMP:20260422T134950
CREATED:20221124T201602Z
LAST-MODIFIED:20221125T165309Z
UID:19949-1669982400-1669986000@lsnl.ca
SUMMARY:The Development and Importance of Canada’s National Statement - International Law Applicable in Cyberspace
DESCRIPTION:Free Session – December 2\, 2022 \nOn 22 April 2022\, the Government of Canada published its National Statement on International Law applicable in cyberspace. This statement clearly sets out the Canadian position on a variety of public international law topics including Sovereignty\, Non-Intervention\, Due Diligence\, State Responsibility\, and Threat or use of Force. \nLieutenant-Commander Michael J. McCarthy\, Deputy Director of the Directorate of Cyber Operations Law\, Office of the Judge Advocate General of the Canadian Armed Forces\, member of the Law Society of NL\, and Mr. Robert Young\, Legal Counsel with the Criminal\, Security\, and Diplomatic Law Division of Global Affairs Canada Legal Bureau\, will be providing a “Lunch and Learn” Professional Development session on the development and importance of Canada’s National Statement. \nThis PD session is particularly relevant to those whose practice\, or interests include matters related to cyberspace\, public international law\, military law\, and international relations. The recent experience of the residents of Newfoundland and Labrador as a result of malicious cyber activity that impacted the Provincial health care system demonstrates the importance and relevance of the law affecting cyberspace. \nWe recommend that participants review the Statement in advance of the session. \nPlease see below for information on how to attend the session\, taking place on December 2\, 12:00 – 1:00 pm (NST). \nMicrosoft Teams meeting\nJoin on your computer\, mobile app or room device\nClick here to join the meeting \nMeeting ID: 210 799 703 559\nPasscode: SR4FqW\nDownload Teams | Join on the web \nJoin with a video conferencing device\nteams@dnd-mdn.video.canada.ca\nVideo Conference ID: 111 713 754 0\nAlternate VTC instructions \nOr call in (audio only)\n+1 343-803-5382\,\,255398563#   Canada\, Ottawa-Hull\nPhone Conference ID: 255 398 563#\nFind a local number | Reset PIN\nLearn More | Meeting options \n. . . . . . . . . . . . . . . . . . . . . . . . . . . . . . . . . . . . . . . . . . . . . . . . . . . . . . . . . . . . . . \nRéunion Microsoft Teams \nRejoindre sur votre ordinateur ou application mobile\nCliquez ici pour participer à la réunion\nID de réunion : 210 799 703 559\nCode secret : SR4FqW\nTélécharger Teams | Rejoindre sur le web \nRejoindre avec un appareil de vidéoconférence\nteams@dnd-mdn.video.canada.ca\nID de vidéoconférence : 111 713 754 0\nAutres instructions VTC \nOu composer le numéro (audio seulement)\n+1 343-803-5382\,\,255398563#   Canada\, Ottawa-Hull\nID Conférence Téléphone: 255 398 563#\nRechercher un numéro local | Réinitialiser le code confidentiel\nPour en savoir plus | Options de réunion
URL:https://lsnl.ca/event/the-development-and-importance-of-canadas-national-statement-international-law-applicable-in-cyberspace/
LOCATION:Online
CATEGORIES:Continuing Professional Development
END:VEVENT
BEGIN:VEVENT
DTSTART;TZID=UTC:20221212T090000
DTEND;TZID=UTC:20221212T120000
DTSTAMP:20260422T134950
CREATED:20221027T131103Z
LAST-MODIFIED:20221027T131205Z
UID:19800-1670835600-1670846400@lsnl.ca
SUMMARY:Ethical Issues in Commercial Litigation 2022: Law Society of BC
DESCRIPTION:Add this event to your calendar (Downloads an .ICS file) \n\n\n\n\n\n\n\n\nView this webcast-only program from your home or office computer \n\n\n\n\n\n\n\n\nChair\n\n\n\n\n\nLucas Lung\, Lerners LLP\n\n\n\n\nDescription\n\n\nEthical considerations in the practice of law are pretty standard\, so a standard ethics program will be fine for you\, right? Not so much. This is not your mother’s ethics program. Our speakers discuss and engage on what you want to hear about — issues that confront your commercial litigation practice. You get a chance to analyze what’s top of mind for your colleagues who are dealing with the same challenges and connect with them on how they respond. Parse through what you need to know about dealing with expert witnesses\, effectively handling the potential for any conflict or appearance of conflict of interest issues\, and learn how to clearly communicate with your clients. \n\nAnalyze and consider what constitutes fair dealing with self-reps when nuanced legal strategies are engaged\nLearn about caution and care to be taken in settlement negotiations\nConsider how to proceed when the Rules of Professional Conduct are silent on your issue
URL:https://lsnl.ca/event/ethical-issues-in-commercial-litigation-2022-law-society-of-bc/
LOCATION:Online
CATEGORIES:Continuing Professional Development
ORGANIZER;CN="Law Society of Ontario":MAILTO:lawsociety@lso.ca
END:VEVENT
BEGIN:VEVENT
DTSTART;TZID=UTC:20221212T090000
DTEND;TZID=UTC:20221212T163000
DTSTAMP:20260422T134950
CREATED:20221103T180738Z
LAST-MODIFIED:20221103T180909Z
UID:19858-1670835600-1670862600@lsnl.ca
SUMMARY:Dealing with High Conflict Personalities
DESCRIPTION:Description\n\n\n\n\n\n\nSimple strategies for resolving high conflict situations with high conflict people \nThursday\, October 13\, 2022 (SOLD OUT)\n9:00 am – 4:30 pm\nvia live webinar \nMonday\, December 12\, 2022\n9:00 am – 4:30 pm\nvia live webinar\n \nPlease note: This course will not be added to Courses on Demand. Courses involving professional speakers and skills-based workshops generally do not get added to Courses on Demand. \nWho should attend: Lawyers\, mediators; this course may also be of interest to paralegals and legal support staff \nLearning level: All levels \nHave you noticed more people engaging in “high conflict” behaviour these days? Someone yelling at a receptionist? A colleague who often gets into arguments and doesn’t take responsibility for his or her actions? A client who files multiple complaints over a miscommunication? \nThese types of behaviours are increasingly common\, and as a legal professional\, it is more important than ever to be able to manage individuals with high conflict personalities who repeat patterns of high conflict behaviours. \nAt this one-day workshop\, you will learn the theory of high conflict behaviour and explore skills and techniques to manage high conflict disputes. You will draw from your own experiences\, refine your existing skillset\, and practice new strategies\, so you can leave this course with insight and confidence when dealing with high conflict behaviour. \nJoin us and learn how to effectively clear up conflict today! \nMediate BC Roster mediators will receive 20% off the full regular course registration fee. Please contact Customer Service to register. \nLaw Society of BC CPD Hours: 6.5 hours (including a minimum of 1 hour pertaining to professional responsibility and ethics\, client care and relations\, and/or practice management) \nCourse Chair \nMichael J. Lomax\, JD — High Conflict Institute\, Victoria \n\n\n\n\nPricing\n\nEARLY BIRD \nRegister by Nov. 14/22\nRegular Price\nAfter Nov. 14/22\n\n\n\n\nWebinar\n$519   $480\n$581   $533\n\n\nWebinar Articled Student\n$290.50   $266.50\n$290.50   $266.50\n\n\n\n\n\n\n\n\nAre you an Indigenous lawyer or community member?\nClick here for special pricing.\nDo you need financial assistance?\nClick here for bursary information. \nExperiencing financial hardship due to COVID-19?\nYou may be eligible for further reductions in our course prices.\nPlease contact Customer Service for more information. \nRegistration includes an electronic copy of the reference materials.\n\n\n\n\nWant to register for a course now\, but prefer a monthly payment plan?\nCheck out our Easy Pay Plan.  \nCLEBC Program Coordinator \nMary Kingston\nmkingston@cle.bc.ca
URL:https://lsnl.ca/event/dealing-with-high-conflict-personalities/
LOCATION:Online
CATEGORIES:Continuing Professional Development
ORGANIZER;CN="Continuing Legal Education":MAILTO:cle@lawsociety.nf.ca
END:VEVENT
BEGIN:VEVENT
DTSTART;TZID=UTC:20221213T120000
DTEND;TZID=UTC:20221213T130000
DTSTAMP:20260422T134950
CREATED:20221129T173815Z
LAST-MODIFIED:20221129T173815Z
UID:19976-1670932800-1670936400@lsnl.ca
SUMMARY:CFLR Webinar Series
DESCRIPTION:The Inaugural CFLR Legal Research Webinar\nThe Canadian Foundation for Legal Research (“CFLR”) is pleased to present its inaugural research webinar. Professor Martha Bailey of the Faculty of Law\, Queen’s University will present her family law research topic\, Jurisdiction to Make Parenting Orders\, in an online format at noon EST on Tuesday\, December 13\, 2022. Professor Bailey will examine the case law surrounding the increasing preference for having courts in the subject children’s habitual place of residence take jurisdiction to make such orders and will comment on the benefits and problems resulting from that approach. \nTo register for Professor Bailey’s webinar\, simply click on this link and complete the registration form. \nBackground\nThe CFLR is a non-profit\, trustee-led organization that awards grant funds annually to legal scholars in Canada. It supports research that is of value to Canadian lawyers\, notaries\, and judges in their day-to-day work in the law and in the administration of justice. Applications seeking grant support for projects that emphasize access to justice\, and Indigenous and family law issues are especially encouraged. \nThe Webinar Series Initiative\nCommencing in December 2022\, the CFLR will begin presenting a series of one-hour webinars featuring legal researchers whose projects have recently received Foundation funding. The purpose of the series is to amplify the beneficial impact of CFLR research dollars on Canadian society by extending the reach of the findings of researchers whose work receives Foundation support to lawyers\, members of the judiciary and members of law faculties across Canada. \nThe first few CFLR webinars will be offered in English; webinars in the French language will be introduced very soon thereafter. Initially\, the webinars will be offered at no cost to registrants\, three times annually. All webinars will be recorded and made accessible online so that those who are unable to attend in real time can view the recordings at future dates. \nUpdates\nCheck the “Legal Research Webinar Series” drop-down menu on the CFLR home page for periodic updates\, including the dates and presenter details for future webinar offerings. \nCanadian Foundation of Legal Research\nadmin@cflr-fcrj.ca\n900 Greensbank Road\, Suite 436\nOttawa\, ON\nK2J 4P6\nwww.cflr-fcrj.ca
URL:https://lsnl.ca/event/cflr-webinar-series/
LOCATION:Online
CATEGORIES:Continuing Professional Development
END:VEVENT
BEGIN:VEVENT
DTSTART;TZID=UTC:20221213T163000
DTEND;TZID=UTC:20221213T180000
DTSTAMP:20260422T134950
CREATED:20221208T133852Z
LAST-MODIFIED:20221208T134032Z
UID:20028-1670949000-1670954400@lsnl.ca
SUMMARY:Children's Memory for Repeated Events: Can They Remember One Time?
DESCRIPTION:This presentation by Courthouse Libraries BC will explore how to begin to narrow the gap between the level of detail forensic interviewers expect from children who report repeated abuse and the ability of children to provide such reports. \nIt has been estimated that at least 50% of child complainants of sexual abuse report repeated abuse. When repeated abuse is reported\, professional forensic interviewers attempt to elicit as many details as possible about each alleged instance. \nIn this presentation\, Dr. Deborah Connolly with the Children’s Memory Research Lab at SFU’s Department of Psychology\, will discuss how the organization of memory for repeated events is different from the organization of memory for unique events. Dr. Connolly will consider conditions under which children may be able to isolate\nChildren’s memory for repeated events: Can they remember one time?details associated with one instance and conditions under which they are unlikely to provide this level of specificity. \nThis webinar is the 7th in our Criminal Law Scholars Series (CLSS)\, which is being co-hosted by Courthouse Libraries BC and the Criminal Defence Advocacy Society. Participants in this webinar may claim up to 1.5hrs of CPD with the Law Society of BC. \nPresenter: Dr. Deborah Connolly\, Simon Fraser University Department of Psychology\nModerator: Tamara Levy\, KC \nRead more [here]. \n 
URL:https://lsnl.ca/event/childrens-memory-for-repeated-events-can-they-remember-one-time/
CATEGORIES:Continuing Professional Development
END:VEVENT
END:VCALENDAR