BEGIN:VCALENDAR
VERSION:2.0
PRODID:-//The Law Society of Newfoundland and Labrador - ECPv6.15.19//NONSGML v1.0//EN
CALSCALE:GREGORIAN
METHOD:PUBLISH
X-WR-CALNAME:The Law Society of Newfoundland and Labrador
X-ORIGINAL-URL:https://lsnl.ca
X-WR-CALDESC:Events for The Law Society of Newfoundland and Labrador
REFRESH-INTERVAL;VALUE=DURATION:PT1H
X-Robots-Tag:noindex
X-PUBLISHED-TTL:PT1H
BEGIN:VTIMEZONE
TZID:America/St_Johns
BEGIN:DAYLIGHT
TZOFFSETFROM:-0330
TZOFFSETTO:-0230
TZNAME:NDT
DTSTART:20240310T053000
END:DAYLIGHT
BEGIN:STANDARD
TZOFFSETFROM:-0230
TZOFFSETTO:-0330
TZNAME:NST
DTSTART:20241103T043000
END:STANDARD
BEGIN:DAYLIGHT
TZOFFSETFROM:-0330
TZOFFSETTO:-0230
TZNAME:NDT
DTSTART:20250309T053000
END:DAYLIGHT
BEGIN:STANDARD
TZOFFSETFROM:-0230
TZOFFSETTO:-0330
TZNAME:NST
DTSTART:20251102T043000
END:STANDARD
BEGIN:DAYLIGHT
TZOFFSETFROM:-0330
TZOFFSETTO:-0230
TZNAME:NDT
DTSTART:20260308T053000
END:DAYLIGHT
BEGIN:STANDARD
TZOFFSETFROM:-0230
TZOFFSETTO:-0330
TZNAME:NST
DTSTART:20261101T043000
END:STANDARD
END:VTIMEZONE
BEGIN:VEVENT
DTSTART;VALUE=DATE:20250703
DTEND;VALUE=DATE:20250704
DTSTAMP:20260420T074232
CREATED:20250501T174211Z
LAST-MODIFIED:20250501T174211Z
UID:25834-1751500800-1751587199@lsnl.ca
SUMMARY:Critical Incident Group Debriefing
DESCRIPTION:Critical incidents are situations that occur outside of our normal frame of reference and challenge us to understand and cope with what has happened. Critical Incident Group Debriefing (CIGD) is a short-term group intervention process that focuses on an immediate event. CIGD is one of several methods that may be utilized to lessen the likelihood of people experiencing symptoms of trauma and stress after a critical incident. This group debriefing process provides a place for participants to talk and share experiences\, and for the facilitator to teach and provide information about the impact of critical incidents. While participants of this workshop will learn how to facilitate a group debriefing\, they will also learn how to discern when CIGD is appropriate for a group and when it might not be a suitable intervention. \n\n\n\n\n\n\n\n\n\nLearning Objectives\nUpon completion\, participants should be able to: \n\nUnderstand how people respond differently to the same event\nDescribe a framework for facilitating a group debriefing\nKnow the benefits and potential problems with group debriefing\nIdentify when critical incident group debriefing is appropriate\nApply principles learned to their own environment\n\n\n\nMethod of Delivery\nPresentation\, video\, case study exercises\, experiential practice\, personal reflection\, delivered electronically. \n\n\n\n\n\nSome of the Topics Included\n\nDefinitions and Overview\nRole of Group Debriefing\nPossible Reactions to a Critical Incident\nResponse Variables\nPost-Traumatic Stress Disorder\nGroup Debriefing History\nGroup Debriefing Models\nBenefits and Problems with Group Debriefing\nPreparing for a Group Debriefing\nCIGD Phases\nConsiderations About the Process\nTips for Facilitators\nCo-Facilitating\n\n\n\nTarget Audience\nThis is an intermediate level workshop intended for school personnel\, social service and health care professionals\, counsellors\, social workers\, managers\, human resource professionals\, and anyone seeking a better understanding of how to facilitate a group debriefing after a tragic event. \nTerms & Conditions \n\n\nView our cancellation policy and other information regarding your live virtual workshop or for your in-person workshop. \nThis is a live virtual event\, please check your system requirements prior to registering. \nParticipants will receive the Zoom meeting login details and information about viewing the live virtual workshop by email 3-4 calendar days prior to the date of the event.\nPlease note\, payment is required in order to receive the login details. \n\n\n\n\n\n\nTrainer: John Koop Harder\n\n\n\n\n\nMSW\, RSW\nJohn has been working as a therapist and trainer for over 20 years. He is a Registered Social Worker who holds a Master of Social Work degree. John is a contributing author of our Counselling Insights and Counselling in Relationships books. Much of John’s career has centred on working with children\, youth\, adults\, and families dealing with crisis and trauma. While he has a diverse practice\, he has particular interest and specialized experience in working with individuals and families impacted by mental health concerns\, violence\, post-war trauma recovery\, gender/sexuality issues\, and sexual abuse recovery. John’s work is also informed by his international experiences working with individuals and communities impacted by civil war and ethnic conflicts in Colombia\, Albania\, and Northern Ireland. John believes people are their own best experts and already have many of the skills\, abilities\, and competencies that will assist them to address the challenges influencing their lives. John is a warm and engaging facilitator who values interactive learning experiences. Read blogs written by John here.
URL:https://lsnl.ca/event/critical-incident-group-debriefing-5/
LOCATION:Online
CATEGORIES:Continuing Professional Development
END:VEVENT
BEGIN:VEVENT
DTSTART;VALUE=DATE:20250707
DTEND;VALUE=DATE:20250712
DTSTAMP:20260420T074232
CREATED:20250212T144036Z
LAST-MODIFIED:20250212T145020Z
UID:25159-1751846400-1752278399@lsnl.ca
SUMMARY:Federation of Law Societies 2025 National Criminal Law Program
DESCRIPTION:The 2025 NCLP will be marking the 50th anniversary of the program and will feature special guests (soon to be announced). This year’s NCLP will be held in Vancouver BC from July 7th to 11th . This year’s theme is Criminal Procedure\, Ethics and the Charter.  \nRegistration is limited and is on a first-come\, first-served basis. Early registration is recommended. \nThe 2025 National Criminal Law Program will take place at the Hyatt Regency Vancouver hotel\, located at 655 Burrard Street\, Vancouver\, BC. \nRegister here. \nFor information contact NCLP Coordinator at nclpcoordinator@flsc.ca.
URL:https://lsnl.ca/event/federation-of-law-societies-2025-national-criminal-law-program/
CATEGORIES:Continuing Professional Development
END:VEVENT
BEGIN:VEVENT
DTSTART;VALUE=DATE:20250708
DTEND;VALUE=DATE:20250709
DTSTAMP:20260420T074232
CREATED:20250501T182922Z
LAST-MODIFIED:20250501T182922Z
UID:25841-1751932800-1752019199@lsnl.ca
SUMMARY:Trauma-Informed Care: Building a Culture of Strength
DESCRIPTION:Trauma is prevalent in our world and has an impact on many of the people we interact with\, including those who engage with our organizations. Compassionate and trauma-informed care is essential to providing effective support and building sustainable services. Based on our book\, A Little Book About Trauma-Informed Workplaces\, this workshop explores five key principles to integrate a trauma-informed approach throughout the organization. By embracing these principles\, participants can better contribute to the positive transformation of individuals and relationships affected by trauma. Becoming trauma-informed creates a sustainable foundation in any setting to promote strength\, engagement\, and healing. \nPlease note: This workshop does not provide training related to trauma counselling. If that is what you are looking for\, please check out our workshop\, Trauma – Counselling Strategies for Healing and Resilience. \n\n\n\n\n\n\n\n\n\nLearning Objectives\nUpon completion\, participants should be able to: \n\nDiscuss the prevalence and impact of trauma on individuals and organizations\nList five key trauma-informed principles\nDescribe practical strategies for implementing each of the five trauma-informed principles\nAssess their own organization for areas of trauma-informed strengths and weakness\nIdentify trauma-informed goals to improve service delivery and program planning\n\n\n\nMethod of Delivery\nPresentation\, video\, case study exercises\, personal reflection\, delivered electronically. \n\n\n\n\n\nSome of the Topics Included\n\nTrauma’s Ripple Effect\nWhat Is Trauma-Informed Care?\nBuilding a Trauma-Informed Culture\nUnderstanding Trauma\n5 Principles of a Trauma-Informed Approach – Promote Awareness\, Shift Attitudes\, Provide Choice\, Foster Safety\, Highlight Strengths\nPost-Traumatic Growth and Resilience\nSteps for Implementing Principles\n\n\n\nTarget Audience\nThis is an introductory-intermediate level workshop intended for anyone interested in learning more about the value of trauma-informed workplaces. \n\n\nTerms & Conditions\nView our cancellation policy and other information regarding your live virtual workshop or for your in-person workshop. \nThis is a live virtual event\, please check your system requirements prior to registering. \nParticipants will receive the Zoom meeting login details and information about viewing the live virtual workshop by email 3-4 calendar days prior to the date of the event.\nPlease note\, payment is required in order to receive the login details. \n\n\n\n\n\n\n\n\n\n\n\nTrainer: Monica Bhatara\nMonica has over 25 years of experience working in the community-based social services field as a Therapist and Community Educator. She is a Registered Therapeutic Counsellor\, Certified Synergetic Play Therapist\, and Focusing-Oriented Therapist. Monica has worked both in clinical settings for various programs and served in a leadership role as Director of Clinical Practice\, providing her expertise to clinical and non-clinical programs that focus on family preservation and reunification\, complex intergenerational trauma\, trauma-informed practice\, and clinical supervision. In addition to training with CTRI\, she has a private counselling practice where she incorporates somatic work\, play and expressive therapies\, and interpersonal neurobiology in her work with children\, youth\, and adults. Monica believes in the power of human resiliency and the importance of building the capacity of paraprofessionals and non-clinical workers because they play a vital role on the therapy spectrum. As a trainer\, she brings stimulating stories and a style that promotes engagement and facilitates learning.
URL:https://lsnl.ca/event/trauma-informed-care-building-a-culture-of-strength-3/
LOCATION:Online
CATEGORIES:Continuing Professional Development
END:VEVENT
BEGIN:VEVENT
DTSTART;VALUE=DATE:20250709
DTEND;VALUE=DATE:20250710
DTSTAMP:20260420T074232
CREATED:20250220T135102Z
LAST-MODIFIED:20250220T135102Z
UID:25256-1752019200-1752105599@lsnl.ca
SUMMARY:Difficult Conversations: Strategies for Challenging Discussions
DESCRIPTION:Whether sharing bad news with a client\, providing corrective action\, or talking with a colleague about an uncomfortable issue\, difficult conversations are typically stressful and often take a large mental and emotional toll. Many people avoid difficult conversations for these reasons\, or find themselves ill prepared when they must have them. Yet\, the ability to handle difficult conversations respectfully and professionally is one of the most important skills for success in the workplace. This workshop will review the key elements of preparing for\, conducting\, and concluding difficult conversations. Participants will leave with a set of tools to help ensure that difficult conversations are productive\, professional\, and respectful for all involved. \n\n\n\n\n\n\n\n\n\nLearning Objectives\nUpon completion\, participants should be able to: \n\nDescribe how to prepare for the next difficult conversation you encounter\nIdentify when and how to conduct a difficult conversation\nList some tools to help you in your difficult conversations\n\n\n\nMethod of Delivery\nPresentation\, video\, case study exercises\, experiential practice\, personal reflection\, delivered electronically \n\n*Please allow only the registered individual(s) to view the materials. \nNote: An e-manual for this workshop is included in purchase. \n\n\n\n\nSome of the Topics Included\n\nTypes of Difficult Conversations\nOur Natural Responses to Difficult Conversations\nDetermining if a Conversation is Necessary\nHow to Stop Avoiding the Interaction\nHow to Prepare for the Difficult Conversation\nKey Skills and Strategies for Engaging\nWhat to Do If They Won’t Engage\nConcluding the Conversation\nKeys for Delivering Bad News\nHow to be Open to Receiving the Difficult Conversation\n\n\n\nTarget Audience\nThis is an introductory-intermediate level workshop applicable to both employees and managers. \n\n\nTerms & Conditions\nView our cancellation policy and other information regarding your live virtual workshop or for your in-person workshop. \nThis is a live virtual event\, please check your system requirements prior to registering. \nParticipants will receive the Zoom meeting login details and information about viewing the live virtual workshop by email 3-4 calendar days prior to the date of the event.\nPlease note\, payment is required in order to receive the login details. \n\n\n\n\n\n\n\n\n\n\n\nTrainer: Andrew Wychnenka\nAndrew is a conflict management professional with over a decade of experience in delivering conflict management services such as mediation\, coaching\, and training in a variety of sectors. He is passionate about helping people understand conflict and find solutions to problems that seem insurmountable on their own. He has a bachelor’s degree in Conflict Resolution Studies and Psychology and holds a Chartered Mediator designation through the Alternative Dispute Resolution Institute of Canada. He has conducted over 100 mediation processes in court\, family\, workplace\, and community settings\, and has over 18 years of service as a leader in the Canadian military\, which includes a deployment to Afghanistan. He also spent five years as a conflict management expert for a government department where he offered internal mediation services\, training\, and group processes. Andrew believes that a having a mindset that focuses on seeking understanding is the key to resolving conflict. As a facilitator\, he is passionate about making the content of a workshop relatable through practical examples and dialogue among participants.
URL:https://lsnl.ca/event/difficult-conversations-strategies-for-challenging-discussions-2/
LOCATION:Online
CATEGORIES:Continuing Professional Development
END:VEVENT
BEGIN:VEVENT
DTSTART;VALUE=DATE:20250717
DTEND;VALUE=DATE:20250718
DTSTAMP:20260420T074232
CREATED:20250604T123742Z
LAST-MODIFIED:20250604T123742Z
UID:26057-1752710400-1752796799@lsnl.ca
SUMMARY:Assertive Communication
DESCRIPTION:Our communication skills and style are essential to positive and productive relations. Effective communication requires us to be clear about our own thoughts and desires\, and also to be responsive to those of others. Assertive communicators express ideas and feelings in transparent\, open\, and direct ways – stating their needs clearly and without defensiveness. In this training\, participants will build an awareness of their communication patterns and learn to deal confidently with people around them. This workshop is fun\, meaningful\, and highly effective for improving communication awareness and skills.\n\n\n\n\n\n\n\n\n\n\n\nLearning Objectives\nUpon completion\, participants should be able to: \n\nDefine assertive communication\nPractice giving an assertive opinion\nDiscuss personal boundaries and practice saying no when appropriate\nOutline the steps for giving corrective feedback in the form of a DESO script\nIdentify options for responding to negative feedback\n\n\n\nMethod of Delivery\nPresentation\, video\, experiential practice\, personal reflection\, delivered electronically. \n\n\n\n\n\nSome of the Topics Included\n\nWhat’s Required for Effective Communication\nAssertiveness Self-Assessment\nCharacteristics of Aggressive and Passive Communicators\nAssertive Communicator Characteristics\nAssertive Body Language\nGuidelines for Offering an Opinion\nStrategies for Giving Directions\nHow to Say “No” Assertively\nSkills for Making Requests\nGiving Corrective Feedback\nDealing with Difficult Responses\n\n\n\nTarget Audience\nThis is an introductory-intermediate level workshop. \n\n\nTerms & Conditions\nView our cancellation policy and other information regarding your live virtual workshop or for your in-person workshop. \nThis is a live virtual event\, please check your system requirements prior to registering. \nParticipants will receive the Zoom meeting login details and information about viewing the live virtual workshop by email 3-4 calendar days prior to the date of the event.\nPlease note\, payment is required in order to receive the login details. \n\n\n\n\n\n\n\n\n\n\n\nTrainer: Jessica Antony\nJessica is a communications specialist with over a decade of experience helping others share their stories\, with a focus on collaborative communication\, editorial development\, and content creation. She has a bachelor’s degree in Rhetoric and Communications and a master’s degree in Media Studies. Jessica facilitates workshops on leadership\, communication skills\, and content creation\, and has been teaching in the Department of Rhetoric\, Writing\, and Communications at the University of Winnipeg since 2009. In all her work\, she is committed to developing and maintaining trusting relationships\, with an attention to cultural differences\, working styles\, and mutual goals. Jessica is enthusiastic about helping people strengthen their ability to communicate clearly\, respectfully\, and with ease. She is a dynamic and engaging facilitator who is enthusiastic about understanding people’s communication styles and approaches to help them improve their capacity to effectively and respectfully communicate with those around them. Read blogs written by Jessica here.
URL:https://lsnl.ca/event/assertive-communication-2/
CATEGORIES:Continuing Professional Development
END:VEVENT
BEGIN:VEVENT
DTSTART;VALUE=DATE:20250721
DTEND;VALUE=DATE:20250722
DTSTAMP:20260420T074232
CREATED:20250220T135452Z
LAST-MODIFIED:20250220T135452Z
UID:25262-1753056000-1753142399@lsnl.ca
SUMMARY:Managing Difficult Phone Calls
DESCRIPTION:Handling difficult interactions on the phone is a challenging task\, especially if the caller is in a heightened state of emotion. For many\, the ability to navigate difficult phone conversations with respect and professionalism is an essential workplace skill. This workshop is designed to provide practical strategies for dealing with clients and customers over the phone who are in a heightened emotional state. Participants will learn over-the-phone techniques for de-escalating anger\, resolving conflict\, and communicating effectively. \n\n\n\n\n\n\n\n\n\nLearning Objectives\nUpon completion\, participants should be able to: \n\nApply effective listening skills to enhance understanding\nSupport emotionally heightened clients over the phone\nProblem-solve with clients for best outcomes\nDemonstrate a plan for delivering bad news\n\n\n\nMethod of Delivery\nPresentation\, video\, experiential practice\, personal reflection\, delivered electronically. \n\n*Please allow only the registered individual(s) to view the materials. \nNote: An e-manual for this workshop is included in purchase. \n\n\n\n\nSome of the Topics Included\n\nThe Complexity of Phone Communication\nQualities of a Skilled Communicator\nKey Skills for the Phone – Tone\, Volume\, and Inflection\nCommunication Style Test\nPractical Tips for Calming the Distressed Person\nIdentifying and Prioritizing Issues Raised\nDelivering Bad News\nEffective Notetaking\nPolitely Ending the Conversation\n\n\n\nTarget Audience\nThis is an introductory-intermediate level workshop. \nTerms & Conditions \n\n\nView our cancellation policy and other information regarding your live virtual workshop or for your in-person workshop. \nThis is a live virtual event\, please check your system requirements prior to registering. \nParticipants will receive the Zoom meeting login details and information about viewing the live virtual workshop by email 3-4 calendar days prior to the date of the event.\nPlease note\, payment is required in order to receive the login details. \n\n\n\n\n\n\nTrainer: Christina Reimer\n\n\n\n\n\nChristina has a diverse background as a leadership trainer\, director and team building and conflict resolution facilitator. With a PhD in religion\, she teaches university courses on ethics\, the world’s major religions\, and other topics. Christina has travelled extensively and worked internationally for non-profit organizations that focus on peace-building and community development. She values workplaces that promote diversity and equity and strive to resolve corporate and interpersonal conflict in productive ways. She believes that communicating well is one of the keys to creating healthy working environments. Christina has an enthusiastic and engaging presentation style and uses storytelling and humour to make workshops interesting as well as informative.
URL:https://lsnl.ca/event/managing-difficult-phone-calls-7/
LOCATION:Online
CATEGORIES:Continuing Professional Development
END:VEVENT
BEGIN:VEVENT
DTSTART;VALUE=DATE:20250723
DTEND;VALUE=DATE:20250726
DTSTAMP:20260420T074232
CREATED:20250708T165828Z
LAST-MODIFIED:20250708T170453Z
UID:26308-1753228800-1753487999@lsnl.ca
SUMMARY:Youth Justice Camp: St. John's
DESCRIPTION:
URL:https://lsnl.ca/event/youth-justice-camp-st-johns/
CATEGORIES:Continuing Professional Development
END:VEVENT
BEGIN:VEVENT
DTSTART;TZID=America/St_Johns:20250725T123000
DTEND;TZID=America/St_Johns:20250725T170000
DTSTAMP:20260420T074232
CREATED:20250709T164209Z
LAST-MODIFIED:20250709T164209Z
UID:26328-1753446600-1753462800@lsnl.ca
SUMMARY:Young Lawyer Professional Development and Mingle Event
DESCRIPTION:We’ve never done anything like this before – and we’re excited to bring young lawyers together for an in-person afternoon of professional development\, connection\, and fun on Friday\, July 25! \nWe’re going straight to the source on the do’s and don’ts of the provincial courtroom. Chief Judge Robin Fowler will lead a session on courtroom etiquette\, offering practical insights from the bench. Whether you’re preparing for your first appearance or looking for a timely refresher\, this is your chance to learn what to expect and ask the Chief Judge your questions directly. \nWe’ll kick off the afternoon with lunch and a presentation from Lawyers Financial\, covering how to set yourself up for financial success as you transition from law school into practice- navigating things like loans\, unexpected time off\, parental leave\, and more. \nAnd to wrap things up (arguably the best part)\, we’re ending the day with a young lawyer meet and mingle\, a great opportunity to expand your network and enjoy a beverage on us. \nHere’s what’s on the agenda: \n 12:30 PM – Check-in \n 12:45 PM – Lunch & Financial literacy presentation by Lawyers Financial \n⚖️ Courtroom Etiquette with Chief Judge Fowler – an invaluable opportunity for facetime and practical insight \n 3:00–5:00 PM – Young Lawyer Meet & Mingle (refreshments on us!) \n Free for members\, articling clerks\, & law students \n $20 plus tax for non-members \n Includes lunch and refreshments \nRegister now here \n Questions? Email Robyn at cba-nl@cba.org
URL:https://lsnl.ca/event/young-lawyer-professional-development-and-mingle-event/
CATEGORIES:Continuing Professional Development
END:VEVENT
BEGIN:VEVENT
DTSTART;TZID=America/St_Johns:20250728T180000
DTEND;TZID=America/St_Johns:20250728T190000
DTSTAMP:20260420T074232
CREATED:20250707T175538Z
LAST-MODIFIED:20250707T175700Z
UID:26295-1753725600-1753729200@lsnl.ca
SUMMARY:Atlantic Immigrant Career Loan Fund Online Information Session
DESCRIPTION:On July 28th\, join us for a one-hour webinar at 6:00 p.m. ADT to learn about the Atlantic Immigrant Career Loan Fund (AICLF). This ISANS-led initiative can help immigrants with permanent resident status or Canadian citizenship obtain training and certification in their chosen fields or related fields in their new home provinces. \n During this event\, you will learn: \n\nWho is eligible for the AICLF\nWhat costs the AICLF can cover\nThe kinds of programs the AICLF can help pay for\nHow the AICLF is funded and how it is administered across Atlantic Canada\nWhy the AICLF is a better choice for immigrants in Atlantic Canada than funding through a private institution on their own\n\n During and after the presentation\, you can also ask any questions you might have about AICLF. \n Registration and attendance details: \n\nRegister for the event by filling in this form.\nThe registration deadline is 5 pm ADT July 25th.\nYou will receive a link to the meeting before the event.\n\nFor more information\, please contact:   Ken Partridge  |  kpartridge@isans.ca \nMonday\, July 28 \n6:00 – 7:00 pm ADT
URL:https://lsnl.ca/event/atlantic-immigrant-career-loan-fund-online-information-session-10/
LOCATION:Online
CATEGORIES:Continuing Professional Development
END:VEVENT
BEGIN:VEVENT
DTSTART;VALUE=DATE:20250730
DTEND;VALUE=DATE:20250731
DTSTAMP:20260420T074232
CREATED:20250220T140504Z
LAST-MODIFIED:20250220T140504Z
UID:25277-1753833600-1753919999@lsnl.ca
SUMMARY:Emotional Intelligence: Knowing and Using Our Emotions to Thrive at Work
DESCRIPTION:Emotions are powerful and can be challenging to define\, yet they play a crucial role in our interactions and well-being. Emotional intelligence is the ability to understand and manage our own emotions\, as well as recognize and influence the emotions of others.\n\n\n\n\n\nThis workshop explores the importance of emotional intelligence in the workplace\, giving you the tools to enhance your emotional awareness and communication skills. Through self-assessment and skill development exercises\, you will learn to identify and articulate your own emotions\, constructively respond to the emotions of others\, and create an environment where everyone feels heard and understood. You will gain practical skills to improve your emotional intelligence\, leading to better relationships and more effective leadership. \n\n\n\n\n\n\n\n\n\nLearning Objectives\nUpon completion\, participants should be able to: \n\nDefine emotional intelligence\nRecall the five skill areas of emotional intelligence: self-awareness\, emotional regulation\, noticing others\, social facilitation\, engagement balancing\nPractice associating their own physical sensations with named emotions\nStrengthen their own emotional intelligence using exercises they have practiced during the workshop\nApply their understanding of emotional intelligence to reading the emotions of others and facilitating desired outcomes in practical workplace scenarios\n\n\n\nMethod of Delivery\nPresentation\, video\, case study exercises\, experiential practice\, personal reflection\, delivered electronically \n\n*Please allow only the registered individual(s) to view the materials. \nNote: An e-manual for this workshop is included in purchase. \n\n\n\n\nSome of the Topics Included\n\nWhat Emotional Intelligence Is\nWhy Emotional Intelligence Matters\nThe Importance of Emotional Intelligence in the Workplace\nThe Five Skills of Emotional Intelligence (S.E.N.S.E.): Self-Awareness\, Emotion Regulation\, Noticing Others\, Social Facilitation\, Engagement Balancing\n\n\n\nTarget Audience\nThis is an introductory-intermediate level workshop. \n\n\nTerms & Conditions\nView our cancellation policy and other information regarding your live virtual workshop or for your in-person workshop. \nThis is a live virtual event\, please check your system requirements prior to registering. \nParticipants will receive the Zoom meeting login details and information about viewing the live virtual workshop by email 3-4 calendar days prior to the date of the event.\nPlease note\, payment is required in order to receive the login details. \n\n\n\n\n\n\n\n\n\n\n\nTrainer: Jocelyne Lalonde\nJocelyne specializes in mental health\, wellness\, and resilience\, and brings 18 years of experience in both public and private spheres to these topics. Jocelyne is dedicated to helping individuals and teams navigate challenges related to mental health such as stress\, burnout\, and stigma. Jocelyne believes in the power of human connection as a foundational element for improving well-being in the workplace\, leading to healthier and more productive organizational cultures. As a facilitator\, Jocelyne’s approach emphasizes the importance of fostering inclusive\, communicative\, and supportive environments where employees can thrive mentally and emotionally. She integrates strengths-based strategies that empower individuals and teams to enhance their mental health and create lasting\, positive change. Jocelyne is passionate about making workplaces healthier and more compassionate\, helping people build a better work-life balance and\, ultimately\, a better world.
URL:https://lsnl.ca/event/emotional-intelligence-knowing-and-using-our-emotions-to-thrive-at-work-4/
LOCATION:Online
CATEGORIES:Continuing Professional Development
END:VEVENT
END:VCALENDAR