BEGIN:VCALENDAR
VERSION:2.0
PRODID:-//The Law Society of Newfoundland and Labrador - ECPv6.15.19//NONSGML v1.0//EN
CALSCALE:GREGORIAN
METHOD:PUBLISH
X-ORIGINAL-URL:https://lsnl.ca
X-WR-CALDESC:Events for The Law Society of Newfoundland and Labrador
REFRESH-INTERVAL;VALUE=DURATION:PT1H
X-Robots-Tag:noindex
X-PUBLISHED-TTL:PT1H
BEGIN:VTIMEZONE
TZID:America/St_Johns
BEGIN:DAYLIGHT
TZOFFSETFROM:-0330
TZOFFSETTO:-0230
TZNAME:NDT
DTSTART:20250309T053000
END:DAYLIGHT
BEGIN:STANDARD
TZOFFSETFROM:-0230
TZOFFSETTO:-0330
TZNAME:NST
DTSTART:20251102T043000
END:STANDARD
BEGIN:DAYLIGHT
TZOFFSETFROM:-0330
TZOFFSETTO:-0230
TZNAME:NDT
DTSTART:20260308T053000
END:DAYLIGHT
BEGIN:STANDARD
TZOFFSETFROM:-0230
TZOFFSETTO:-0330
TZNAME:NST
DTSTART:20261101T043000
END:STANDARD
BEGIN:DAYLIGHT
TZOFFSETFROM:-0330
TZOFFSETTO:-0230
TZNAME:NDT
DTSTART:20270314T053000
END:DAYLIGHT
BEGIN:STANDARD
TZOFFSETFROM:-0230
TZOFFSETTO:-0330
TZNAME:NST
DTSTART:20271107T043000
END:STANDARD
END:VTIMEZONE
BEGIN:VEVENT
DTSTART;VALUE=DATE:20260817
DTEND;VALUE=DATE:20260822
DTSTAMP:20260420T024526
CREATED:20260205T155807Z
LAST-MODIFIED:20260205T155807Z
UID:27577-1786924800-1787356799@lsnl.ca
SUMMARY:Leadership and Management Certificate Program
DESCRIPTION:Are you a leader or manager who wants to set the tone and create a culture of performance in your organization? You have a pivotal role in your workplace\, which is why it’s important to take the time to refine your leadership competencies and build new skills. This program explores a leader’s role in influencing\, motivating\, and inspiring others\, as well as management’s role in directing and organizing their teams. \n\n\n\n\n\n\n\n\n\n\n\nMethod of Delivery\nPresentation\, experiential practice\, case study exercises\, personal reflection\, and small group discussions. \n\nNote: An e-manual for this workshop is included in purchase. \n\n\n\n\n\nhe Topics Included\n\nCreating a Personal Set of Leadership Goals\nDistinguishing Between Managing and Leading\nUnderstanding the Importance and Role of Leadership and Management\nIdentifying Your Leadership Style\nPracticing and Honing Coaching Skills\nAssessing the Impact of Workplace Culture on Employee Engagement\nRecognizing a Leader’s Role in Supporting Individual and Team Development\nOffering Support and Responding Appropriately to Mental Health Concerns\n\n\n\nTarget Audience\nThis certificate program is an introductory-intermediate level program for leaders\, managers and supervisors\, and anyone who is a leader within an organization looking to build their leadership influence and skills. \n\n\nTerms & Conditions\nView our cancellation policy and other information regarding your live virtual workshop or for your in-person workshop. \nThe fees above are for a live event and do not include any copyright or licensing fees for creating recordings or reproductions of the workshop. Participants may not use AI tools or other technology to capture\, transcribe\, or replicate facilitator content without prior written consent. Exceptions may be granted for accessibility purposes—please contact us in advance to discuss accommodations. \nThis is a live virtual event\, please check your system requirements prior to registering. \nParticipants will receive the Zoom meeting login details and information about viewing the live virtual workshop by email 3-4 calendar days prior to the date of the event. \nPlease note\, payment is required in order to receive the login details. \n\n\n\n\n\n\n\n\n\n\n\nFacilitator: Chris Downey\nChris is a leadership and organizational development professional with over 25 years of experience working in the private and public sectors. He has developed and executed strategies and succession plans for a variety of workplaces and approaches organizational planning with practicality in mind. He recognizes the importance of setting a strategic vision and subsequent plans that connect with all stakeholders in a meaningful way. Through his extensive experience in operations\, compliance\, and organizational development\, he has gained a diverse skill set which has shaped how he approaches coaching leaders and working with teams. Read blogs written by Chris here. \n\n\n\n\n\n\nFacilitator: Lana Nogue\nLana is an accomplished leadership and team development professional\, with more than 25 years of experience in building successful teams and implementing effective systems across organizations. With a deep understanding of organizational development\, strategic planning\, and communication protocols\, Lana excels at mentoring and coaching partnerships. Drawing from professional certifications like the Alberta Superintendent Leadership Quality Standard Certification and the Business Executive Education Course\, Lana understands the challenges faced by today’s leaders. Through her practical and trusted approach\, Lana helps organizations achieve their priorities and desired outcomes\, and she enjoys engaging session participants in reflective and personalized learning.
URL:https://lsnl.ca/event/leadership-and-management-certificate-program-2/
LOCATION:Online
CATEGORIES:Continuing Professional Development
END:VEVENT
END:VCALENDAR