BEGIN:VCALENDAR
VERSION:2.0
PRODID:-//The Law Society of Newfoundland and Labrador - ECPv6.15.19//NONSGML v1.0//EN
CALSCALE:GREGORIAN
METHOD:PUBLISH
X-WR-CALNAME:The Law Society of Newfoundland and Labrador
X-ORIGINAL-URL:https://lsnl.ca
X-WR-CALDESC:Events for The Law Society of Newfoundland and Labrador
REFRESH-INTERVAL;VALUE=DURATION:PT1H
X-Robots-Tag:noindex
X-PUBLISHED-TTL:PT1H
BEGIN:VTIMEZONE
TZID:America/St_Johns
BEGIN:DAYLIGHT
TZOFFSETFROM:-0330
TZOFFSETTO:-0230
TZNAME:NDT
DTSTART:20200308T053000
END:DAYLIGHT
BEGIN:STANDARD
TZOFFSETFROM:-0230
TZOFFSETTO:-0330
TZNAME:NST
DTSTART:20201101T043000
END:STANDARD
BEGIN:DAYLIGHT
TZOFFSETFROM:-0330
TZOFFSETTO:-0230
TZNAME:NDT
DTSTART:20210314T053000
END:DAYLIGHT
BEGIN:STANDARD
TZOFFSETFROM:-0230
TZOFFSETTO:-0330
TZNAME:NST
DTSTART:20211107T043000
END:STANDARD
BEGIN:DAYLIGHT
TZOFFSETFROM:-0330
TZOFFSETTO:-0230
TZNAME:NDT
DTSTART:20220313T053000
END:DAYLIGHT
BEGIN:STANDARD
TZOFFSETFROM:-0230
TZOFFSETTO:-0330
TZNAME:NST
DTSTART:20221106T043000
END:STANDARD
END:VTIMEZONE
BEGIN:VEVENT
DTSTART;TZID=America/St_Johns:20210322T093000
DTEND;TZID=America/St_Johns:20210322T120000
DTSTAMP:20260424T021816
CREATED:20210223T142311Z
LAST-MODIFIED:20210223T142311Z
UID:15986-1616405400-1616414400@lsnl.ca
SUMMARY:How to Achieve Great Career Success in the Legal Profession
DESCRIPTION:THE REGISTRATION PROCESS IS ONLINE ONLY. TO REGISTER FOR THIS SEMINAR\, PLEASE CLICK THE FOLLOWING LINK: \nhttps://zoom.us/webinar/register/WN_o452ZJ0KRd2is6E8f4w6vw \nYour space will not be confirmed until payment is received. Refunds will not be issued for cancellation after March 19\, 2021. \nRegistration fee: $115.00 \nCLE credit: 2.5 hours
URL:https://lsnl.ca/event/how-to-achieve-great-career-success-in-the-legal-profession/
LOCATION:Online
CATEGORIES:Continuing Professional Development
END:VEVENT
END:VCALENDAR