BEGIN:VCALENDAR
VERSION:2.0
PRODID:-//The Law Society of Newfoundland and Labrador - ECPv6.15.19//NONSGML v1.0//EN
CALSCALE:GREGORIAN
METHOD:PUBLISH
X-ORIGINAL-URL:https://lsnl.ca
X-WR-CALDESC:Events for The Law Society of Newfoundland and Labrador
REFRESH-INTERVAL;VALUE=DURATION:PT1H
X-Robots-Tag:noindex
X-PUBLISHED-TTL:PT1H
BEGIN:VTIMEZONE
TZID:America/St_Johns
BEGIN:DAYLIGHT
TZOFFSETFROM:-0330
TZOFFSETTO:-0230
TZNAME:NDT
DTSTART:20200308T053000
END:DAYLIGHT
BEGIN:STANDARD
TZOFFSETFROM:-0230
TZOFFSETTO:-0330
TZNAME:NST
DTSTART:20201101T043000
END:STANDARD
BEGIN:DAYLIGHT
TZOFFSETFROM:-0330
TZOFFSETTO:-0230
TZNAME:NDT
DTSTART:20210314T053000
END:DAYLIGHT
BEGIN:STANDARD
TZOFFSETFROM:-0230
TZOFFSETTO:-0330
TZNAME:NST
DTSTART:20211107T043000
END:STANDARD
BEGIN:DAYLIGHT
TZOFFSETFROM:-0330
TZOFFSETTO:-0230
TZNAME:NDT
DTSTART:20220313T053000
END:DAYLIGHT
BEGIN:STANDARD
TZOFFSETFROM:-0230
TZOFFSETTO:-0330
TZNAME:NST
DTSTART:20221106T043000
END:STANDARD
END:VTIMEZONE
BEGIN:VEVENT
DTSTART;TZID=America/St_Johns:20210721T120000
DTEND;TZID=America/St_Johns:20210721T140000
DTSTAMP:20260423T202230
CREATED:20210610T190622Z
LAST-MODIFIED:20211004T124835Z
UID:16709-1626868800-1626876000@lsnl.ca
SUMMARY:Administrative Law: Exploring the Post-Vavilov Landscape
DESCRIPTION:THE REGISTRATION PROCESS IS ONLINE ONLY. TO REGISTER FOR THIS SEMINAR\, PLEASE CLICK THE FOLLOWING LINK: \nhttps://zoom.us/meeting/register/tJAoc-6urTwvGdUOffZ5OxP0aAcDlAnrOAqf \nPLEASE NOTE: YOUR SPACE WILL NOT BE CONFIRMED UNTIL PAYMENT IS RECEIVED AND REFUNDS WILL NOT BE ISSUED FOR CANCELLATION AFTER July 20\, 2021. \nCLE credit: 2 hours
URL:https://lsnl.ca/event/administrative-law-exploring-the-post-vavilov-landscape/
LOCATION:Online
CATEGORIES:Continuing Professional Development
ORGANIZER;CN="Continuing Legal Education":MAILTO:cle@lawsociety.nf.ca
END:VEVENT
END:VCALENDAR