BEGIN:VCALENDAR
VERSION:2.0
PRODID:-//The Law Society of Newfoundland and Labrador - ECPv6.15.19//NONSGML v1.0//EN
CALSCALE:GREGORIAN
METHOD:PUBLISH
X-ORIGINAL-URL:https://lsnl.ca
X-WR-CALDESC:Events for The Law Society of Newfoundland and Labrador
REFRESH-INTERVAL;VALUE=DURATION:PT1H
X-Robots-Tag:noindex
X-PUBLISHED-TTL:PT1H
BEGIN:VTIMEZONE
TZID:America/St_Johns
BEGIN:DAYLIGHT
TZOFFSETFROM:-0330
TZOFFSETTO:-0230
TZNAME:NDT
DTSTART:20210314T053000
END:DAYLIGHT
BEGIN:STANDARD
TZOFFSETFROM:-0230
TZOFFSETTO:-0330
TZNAME:NST
DTSTART:20211107T043000
END:STANDARD
BEGIN:DAYLIGHT
TZOFFSETFROM:-0330
TZOFFSETTO:-0230
TZNAME:NDT
DTSTART:20220313T053000
END:DAYLIGHT
BEGIN:STANDARD
TZOFFSETFROM:-0230
TZOFFSETTO:-0330
TZNAME:NST
DTSTART:20221106T043000
END:STANDARD
BEGIN:DAYLIGHT
TZOFFSETFROM:-0330
TZOFFSETTO:-0230
TZNAME:NDT
DTSTART:20230312T053000
END:DAYLIGHT
BEGIN:STANDARD
TZOFFSETFROM:-0230
TZOFFSETTO:-0330
TZNAME:NST
DTSTART:20231105T043000
END:STANDARD
END:VTIMEZONE
BEGIN:VTIMEZONE
TZID:America/Vancouver
BEGIN:DAYLIGHT
TZOFFSETFROM:-0800
TZOFFSETTO:-0700
TZNAME:PDT
DTSTART:20210314T100000
END:DAYLIGHT
BEGIN:STANDARD
TZOFFSETFROM:-0700
TZOFFSETTO:-0800
TZNAME:PST
DTSTART:20211107T090000
END:STANDARD
BEGIN:DAYLIGHT
TZOFFSETFROM:-0800
TZOFFSETTO:-0700
TZNAME:PDT
DTSTART:20220313T100000
END:DAYLIGHT
BEGIN:STANDARD
TZOFFSETFROM:-0700
TZOFFSETTO:-0800
TZNAME:PST
DTSTART:20221106T090000
END:STANDARD
BEGIN:DAYLIGHT
TZOFFSETFROM:-0800
TZOFFSETTO:-0700
TZNAME:PDT
DTSTART:20230312T100000
END:DAYLIGHT
BEGIN:STANDARD
TZOFFSETFROM:-0700
TZOFFSETTO:-0800
TZNAME:PST
DTSTART:20231105T090000
END:STANDARD
END:VTIMEZONE
BEGIN:VEVENT
DTSTART;TZID=America/St_Johns:20220913T100000
DTEND;TZID=America/St_Johns:20220913T110000
DTSTAMP:20260422T204442
CREATED:20220822T141426Z
LAST-MODIFIED:20220822T141426Z
UID:19342-1663063200-1663066800@lsnl.ca
SUMMARY:FREE CPD EVENT: The Litigator and Mental Health
DESCRIPTION:Seminar Overview \nIn his recent paper entitled “The Litigator and Mental Health”\, Chief Justice George R. Strathy noted the enhanced awareness of the importance of mental health in our society and the legal profession brought about by the global pandemic. Chief Justice Strathy has kindly agreed to speak to our membership about mental health and the work of litigators (though he notes that the content of his remarks his likely applicable to all areas of practice) following his retirement at the end of August 2022. Chief Justice Strathy will speak for approximately 40 minutes following which he will invite questions and commentary from attendees. This CPD event will be structured as a Zoom meeting rather than a webinar to promote a more engaging and personal environment for discussion. \nSeminar Presenter \nHonourable George R. Strathy\, Chief Justice of Ontario \nThe Honourable George R. Strathy was appointed to the Court of Appeal for Ontario on April 25\, 2013\, and was subsequently appointed as Chief Justice of Ontario and President of the Court of Appeal for Ontario on June 13\, 2014. \nFor the previous five years\, he served as a judge of the Superior Court of Justice in the Toronto Region\, where he presided over civil\, class action and criminal matters. He was appointed to the Ontario Superior Court of Justice on December 13\, 2007. \nChief Justice Strathy received a Bachelor of Arts from McGill University in 1970 and a Master of Arts from the University of Toronto in 1971. He studied law at the University of Toronto Faculty of Law where he received his LL.B. in 1974 and was awarded the Gold Medal. He was called to the Ontario Bar in 1976. \nIn practice\, he specialized in civil litigation\, with an emphasis on maritime and transportation law. He was active in a number of professional organizations\, including the Canadian Bar Association\, the Canadian Maritime Law Association and the Canadian Association of Maritime Arbitrators. He is the author of two books on maritime law\, as well as numerous papers and articles. \nChief Justice Strathy is married to Elyse Strathy. They have five daughters and ten grandchildren. \n____________________________________________________________________________ \nPLEASE NOTE:  THE REGISTRATION PROCESS IS ONLINE ONLY.  TO REGISTER FOR THIS SEMINAR\, PLEASE CLICK THE FOLLOWING LINK: \nhttps://us06web.zoom.us/meeting/register/tZEqfu2opj8pH9HM8m2R4r6gnx1rbYpYVP_X \nAFTER REGISTERING\, YOU WILL RECEIVE A CONFIRMATION EMAIL CONTAINING INFORMATION ABOUT JOINING THE MEETING. \nCPD Credit:   1 hour
URL:https://lsnl.ca/event/free-cpd-event-the-litigator-and-mental-health/
LOCATION:Online
CATEGORIES:Continuing Professional Development
ORGANIZER;CN="Law Society of Newfoundland & Labrador":MAILTO:churley@lsnl.ca
END:VEVENT
BEGIN:VEVENT
DTSTART;TZID=America/Vancouver:20220913T123000
DTEND;TZID=America/Vancouver:20220913T140000
DTSTAMP:20260422T204442
CREATED:20220830T125549Z
LAST-MODIFIED:20220830T125549Z
UID:19400-1663072200-1663077600@lsnl.ca
SUMMARY:Mental Health and the Legal Profession (Part 1)
DESCRIPTION:Description\n\n\nJoin us for a 1.5hr virtual and interactive discussion of:\n• the scope and prevalence of mental health and substance use issues in the legal profession;\n• the contributors to and consequences of these issues for the profession;\n• what the LSBC is doing to address these matters; and\n• what firms\, other legal employers\, and individual lawyers can do to better address mental health and substance use issues. \nThe session will be led by:\nBrook Greenberg\, Q.C.\, partner at Fasken Martineau DuMoulin LLP and Chair of the LSBC Mental Health Task Force; and Cheryl D’Sa\, Managing Partner of Narwal Litigation LLP and member of the LSBC Mental Health Task Force \nParticipants in this webinar may claim up to 1.5hrs of CPD with the LSBC. This webinar is a collaboration of the Courthouse Libraries BC\, the LSBC Mental Health Task Force\, and the Criminal Defence Advocacy Society.
URL:https://lsnl.ca/event/mental-health-and-the-legal-profession-part-1/
LOCATION:Online
CATEGORIES:Continuing Professional Development
END:VEVENT
END:VCALENDAR