BEGIN:VCALENDAR
VERSION:2.0
PRODID:-//The Law Society of Newfoundland and Labrador - ECPv6.15.19//NONSGML v1.0//EN
CALSCALE:GREGORIAN
METHOD:PUBLISH
X-ORIGINAL-URL:https://lsnl.ca
X-WR-CALDESC:Events for The Law Society of Newfoundland and Labrador
REFRESH-INTERVAL;VALUE=DURATION:PT1H
X-Robots-Tag:noindex
X-PUBLISHED-TTL:PT1H
BEGIN:VTIMEZONE
TZID:UTC
BEGIN:STANDARD
TZOFFSETFROM:+0000
TZOFFSETTO:+0000
TZNAME:UTC
DTSTART:20210101T000000
END:STANDARD
END:VTIMEZONE
BEGIN:VEVENT
DTSTART;TZID=UTC:20221102T183000
DTEND;TZID=UTC:20221102T203000
DTSTAMP:20260422T171959
CREATED:20221027T133547Z
LAST-MODIFIED:20221027T133547Z
UID:19810-1667413800-1667421000@lsnl.ca
SUMMARY:The Role of Cognitive Bias on Lawyers and the Practice of Law: Toronto Lawyers Association
DESCRIPTION:How do wrongful convictions really occur? How do opposing counsel have such opposing views of a matter? And why does the truth sometimes seem so difficult to distill? Answer: cognitive biases. \n\n\n\nWe are designed to organize patterns in our complex\, information-filled world\, allowing us to be efficient and make rapid decisions with little mental effort. Relying on these “mental shortcuts” has the potential to skew or undermine criminal investigations and lead to wrongful convictions\, and it even has the power to blind us from objectivity and fact. \nThis TLA special presentation will be led by David Rudolf\, criminal defense and civil rights lawyer featured in Netflix’s hit The Staircase and civil rights and criminal defense lawyer Sonya Pfeiffer. Sonya is also an award-winning journalist who covered the real-life trial behind The Staircase. The husband-wife duo will use a real-life case study from the trial of Michael Peterson (as depicted in The Staircase) to demonstrate how unconscious bias plays out in a complex and high-profile criminal trial. Throughout the program\, David and Sonya will engage the audience by asking questions and conducting polls. Participants are also encouraged to ask questions. \nJoin us in person or online. This unique and fascinating presentation will appeal to all lawyers\, regardless of practice area. \nWebsite\nwww.tlaonline.ca \nEmail\ndharrington@tlaonline.ca
URL:https://lsnl.ca/event/the-role-of-cognitive-bias-on-lawyers-and-the-practice-of-law-toronto-lawyers-association/
LOCATION:Online
CATEGORIES:Continuing Professional Development
END:VEVENT
END:VCALENDAR