BEGIN:VCALENDAR
VERSION:2.0
PRODID:-//The Law Society of Newfoundland and Labrador - ECPv6.15.19//NONSGML v1.0//EN
CALSCALE:GREGORIAN
METHOD:PUBLISH
X-ORIGINAL-URL:https://lsnl.ca
X-WR-CALDESC:Events for The Law Society of Newfoundland and Labrador
REFRESH-INTERVAL;VALUE=DURATION:PT1H
X-Robots-Tag:noindex
X-PUBLISHED-TTL:PT1H
BEGIN:VTIMEZONE
TZID:UTC
BEGIN:STANDARD
TZOFFSETFROM:+0000
TZOFFSETTO:+0000
TZNAME:UTC
DTSTART:20210101T000000
END:STANDARD
END:VTIMEZONE
BEGIN:VEVENT
DTSTART;TZID=UTC:20221109T120000
DTEND;TZID=UTC:20221109T140000
DTSTAMP:20260422T172500
CREATED:20221027T124337Z
LAST-MODIFIED:20221027T124402Z
UID:19778-1667995200-1668002400@lsnl.ca
SUMMARY:Forensic Fallout: Scientific Evidence and the Prevention of Wrongful Convictions - by Courthouse Libraries BC
DESCRIPTION:The Federal/Provincial/Territorial Heads of Prosecutions Sub-Committee on the Prevention of Wrongful Convictions and Courthouse Libraries B.C. present: “Forensic Fallout: Scientific evidence and the prevention of wrongful convictions”. \nThis 2hr panel presentation will feature the following speakers: \n\nLinda Rothstein\, Partner with Paliare Roland Barristers\nCaitlin Pakosh\, Assistant Crown Attorney and Assistant Professor at the University of Toronto Mississauga (UTM) Forensic Science Program\nDr Matthew Orde\, a consulting forensic and anatomical pathologist\nMarilyn Sandford\, KC\, counsel with the firm Ritchie Sandford McGowan\nKarima Andani\, KC\, Crown Counsel with the BC Prosecution Service\n\nParticipants my claim up to 2hrs of CPD with the Law Society of BC. This program will be offered in English with simultaneous translation in French. \nTime\n12:00pm – 2:00pm (PT) \n\n 
URL:https://lsnl.ca/event/forensic-fallout-scientific-evidence-and-the-prevention-of-wrongful-convictions-by-courthouse-libraries-bc/
LOCATION:Online
CATEGORIES:Continuing Professional Development
END:VEVENT
END:VCALENDAR