BEGIN:VCALENDAR
VERSION:2.0
PRODID:-//The Law Society of Newfoundland and Labrador - ECPv6.15.19//NONSGML v1.0//EN
CALSCALE:GREGORIAN
METHOD:PUBLISH
X-ORIGINAL-URL:https://lsnl.ca
X-WR-CALDESC:Events for The Law Society of Newfoundland and Labrador
REFRESH-INTERVAL;VALUE=DURATION:PT1H
X-Robots-Tag:noindex
X-PUBLISHED-TTL:PT1H
BEGIN:VTIMEZONE
TZID:America/Vancouver
BEGIN:DAYLIGHT
TZOFFSETFROM:-0800
TZOFFSETTO:-0700
TZNAME:PDT
DTSTART:20210314T100000
END:DAYLIGHT
BEGIN:STANDARD
TZOFFSETFROM:-0700
TZOFFSETTO:-0800
TZNAME:PST
DTSTART:20211107T090000
END:STANDARD
BEGIN:DAYLIGHT
TZOFFSETFROM:-0800
TZOFFSETTO:-0700
TZNAME:PDT
DTSTART:20220313T100000
END:DAYLIGHT
BEGIN:STANDARD
TZOFFSETFROM:-0700
TZOFFSETTO:-0800
TZNAME:PST
DTSTART:20221106T090000
END:STANDARD
BEGIN:DAYLIGHT
TZOFFSETFROM:-0800
TZOFFSETTO:-0700
TZNAME:PDT
DTSTART:20230312T100000
END:DAYLIGHT
BEGIN:STANDARD
TZOFFSETFROM:-0700
TZOFFSETTO:-0800
TZNAME:PST
DTSTART:20231105T090000
END:STANDARD
END:VTIMEZONE
BEGIN:VEVENT
DTSTART;TZID=America/Vancouver:20221117T093000
DTEND;TZID=America/Vancouver:20221117T163000
DTSTAMP:20260422T170435
CREATED:20220921T111316Z
LAST-MODIFIED:20220921T111316Z
UID:19547-1668677400-1668702600@lsnl.ca
SUMMARY:Pozner on Cross: Advanced Techniques Using the Chapter Method
DESCRIPTION:Please note: This course will not be added to Courses on Demand. Courses involving professional speakers and skills-based workshops generally do not get added to Courses on Demand. \nWho should attend: All lawyers who want to take their cross-examination skills to the next level by learning from a master of cross-examination! \nLearning level: Intermediate \nMastering the science of cross-examination is essential for the skilled litigator. \nVeteran trial attorney and author Larry Pozner teaches the key elements of effective cross: how to factually dominate the trial with substance\, train witnesses\, shape jurors’ perceptions\, put facts in the best context\, derail opposition\, and ultimately win cases. \nFocus on the power of leading questions\, how to control witnesses one fact at a time\, and goal-oriented questioning sequences that block escape. \nLaw Society of BC CPD Hours: 6.5 hours (this course does not contain professional responsibility and ethics\, client care and relations\, and/or practice management) \nCourse Instructor\nLarry Pozner — Reilly Pozner LLP\, Denver\, CO \nPricing \nEARLY BIRD\nRegister by Oct. 20/22 Regular Price\nAfter Oct. 20/22\nIn-person $581 $480 $644 $533\nIn-person Articled Student $322 $266.50 $322 $266.50\nWebinar $519 $480 $581 $533\nWebinar Articled Student $290.50 $266.50 $290.50 $266.50 \nAre you an Indigenous lawyer or community member?\nClick here for special pricing. \nDo you need financial assistance? Click here for bursary information. \nExperiencing financial hardship due to COVID-19? You may be eligible for further reductions in our course prices. Please contact Customer Service for more information. \nRegistration includes an electronic copy of the reference materials. \n  \nCLEBC Program Coordinator\nMary Kingston\nmkingston@cle.bc.ca
URL:https://lsnl.ca/event/pozner-on-cross-advanced-techniques-using-the-chapter-method/
LOCATION:Online
CATEGORIES:Continuing Professional Development
ORGANIZER;CN="Continuing Legal Education":MAILTO:cle@lawsociety.nf.ca
END:VEVENT
END:VCALENDAR