BEGIN:VCALENDAR
VERSION:2.0
PRODID:-//The Law Society of Newfoundland and Labrador - ECPv6.15.19//NONSGML v1.0//EN
CALSCALE:GREGORIAN
METHOD:PUBLISH
X-WR-CALNAME:The Law Society of Newfoundland and Labrador
X-ORIGINAL-URL:https://lsnl.ca
X-WR-CALDESC:Events for The Law Society of Newfoundland and Labrador
REFRESH-INTERVAL;VALUE=DURATION:PT1H
X-Robots-Tag:noindex
X-PUBLISHED-TTL:PT1H
BEGIN:VTIMEZONE
TZID:UTC
BEGIN:STANDARD
TZOFFSETFROM:+0000
TZOFFSETTO:+0000
TZNAME:UTC
DTSTART:20210101T000000
END:STANDARD
END:VTIMEZONE
BEGIN:VEVENT
DTSTART;TZID=UTC:20221121T120000
DTEND;TZID=UTC:20221121T143000
DTSTAMP:20260422T171333
CREATED:20221027T130626Z
LAST-MODIFIED:20221027T130626Z
UID:19796-1669032000-1669041000@lsnl.ca
SUMMARY:Equity\, Diversity\, and Inclusion for Indigenous Peoples 2022: Law Society of Ontario
DESCRIPTION:Add this event to your calendar (Downloads an .ICS file) \n\n\nCo-Chairs\n\n\n\n\n\nBernd Christmas\, Managing Lawyer\n\n\nBCLG Law\n\n\n\n\n\nSara Mainville \nJFK Law LLP\n\n\n\n\n\n\nDescription \n\nAs legal professionals\, each of us is called upon to better understand and implement our own journey on the path of reconciliation with First Nations\, Inuit and Métis peoples in Canada. We continue these important discussions and engagement in this year’s EDI program to gain a deeper understanding and appreciation of Indigenous history\, culture and traditions\, and how these connect and interact with our legal system. Presenters provide insights and practical advice on how the professions can better serve Indigenous clients and their communities to give you insight on your role in this important process. \n\nHear how Indigenous traditions are brought into the criminal justice system to improve outcomes\nUnderstand how you can improve access to justice for Indigenous people\nBe aware of the impact of false claims of Indigenous identity
URL:https://lsnl.ca/event/equity-diversity-and-inclusion-for-indigenous-peoples-2022-law-society-of-ontario/
LOCATION:Online
CATEGORIES:Continuing Professional Development
ORGANIZER;CN="Law Society of Ontario":MAILTO:lawsociety@lso.ca
END:VEVENT
END:VCALENDAR