BEGIN:VCALENDAR
VERSION:2.0
PRODID:-//The Law Society of Newfoundland and Labrador - ECPv6.15.19//NONSGML v1.0//EN
CALSCALE:GREGORIAN
METHOD:PUBLISH
X-WR-CALNAME:The Law Society of Newfoundland and Labrador
X-ORIGINAL-URL:https://lsnl.ca
X-WR-CALDESC:Events for The Law Society of Newfoundland and Labrador
REFRESH-INTERVAL;VALUE=DURATION:PT1H
X-Robots-Tag:noindex
X-PUBLISHED-TTL:PT1H
BEGIN:VTIMEZONE
TZID:UTC
BEGIN:STANDARD
TZOFFSETFROM:+0000
TZOFFSETTO:+0000
TZNAME:UTC
DTSTART:20210101T000000
END:STANDARD
END:VTIMEZONE
BEGIN:VEVENT
DTSTART;TZID=UTC:20221201T120000
DTEND;TZID=UTC:20221201T170000
DTSTAMP:20260422T152515
CREATED:20221027T124025Z
LAST-MODIFIED:20221027T124025Z
UID:19776-1669896000-1669914000@lsnl.ca
SUMMARY:Mastering Forensic Investigations + Reporting After a Breach - Canadian Legal Information Forum
DESCRIPTION:Description\n\n\nWebinar description coming soon. For more information\, visit www.canlif.net/webinars.\n\n\nTime\nDec 1\, 2022 12:00 PM Eastern Time (US and Canada)
URL:https://lsnl.ca/event/mastering-forensic-investigations-reporting-after-a-breach-canadian-legal-information-forum/
LOCATION:Online
CATEGORIES:Continuing Professional Development
ORGANIZER;CN="Canadian Legal Innovation Forum":MAILTO:andrew@adbinsights.com
END:VEVENT
BEGIN:VEVENT
DTSTART;TZID=UTC:20221201T130000
DTEND;TZID=UTC:20221201T143000
DTSTAMP:20260422T152515
CREATED:20221027T130007Z
LAST-MODIFIED:20221027T130421Z
UID:19789-1669899600-1669905000@lsnl.ca
SUMMARY:Professionalism and Practice Management Issues in Administrative Law 2022: Law Society of Ontario
DESCRIPTION:Add this event to your calendar (Downloads an .ICS file) \n\n\n\n\n\n\nView this webcast-only program from your home or office computer \n\n\n\n\n\n\n\nDescription \n\nThe events of the last few years have changed the way administrative legal professionals manage their clients and themselves. Client needs are more complex and challenging\, while resources to assist clients are increasingly strained. All this is happening as practices and procedures at court and in tribunals continue to evolve in a (mostly) virtual hearing world. Our experienced presenters provide you with strategies to manage the unique professionalism and practice management issues that arise in this area so that you can successfully navigate these challenges for you and your clients. \n\nLearn how to serve clients with disabilities\nGet tips on managing challenging clients\nGain an understanding of the experience of racialized (female) lawyers in virtual hearings\n\nABOUT LIVE WEBCAST REPLAYS WITH LIVE CHAT \nThis live webcast replay contains an online chat feature that allows you to view the previously broadcast program and interact\, share ideas\, and exchange comments with fellow registrants online. \nRemember: Your CPD hours must be entered into the LSO Portal. Register for an account and log your CPD hours at https://portal.lso.ca.
URL:https://lsnl.ca/event/professionalism-and-practice-management-issues-in-administrative-law-2022-law-society-of-ontario/
LOCATION:Online
CATEGORIES:Continuing Professional Development
ORGANIZER;CN="Law Society of Ontario":MAILTO:lawsociety@lso.ca
END:VEVENT
END:VCALENDAR