BEGIN:VCALENDAR
VERSION:2.0
PRODID:-//The Law Society of Newfoundland and Labrador - ECPv6.15.19//NONSGML v1.0//EN
CALSCALE:GREGORIAN
METHOD:PUBLISH
X-WR-CALNAME:The Law Society of Newfoundland and Labrador
X-ORIGINAL-URL:https://lsnl.ca
X-WR-CALDESC:Events for The Law Society of Newfoundland and Labrador
REFRESH-INTERVAL;VALUE=DURATION:PT1H
X-Robots-Tag:noindex
X-PUBLISHED-TTL:PT1H
BEGIN:VTIMEZONE
TZID:UTC
BEGIN:STANDARD
TZOFFSETFROM:+0000
TZOFFSETTO:+0000
TZNAME:UTC
DTSTART:20220101T000000
END:STANDARD
END:VTIMEZONE
BEGIN:VEVENT
DTSTART;TZID=UTC:20230110T080000
DTEND;TZID=UTC:20230110T170000
DTSTAMP:20260422T135144
CREATED:20221208T152556Z
LAST-MODIFIED:20221208T152556Z
UID:20047-1673337600-1673370000@lsnl.ca
SUMMARY:Clinical Risk\, Negligence and Claims Management in Healthcare
DESCRIPTION:Offered by: Osgood School of Law \nIn 2022\, as a healthcare organization or advisor\, you are under increased pressure and scrutiny. \nEnsuring you understand your legal responsibilities and being able to effectively reduce and manage your legal risk has never been more critical. \nNow in its 12th year\, OsgoodePD’s Certificate in Clinical Risk\, Negligence and Claims Management in Healthcare\, has been specifically developed for healthcare professionals and their advisors to respond to these challenges. \n\nRegistration includes 120-day unlimited\, online access to the recorded program. \n\n\n\nWhat You’ll Learn \n\n\n\nUnderstanding key patient safety concepts\nLinking patient safety\, risk management and the role of the risk manager\nConducting post-incident investigations\nDealing with adverse events including how to effectively work with the media\nDefence best practices\, mitigation strategies\, importance of documentation\, tips & tools on evidence preservation\nThe impact of being sued: dealing with the pressure of litigation\nHealthcare risk: a view from the Bench\n\n\n\n\n\n\n\n\n\nEndorsed and Accredited by:
URL:https://lsnl.ca/event/clinical-risk-negligence-and-claims-management-in-healthcare/
LOCATION:Online
CATEGORIES:Continuing Professional Development
ORGANIZER;CN="Osgood Law School":MAILTO:obarich@osgoode.yorku.ca
END:VEVENT
END:VCALENDAR