BEGIN:VCALENDAR
VERSION:2.0
PRODID:-//The Law Society of Newfoundland and Labrador - ECPv6.15.19//NONSGML v1.0//EN
CALSCALE:GREGORIAN
METHOD:PUBLISH
X-ORIGINAL-URL:https://lsnl.ca
X-WR-CALDESC:Events for The Law Society of Newfoundland and Labrador
REFRESH-INTERVAL;VALUE=DURATION:PT1H
X-Robots-Tag:noindex
X-PUBLISHED-TTL:PT1H
BEGIN:VTIMEZONE
TZID:UTC
BEGIN:STANDARD
TZOFFSETFROM:+0000
TZOFFSETTO:+0000
TZNAME:UTC
DTSTART:20220101T000000
END:STANDARD
END:VTIMEZONE
BEGIN:VEVENT
DTSTART;TZID=UTC:20230112T080000
DTEND;TZID=UTC:20230112T170000
DTSTAMP:20260422T135236
CREATED:20221208T150751Z
LAST-MODIFIED:20221208T150751Z
UID:20041-1673510400-1673542800@lsnl.ca
SUMMARY:Annual Update: Privacy and Cybersecurity Law and Practice
DESCRIPTION:Session by: Osgoode School of Law \nCanadian privacy and cybersecurity laws are changing.  Stay on top of updates in law and practice. Know the rules.  Know your obligations. \nIt is a pivotal time for privacy and cybersecurity law in Canada. As a privacy professional\, it is imperative that you keep up to date in this high stakes\, ever-evolving field. \nOver one intensive day\, a leading faculty of industry and legal experts\, will guide you through the “must-know” impending changes to Canadian privacy laws and regulations. You will also get immediately-applicable insights and practical strategies to competently manage today’s cybersecurity threat landscape. \n\nCan’t make the live date? Registration includes 120-day unlimited\, online access to the recorded program. \n\n\n\nWhat You’ll Learn \nGet fully briefed on the new laws\, and other critical topics\, including: \n\n\n\n\n\nUnderstand the changes to the privacy regulatory landscape in Canada\, including:\n\nthe latest on Bill C-27\nBill C-26\nimplementation of Quebec’s Bill 64\nCompliance strategies and tactics\n\n\nEnsuring compliance: how to update privacy clauses\, policies and processes\nExplore the proposed AI legislation (AIDA)\nHow to manage conflicting/competing interests in breach response\nRecent changes in cyber insurance\nUnderstanding privacy implications of digital ID\nUpdates on U.S. privacy laws and their impact on the Canadian regulatory landscape\nReview and reflect on recent breaches and cases\, including missteps and lessons learned\n\n\n\n\n\n\n\n\n\n\n\nWho Should Attend \n\n\n\n\n\nLawyers interested or advising on privacy\, cybersecurity\, IT/e-commerce law\nGovernment and regulatory counsel or representatives\nPrivacy\, information\, security\, and technology officers\nCompliance and risk management professionals\nConsultants in IT or privacy and cybersecurity\nProfessionals in a managerial\, executive or director position looking to increase their knowledge in privacy and cybersecurity
URL:https://lsnl.ca/event/annual-update-privacy-and-cybersecurity-law-and-practice/
LOCATION:Online
CATEGORIES:Continuing Professional Development
ORGANIZER;CN="Osgood Law School":MAILTO:obarich@osgoode.yorku.ca
END:VEVENT
BEGIN:VEVENT
DTSTART;TZID=UTC:20230112T100000
DTEND;TZID=UTC:20230112T120000
DTSTAMP:20260422T135236
CREATED:20221221T180657Z
LAST-MODIFIED:20221221T180657Z
UID:20154-1673517600-1673524800@lsnl.ca
SUMMARY:Free IAPP Event: Cybersecurity and Privacy
DESCRIPTION:Please join the International Association of Privacy Professionals (IAPP) St. John’s Chapter for this free in-person and online event on January 12\, 10 am – 12 pm NST.  You do not need to be an IAPP member to attend this session but you do need to register online with the IAPP [here]. \nPhysical space is limited so please choose the in-person option if you know you will be there. \nCybersecurity and Privacy \nJoin the St. John’s Chapter in a discussion of the prevalence of cybersecurity threats\, the legal liability arising from such threats and how to protect your organization. \nSpeakers \nKoren Thomson\, Partner\, Stewart McKelvey\nJanet Carpenter\, Partner\, Stewart McKelvey
URL:https://lsnl.ca/event/free-iapp-event-cybersecurity-and-privacy/
LOCATION:Online
CATEGORIES:Continuing Professional Development
END:VEVENT
END:VCALENDAR