BEGIN:VCALENDAR
VERSION:2.0
PRODID:-//The Law Society of Newfoundland and Labrador - ECPv6.15.19//NONSGML v1.0//EN
CALSCALE:GREGORIAN
METHOD:PUBLISH
X-WR-CALNAME:The Law Society of Newfoundland and Labrador
X-ORIGINAL-URL:https://lsnl.ca
X-WR-CALDESC:Events for The Law Society of Newfoundland and Labrador
REFRESH-INTERVAL;VALUE=DURATION:PT1H
X-Robots-Tag:noindex
X-PUBLISHED-TTL:PT1H
BEGIN:VTIMEZONE
TZID:UTC
BEGIN:STANDARD
TZOFFSETFROM:+0000
TZOFFSETTO:+0000
TZNAME:UTC
DTSTART:20220101T000000
END:STANDARD
END:VTIMEZONE
BEGIN:VEVENT
DTSTART;TZID=UTC:20230117T130000
DTEND;TZID=UTC:20230117T140000
DTSTAMP:20260422T135023
CREATED:20230111T120938Z
LAST-MODIFIED:20230111T120938Z
UID:20187-1673960400-1673964000@lsnl.ca
SUMMARY:Mental Health and the Crossroads of Indigenous Persons\, Bail & Sentencing - LexisNexis
DESCRIPTION:Contributing authors of “Law and Mental Health in Canada: Cases and Materials” discuss the intersection of mental health and Indigenous persons who become charged with a criminal charge or come before the Consent and Capacity Board. They also explore the ways mental health can impact decisions at the bail and sentencing stages in criminal proceedings. \nKey Learning Objectives\n\nTo identify and address issues specific to Indigenous persons living with mental health disorders in both the criminal and civil mental health fields\nTo identify and address issues specific to bail and sentencing for accused persons presenting with mental health disorders\nTo participate in a Question & Answer period with the opportunity to ask live questions\n\nAgenda\n1:00 – 1:05 Introduction and agenda overview\n1:05 – 1:10 Intergenerational Trauma and Barriers to Accessing Justice for Indigenous Peoples\n1:10 – 1:15 Indigenous Approaches to Mental Health and Culturally Appropriate Treatment (Mazzei v BC)\n1:15 – 1:20 The impact of Gladue and Ipeelee on mental health proceedings\n1:20 – 1:25 Fetal Alcohol Syndrome – specialized courts\n1:25 – 1:30 Bail Conditions and Review\n1:30 – 1:35 R. v Zora: A reminder about the presumption of condition-less bail\n1:35 – 1:40 Treatment/Counselling Conditions in Bail Orders\n1:40 – 1:45 Other Instances of Terms Being Placed on a Mentally Disordered Accused\n1:45 – 1:50 Intersection of mental health\, Indigenous persons\, and the bail and sentencing stages\n1:50 – 2:00 Q&A and Conclusion \nCPD Credits (1 hour) \n\nFor Ontario\, 1 hour can be applied towards the 9 Substantive Hours of Continuing Professional Development as required by the Law Society of Ontario\nFor other provinces\, consider including this 1 hour course as a CPD learning activity in your mandatory annual Continuing Professional Development Plan as required by the Law Society
URL:https://lsnl.ca/event/mental-health-and-the-crossroads-of-indigenous-persons-bail-sentencing-lexisnexis/
LOCATION:Online
CATEGORIES:Continuing Professional Development
END:VEVENT
END:VCALENDAR