BEGIN:VCALENDAR
VERSION:2.0
PRODID:-//The Law Society of Newfoundland and Labrador - ECPv6.15.19//NONSGML v1.0//EN
CALSCALE:GREGORIAN
METHOD:PUBLISH
X-WR-CALNAME:The Law Society of Newfoundland and Labrador
X-ORIGINAL-URL:https://lsnl.ca
X-WR-CALDESC:Events for The Law Society of Newfoundland and Labrador
REFRESH-INTERVAL;VALUE=DURATION:PT1H
X-Robots-Tag:noindex
X-PUBLISHED-TTL:PT1H
BEGIN:VTIMEZONE
TZID:UTC
BEGIN:STANDARD
TZOFFSETFROM:+0000
TZOFFSETTO:+0000
TZNAME:UTC
DTSTART:20220101T000000
END:STANDARD
END:VTIMEZONE
BEGIN:VEVENT
DTSTART;TZID=UTC:20230120T080000
DTEND;TZID=UTC:20230120T170000
DTSTAMP:20260422T135015
CREATED:20221208T151341Z
LAST-MODIFIED:20221208T151341Z
UID:20043-1674201600-1674234000@lsnl.ca
SUMMARY:The Civil Litigator’s Survival Guide To Evidence
DESCRIPTION:Offered by: Osgoode School of Law \nEnsure you have an up-to-date understanding of the key evidentiary principles and strategies that are essential to build your case\, whether or not it proceeds to trial. \nThe law and best practices concerning evidence are continually evolving\, so as a litigator\, it is critical to not just keep on pace but to stay ahead of emerging issues. \nNow in its 17th year\, this celebrated annual OsgoodePD conference will give you the practical tips and knowledge you need to prevail in negotiations\, discoveries\, motions\, pretrials and trials. \nOver one day\, you will have the opportunity to tap into the expertise of a distinguished faculty of judges and litigators\, get the updated knowledge you need to remain current\, and deepen your understanding of ongoing evidentiary issues that could impact your case. \n\nRegistration includes 120-day unlimited\, online access to the recorded program. \n\n\n\nWhat You’ll Learn \n\n\n\n\n\nHow to successfully navigate evidence rules in both remote and in-person proceedings\nCritical developments in expert evidence\nHow to avoid common mistakes in gathering or preparing evidence on motions and applications (including summary judgment motions)\nTactics for maximizing the weight of your evidence\nHow to ensure your electronic evidence is admissible\nProven strategies when challenging a claim of privilege\nTechniques when introducing or responding to a prior inconsistent statement\nHow to use virtual documents and business records to bolster your case\nStrategies to apply the rules of evidence to mediations and arbitrations\nPractical approaches to ethical/professional dilemmas\nInnovative processes to obtain the best evidence to reach settlement\nTips from the Bench on how to approach commonly encountered evidentiary problems\n\n\n\n\n\n\n\n\n\n\n\nWho Should Attend \n\n\n\n\n\nCivil litigators (plaintiffs’ and defendants’ counsel)\nIn-house litigation counsel\nLitigation law clerks\nLitigation paralegals
URL:https://lsnl.ca/event/the-civil-litigators-survival-guide-to-evidence/
LOCATION:Online
CATEGORIES:Continuing Professional Development
ORGANIZER;CN="Osgood Law School":MAILTO:obarich@osgoode.yorku.ca
END:VEVENT
END:VCALENDAR