BEGIN:VCALENDAR
VERSION:2.0
PRODID:-//The Law Society of Newfoundland and Labrador - ECPv6.15.19//NONSGML v1.0//EN
CALSCALE:GREGORIAN
METHOD:PUBLISH
X-WR-CALNAME:The Law Society of Newfoundland and Labrador
X-ORIGINAL-URL:https://lsnl.ca
X-WR-CALDESC:Events for The Law Society of Newfoundland and Labrador
REFRESH-INTERVAL;VALUE=DURATION:PT1H
X-Robots-Tag:noindex
X-PUBLISHED-TTL:PT1H
BEGIN:VTIMEZONE
TZID:UTC
BEGIN:STANDARD
TZOFFSETFROM:+0000
TZOFFSETTO:+0000
TZNAME:UTC
DTSTART:20220101T000000
END:STANDARD
END:VTIMEZONE
BEGIN:VEVENT
DTSTART;TZID=UTC:20230131T080000
DTEND;TZID=UTC:20230203T170000
DTSTAMP:20260422T121602
CREATED:20221208T141308Z
LAST-MODIFIED:20221208T141308Z
UID:20034-1675152000-1675443600@lsnl.ca
SUMMARY:Seminar in Administrative Law: Dealing Effectively with Judicial Review
DESCRIPTION:Session By: Canadian Institute for the Administration of Justice\nLocation: In Person: Montreal\, QC\n\n\nCOVID-19 \nParticipation in this program is approved under Section 41 (1) of the Judges Act. \nCo-Chairs \n\nThe Honourable Justice Mary J.L. Gleason\, Federal Court of Appeal\nThe Honourable Justice Freya Kristjanson\, Superior Court of Justice (Ontario)\n\nOverview \nThis biennial program\, offered jointly by the Canadian Institute for the Administration of Justice and the National Judicial Institute\, is designed to familiarize trial judges with principles and practices relating to applications for judicial review. The program will develop a framework for dealing with such applications that will allow individual judges to deal with judicial reviews both systematically and effectively. \nRegistration \nPlease contact the Project Manager of Judicial Programs\, Vicki Gondek\, CMP\nTel.: 514-731-2855\, extension 6\nEmail: vicki.gondek@ciaj-icaj.ca \n\nCOVID-19 Requirements \nTo protect everyone’s health\, the Canadian Institute for the Administration of Justice asks participants\, CIAJ staff\, faculty members and speakers to be fully vaccinated against COVID-19 unless they benefit from a recognized medical exemption. This requirement is in addition to any restrictions or vaccination requirements that may be in force in the jurisdiction or at the venue where the event is being held. Masks are strongly recommended.
URL:https://lsnl.ca/event/seminar-in-administrative-law-dealing-effectively-with-judicial-review/
CATEGORIES:Continuing Professional Development
END:VEVENT
END:VCALENDAR