BEGIN:VCALENDAR
VERSION:2.0
PRODID:-//The Law Society of Newfoundland and Labrador - ECPv6.15.19//NONSGML v1.0//EN
CALSCALE:GREGORIAN
METHOD:PUBLISH
X-WR-CALNAME:The Law Society of Newfoundland and Labrador
X-ORIGINAL-URL:https://lsnl.ca
X-WR-CALDESC:Events for The Law Society of Newfoundland and Labrador
REFRESH-INTERVAL;VALUE=DURATION:PT1H
X-Robots-Tag:noindex
X-PUBLISHED-TTL:PT1H
BEGIN:VTIMEZONE
TZID:UTC
BEGIN:STANDARD
TZOFFSETFROM:+0000
TZOFFSETTO:+0000
TZNAME:UTC
DTSTART:20220101T000000
END:STANDARD
END:VTIMEZONE
BEGIN:VEVENT
DTSTART;TZID=UTC:20230208T080000
DTEND;TZID=UTC:20230209T170000
DTSTAMP:20260422T121513
CREATED:20221214T170826Z
LAST-MODIFIED:20221214T170826Z
UID:20109-1675843200-1675962000@lsnl.ca
SUMMARY:The 2023 Osgoode Intensive Program in Wills & Estates
DESCRIPTION:Advance your wills and estates practice with the Osgoode Intensive Program in Wills & Estates. \nChoose a curated and comprehensive program package of essential topics\, or fill gaps in specific areas with separately available modules. \nThis unique intensive program\, designed and delivered by leading experts\, will give you the critical knowledge and skills you need to enhance your practice rapidly. You will develop or deepen your understanding essential areas\, gain insight into potential pitfalls and how to avoid them\, and participate in valuable skills practice exercises. \nComplete all courses over a two-year period and receive a Certificate of Completion of the Intensive Program. \n\nRegistration includes 120-day unlimited\, online access to the recorded program for most programs \n\n\n\nWhat You’ll Learn \nGain an understanding of key topics and practice valuable skills that will allow you to succeed as a practitioner in the area of wills and estates. Modules include: \n\n\n\n\n\nEstate Planning and Administration\nTaxation in Wills & Estates\nIntensive Skills Workshop: Will Drafting\nManaging Consent & Capacity Issues in Wills & Estates Practice\nPassing of Accounts & Fiduciary Accounting\nPowers of Attorney and Guardianship: Non-contentious and Contentious Matters\n\n\n\nAlthough not required\, it is recommended to take the courses above in the order that they are offered. \n\n\n\n\n\n\nRegister for all programs and gain access to the Wills & Estates 101: Online Webinar Series – Available online anytime \nNote: Viewing of all three Online Webinar Sessions are required to complete the Intensive Program; it is recommended that these are completed prior to the other programs listed \nEstate Planning\, Review & Execution: Key Concepts and Practice Essentials \n\nEstate Planning\, Review & Execution: Key Concepts and Practice Essentials\nDrafting the Retainer and Will: Tips for Protecting your Client\, the Will and You!\nEstate Litigation for the Non-Litigator\n\n\n\n\n\n\n\nCertificate of Program Completion \nAll programs above must be completed within a two-year period. \nSpace is strictly limited in each program to ensure an engaging learning experience. Register now to secure your place in the programs of your choice. \nWhen you have completed all the programs listed above\, please contact cle@osgoode.yorku.ca to request your Certificate of Completion. \n\n\n\n\nWho Should Attend \n\n\n\n\nLawyers practicing or wishing to practice in wills and estates
URL:https://lsnl.ca/event/the-2023-osgoode-intensive-program-in-wills-estates/
LOCATION:Online
CATEGORIES:Continuing Professional Development
ORGANIZER;CN="Osgood Law School":MAILTO:obarich@osgoode.yorku.ca
END:VEVENT
BEGIN:VEVENT
DTSTART;TZID=UTC:20230208T140000
DTEND;TZID=UTC:20230208T150000
DTSTAMP:20260422T121513
CREATED:20230120T144953Z
LAST-MODIFIED:20230120T144953Z
UID:20244-1675864800-1675868400@lsnl.ca
SUMMARY:Research Trends & Best Practices Webinar - Westlaw Canada
DESCRIPTION:Live Event Date: February 8\, 2023\nLive Event Time: 2:00 PM EST\nHosted by Thomson Reuters\n\n\n\n\n\n\nSharpen your legal research skills in this 45-minute master class. Learn from Reference Librarian\, Hannah Steeves\, how understanding physical materials can anchor your understanding of and proficiency with digital tools. Then have product experts walk you through how to research faster and more efficiently with Westlaw Canada’s exclusive finding tools\, such as the Canadian Abridgment on Westlaw. This webinar takes you beyond the basics and provides insight into best practices.\n\nWho should attend this webinar? This webinar is suitable for new legal researchers\, people in teaching/training roles\, as well as experienced legal researchers looking to advance their skills and understanding of legal research tools.\n\nTopics:\n\nPhysical to Digital: Using physical materials to understand digital tools\n\nThe digitalization of legal research\nUsing physical materials to understand digital tools\nResponsibilities of researchers and legal research providers\n\nEffectively leveraging legal research tools\, including:\n\nThe Canadian Abridgment Online\nLegal Topics\nKeyCite\nIndex to Canadian Legal Literature (ICLL)\nWords and Phrases/Defined Terms\n\nImproving access to secondary source content through technology
URL:https://lsnl.ca/event/research-trends-best-practices-webinar-westlaw-canada/
LOCATION:Online
CATEGORIES:Continuing Professional Development
END:VEVENT
END:VCALENDAR