BEGIN:VCALENDAR
VERSION:2.0
PRODID:-//The Law Society of Newfoundland and Labrador - ECPv6.15.19//NONSGML v1.0//EN
CALSCALE:GREGORIAN
METHOD:PUBLISH
X-WR-CALNAME:The Law Society of Newfoundland and Labrador
X-ORIGINAL-URL:https://lsnl.ca
X-WR-CALDESC:Events for The Law Society of Newfoundland and Labrador
REFRESH-INTERVAL;VALUE=DURATION:PT1H
X-Robots-Tag:noindex
X-PUBLISHED-TTL:PT1H
BEGIN:VTIMEZONE
TZID:America/St_Johns
BEGIN:DAYLIGHT
TZOFFSETFROM:-0330
TZOFFSETTO:-0230
TZNAME:NDT
DTSTART:20220313T053000
END:DAYLIGHT
BEGIN:STANDARD
TZOFFSETFROM:-0230
TZOFFSETTO:-0330
TZNAME:NST
DTSTART:20221106T043000
END:STANDARD
BEGIN:DAYLIGHT
TZOFFSETFROM:-0330
TZOFFSETTO:-0230
TZNAME:NDT
DTSTART:20230312T053000
END:DAYLIGHT
BEGIN:STANDARD
TZOFFSETFROM:-0230
TZOFFSETTO:-0330
TZNAME:NST
DTSTART:20231105T043000
END:STANDARD
BEGIN:DAYLIGHT
TZOFFSETFROM:-0330
TZOFFSETTO:-0230
TZNAME:NDT
DTSTART:20240310T053000
END:DAYLIGHT
BEGIN:STANDARD
TZOFFSETFROM:-0230
TZOFFSETTO:-0330
TZNAME:NST
DTSTART:20241103T043000
END:STANDARD
END:VTIMEZONE
BEGIN:VEVENT
DTSTART;TZID=America/St_Johns:20230224T133000
DTEND;TZID=America/St_Johns:20230224T153000
DTSTAMP:20260422T135141
CREATED:20230217T143942Z
LAST-MODIFIED:20230217T144523Z
UID:20404-1677245400-1677252600@lsnl.ca
SUMMARY:The Role of Civil Society Organizations and Academia in the Fight Against Online Child Sexual Exploitation Webinar - Public Safety Canada Webinar Series
DESCRIPTION:Public Safety Canada is hosting a series of webinars to raise awareness and promote knowledge sharing about the crime of online child sexual exploitation (OCSE) amongst partners and stakeholders across Canada. \nFriday February 24\, 2023 | 1:30pm – 3:30pm EST | Via Zoom \nWebinar 3: The Role of Civil Society Organizations and Academia in the Fight Against Online Child Sexual Exploitation. \nTargeted participants: All levels of Canadian law enforcement professionals and other relevant partners and stakeholders addressing Online Child Sexual Exploitation. \nPresentations \n\nTackling online child sexual exploitation: A programme of research and innovation\n\nSimon Bailey \, Chair\, Policing Institute for the Eastern Region (PIER)\, Anglia Ruskin\nUniversity\, Cambridge\, England. \n\nLeaving no one behind – taking stock at the latest development in the area of sexual exploitation of children\n\nGuillaume Landry \, Executive Director\, ECPAT International \n\nTrajectories and offending patterns of men who use the Internet to sexually exploit children and adolescents\n\nSarah Paquette\, PhD\, Sexual Offenses Specialist\, Sexual Offenders Coordination Division\, Sûreté du Québec\, Canada. \nPlease email lauren.vantellingen@hkstrategies.ca if you have any questions about registration. \nPlease click here to view the full notice in English and French.
URL:https://lsnl.ca/event/combatting-online-child-sexual-exploitation-webinar-public-safety-canada-webinar-series/
LOCATION:Online
CATEGORIES:Continuing Professional Development
END:VEVENT
END:VCALENDAR