BEGIN:VCALENDAR
VERSION:2.0
PRODID:-//The Law Society of Newfoundland and Labrador - ECPv6.15.19//NONSGML v1.0//EN
CALSCALE:GREGORIAN
METHOD:PUBLISH
X-ORIGINAL-URL:https://lsnl.ca
X-WR-CALDESC:Events for The Law Society of Newfoundland and Labrador
REFRESH-INTERVAL;VALUE=DURATION:PT1H
X-Robots-Tag:noindex
X-PUBLISHED-TTL:PT1H
BEGIN:VTIMEZONE
TZID:America/St_Johns
BEGIN:DAYLIGHT
TZOFFSETFROM:-0330
TZOFFSETTO:-0230
TZNAME:NDT
DTSTART:20220313T053000
END:DAYLIGHT
BEGIN:STANDARD
TZOFFSETFROM:-0230
TZOFFSETTO:-0330
TZNAME:NST
DTSTART:20221106T043000
END:STANDARD
BEGIN:DAYLIGHT
TZOFFSETFROM:-0330
TZOFFSETTO:-0230
TZNAME:NDT
DTSTART:20230312T053000
END:DAYLIGHT
BEGIN:STANDARD
TZOFFSETFROM:-0230
TZOFFSETTO:-0330
TZNAME:NST
DTSTART:20231105T043000
END:STANDARD
BEGIN:DAYLIGHT
TZOFFSETFROM:-0330
TZOFFSETTO:-0230
TZNAME:NDT
DTSTART:20240310T053000
END:DAYLIGHT
BEGIN:STANDARD
TZOFFSETFROM:-0230
TZOFFSETTO:-0330
TZNAME:NST
DTSTART:20241103T043000
END:STANDARD
END:VTIMEZONE
BEGIN:VEVENT
DTSTART;TZID=America/St_Johns:20230301T140000
DTEND;TZID=America/St_Johns:20230301T160000
DTSTAMP:20260422T141143
CREATED:20221125T130626Z
LAST-MODIFIED:20221208T144003Z
UID:19954-1677679200-1677686400@lsnl.ca
SUMMARY:Labour\, Employment & Administrative Law: A Review of 2020-2022 Decisions
DESCRIPTION:Complimentary wine and cheese social to follow at 4:00 – 5:00 pm \nSeminar Overview:           \nThere were a number of noteworthy developments in labour\, employment and administrative law in recent years. This seminar will highlight decisions from Newfoundland and Labrador and other Canadian jurisdictions in 2020\, 2021 & 2022. There will also be a discussion regarding the Vavilov standard of judicial review and its application. A wine & cheese reception will follow. \nJohn Whelan – Arbitrator\, Mediator\, Workplace Investigator (Principal – Whelan Dispute Resolution) \nJohn holds a Commerce degree from Memorial (2005) and a LL.B. from UNB (2008).  Called to the Bar in 2009\, John spent 12 years as in-house counsel and Executive Director of a large community care organization before making the shift to a neutral practice. John has extensive practical experience in employment\, labour\, and municipal law. \nPaula Schumph\, General Counsel\, Newfoundland and Labrador Association of Public and Private Employees (NAPE) \nPaula completed degrees in Business Administration (Acadia) and Law (Dalhousie) prior to her call to the Newfoundland and Labrador Bar in 1996. She has been in-house counsel to NAPE for 21 years. Immediately prior to joining NAPE\, Paula represented employers who were members of the Newfoundland and Labrador Health Boards Association. \nDarren Stratton\, McInnes Cooper (Employer Counsel) \nDarren completed degrees in Commerce (Memorial) and Law (Dalhousie) prior to his call to the Newfoundland and Labrador Bar in 1993. A partner with McInnes Cooper\, Darren practices management-side labour and employment law and is a former leader of the firm’s Labour and Employment Practice Group. Darren is an employer representative on the Labour Management Arbitration Committee established under the NL Labour Relations Act. \nModerator: David Conway\, Arbitrator and Adjudicator \nDavid is the immediate past Chairperson of the NL Labour Relations Board and an arbitrator and adjudicator. David has over twenty years of experience in labour law and administrative law\, both as counsel and as a neutral decision maker. David obtained his B.A. from McGill University (’96) and his LL.B. from the University of New Brunswick (‘99) before being called to the Ontario Bar and the Newfoundland and Labrador Bar. \n____________________________________________________________________________ \nRegistration Fee:   $115.00 ($100.00 + HST)  HST # R108086463 \nRegistration Includes:  \n\nSeminar attendance and materials\nAttendance at wine and cheese social\n\nPLEASE NOTE:  THE REGISTRATION PROCESS IS ONLINE ONLY.  TO REGISTER FOR THIS SEMINAR\, PLEASE CLICK THE FOLLOWING LINK:  \nhttps://us06web.zoom.us/webinar/register/WN_z7RmMjR0RX2mSMAsdGeXow \nPLEASE NOTE: YOUR SPACE WILL NOT BE CONFIRMED UNTIL PAYMENT IS RECEIVED AND REFUNDS WILL NOT BE ISSUED FOR CANCELLATION AFTER FEBRUARY 28\, 2023. \nCPD Credit: 2 hours
URL:https://lsnl.ca/event/labour-employment-administrative-law-a-review-of-2020-2022-decisions/
LOCATION:3rd Floor\, Law Society Building\, 196-198 Water Street\, St. John’s\, Canada
CATEGORIES:Continuing Professional Development,Law Society
ORGANIZER;CN="Law Society of Newfoundland & Labrador":MAILTO:churley@lsnl.ca
END:VEVENT
BEGIN:VEVENT
DTSTART;TZID=America/St_Johns:20230301T140000
DTEND;TZID=America/St_Johns:20230301T160000
DTSTAMP:20260422T141143
CREATED:20230207T132906Z
LAST-MODIFIED:20230207T133846Z
UID:20330-1677679200-1677686400@lsnl.ca
SUMMARY:Labour\, Employment & Administrative Law: A Review of 2020 – 2022 Decisions
DESCRIPTION:Place: 3rd Floor\, Law Society Building\, 196-198 Water Street \nSeminar Overview\nThere were a number of noteworthy developments in labour\, employment and administrative law in recent years. This seminar will highlight decisions from Newfoundland and Labrador and other Canadian jurisdictions in 2020\, 2021 & 2022. There will also be a discussion regarding the Vavilov standard of judicial review and its application. A complimentary wine and cheese social will follow at 4:00 – 5:00 pm. \nIn-house capacity restrictions related to COVID have been lifted and in person attendance is encouraged where possible. \nJohn Whelan – Arbitrator\, Mediator\, Workplace Investigator (Principal – Whelan Dispute Resolution)\nJohn holds a Commerce degree from Memorial (2005) and a LL.B. from UNB (2008). Called to the Bar in 2009\, John spent 12 years as in-house counsel and Executive Director of a large community care organization before making the shift to a neutral practice. John has extensive practical experience in employment\, labour\, and municipal law.Paula Schumph\, General Counsel\, Newfoundland and Labrador Association of Public and Private Employees (NAPE)\nPaula completed degrees in Business Administration (Acadia) and Law (Dalhousie) prior to her call to the Newfoundland and Labrador Bar in 1996. She has been in-house counsel to NAPE for 21 years. Immediately prior to joining NAPE\, Paula represented employers who were members of the Newfoundland and Labrador Health Boards Association. \nDarren Stratton\, McInnes Cooper (Employer Counsel)\nDarren completed degrees in Commerce (Memorial) and Law (Dalhousie) prior to his call to the Newfoundland and Labrador Bar in 1993. A partner with McInnes Cooper\, Darren practices management-side labour and employment law and is a former leader of the firm’s Labour and Employment Practice Group. Darren is an employer representative on the Labour Management Arbitration Committee established under the NL Labour Relations Act. \nModerator: David Conway\, Arbitrator and Adjudicator\nDavid is the immediate past Chairperson of the NL Labour Relations Board and an arbitrator and adjudicator. David has over twenty years of experience in labour law and administrative law\, both as counsel and as a neutral decision maker. David obtained his B.A. from McGill University (’96) and his LL.B. from the University of New Brunswick (‘99) before being called to the Ontario Bar and the Newfoundland and Labrador Bar.\n____________________________________________________________________________\nRegistration Fee: $115.00 ($100.00 + HST) HST # R108086463 \nRegistration Includes:\n1. Seminar attendance and materials\n2. Attendance at wine and cheese social \nPLEASE NOTE: THE REGISTRATION PROCESS IS ONLINE ONLY. TO REGISTER FOR THIS SEMINAR\, PLEASE CLICK HERE. \nPLEASE NOTE: YOUR SPACE WILL NOT BE CONFIRMED UNTIL PAYMENT IS RECEIVED AND REFUNDS WILL NOT BE ISSUED FOR CANCELLATION AFTER FEBRUARY 28\, 2023. \nCPD Credit: 2 hours
URL:https://lsnl.ca/event/labour-employment-administrative-law-a-review-of-2020-2022-decisions-2/
LOCATION:3rd Floor\, Law Society Building\, 196-198 Water Street\, St. John’s\, Canada
CATEGORIES:Continuing Professional Development
ORGANIZER;CN="Law Society of Newfoundland & Labrador":MAILTO:churley@lsnl.ca
END:VEVENT
END:VCALENDAR