BEGIN:VCALENDAR
VERSION:2.0
PRODID:-//The Law Society of Newfoundland and Labrador - ECPv6.15.19//NONSGML v1.0//EN
CALSCALE:GREGORIAN
METHOD:PUBLISH
X-ORIGINAL-URL:https://lsnl.ca
X-WR-CALDESC:Events for The Law Society of Newfoundland and Labrador
REFRESH-INTERVAL;VALUE=DURATION:PT1H
X-Robots-Tag:noindex
X-PUBLISHED-TTL:PT1H
BEGIN:VTIMEZONE
TZID:America/St_Johns
BEGIN:DAYLIGHT
TZOFFSETFROM:-0330
TZOFFSETTO:-0230
TZNAME:NDT
DTSTART:20220313T053000
END:DAYLIGHT
BEGIN:STANDARD
TZOFFSETFROM:-0230
TZOFFSETTO:-0330
TZNAME:NST
DTSTART:20221106T043000
END:STANDARD
BEGIN:DAYLIGHT
TZOFFSETFROM:-0330
TZOFFSETTO:-0230
TZNAME:NDT
DTSTART:20230312T053000
END:DAYLIGHT
BEGIN:STANDARD
TZOFFSETFROM:-0230
TZOFFSETTO:-0330
TZNAME:NST
DTSTART:20231105T043000
END:STANDARD
BEGIN:DAYLIGHT
TZOFFSETFROM:-0330
TZOFFSETTO:-0230
TZNAME:NDT
DTSTART:20240310T053000
END:DAYLIGHT
BEGIN:STANDARD
TZOFFSETFROM:-0230
TZOFFSETTO:-0330
TZNAME:NST
DTSTART:20241103T043000
END:STANDARD
END:VTIMEZONE
BEGIN:VEVENT
DTSTART;TZID=America/St_Johns:20230306T130000
DTEND;TZID=America/St_Johns:20230306T160000
DTSTAMP:20260422T141143
CREATED:20230207T133512Z
LAST-MODIFIED:20230207T133816Z
UID:20332-1678107600-1678118400@lsnl.ca
SUMMARY:Limitations Periods: What a Litigator Needs to Know
DESCRIPTION:Place: 3rd Floor\, Law Society Building\, 196-198 Water Street. Doors open at 12:30 pm. \nSeminar Overview\nThis seminar will provide a practical overview of the Newfoundland and Labrador limitations scheme for the civil litigator: when limitation periods begin to run\, when they stop running\, and when they expire; discoverability; procedural considerations and pitfalls; how to assess the limitation of an action; and the limitation issues that arise in particular practices like personal injury\, estates\, and professional negligence. The seminar will also explain recent limitations jurisprudence from the Supreme Court of Canada and the Newfoundland and Labrador courts. \nIn-house capacity restrictions related to COVID have been lifted and in person attendance is encouraged where possible. \nDan Zacks\nPrincipal – Zacks Law\nDan is a Toronto-based civil litigator with a focus on lawyers’ professional negligence\, commercial disputes\, and insurance coverage. He has a specialty in limitations law. He authors Law of Limitations (Canada’s leading—and only—limitations text)\, Halsbury’s Limitation of Action\, and the (soon to be updated) blog Under the Limit. He is currently working on a compendium of bad limitations pun. \nRegistration Fee: $115.00 ($100.00 + HST) HST # R108086463 \nTo register for this seminar\, please click here. \nYOUR SPACE WILL NOT BE CONFIRMED UNTIL PAYMENT IS RECEIVED AND REFUNDS WILL NOT BE ISSUED FOR CANCELLATION AFTER FEBRUARY 28\, 2023. \nCPD Credit: 3 hours
URL:https://lsnl.ca/event/limitations-periods-what-a-litigator-needs-to-know/
LOCATION:3rd Floor\, Law Society Building\, 196-198 Water Street\, St. John’s\, Canada
CATEGORIES:Continuing Professional Development
ORGANIZER;CN="Law Society of Newfoundland & Labrador":MAILTO:churley@lsnl.ca
END:VEVENT
END:VCALENDAR