BEGIN:VCALENDAR
VERSION:2.0
PRODID:-//The Law Society of Newfoundland and Labrador - ECPv6.15.19//NONSGML v1.0//EN
CALSCALE:GREGORIAN
METHOD:PUBLISH
X-WR-CALNAME:The Law Society of Newfoundland and Labrador
X-ORIGINAL-URL:https://lsnl.ca
X-WR-CALDESC:Events for The Law Society of Newfoundland and Labrador
REFRESH-INTERVAL;VALUE=DURATION:PT1H
X-Robots-Tag:noindex
X-PUBLISHED-TTL:PT1H
BEGIN:VTIMEZONE
TZID:America/St_Johns
BEGIN:DAYLIGHT
TZOFFSETFROM:-0330
TZOFFSETTO:-0230
TZNAME:NDT
DTSTART:20220313T053000
END:DAYLIGHT
BEGIN:STANDARD
TZOFFSETFROM:-0230
TZOFFSETTO:-0330
TZNAME:NST
DTSTART:20221106T043000
END:STANDARD
BEGIN:DAYLIGHT
TZOFFSETFROM:-0330
TZOFFSETTO:-0230
TZNAME:NDT
DTSTART:20230312T053000
END:DAYLIGHT
BEGIN:STANDARD
TZOFFSETFROM:-0230
TZOFFSETTO:-0330
TZNAME:NST
DTSTART:20231105T043000
END:STANDARD
BEGIN:DAYLIGHT
TZOFFSETFROM:-0330
TZOFFSETTO:-0230
TZNAME:NDT
DTSTART:20240310T053000
END:DAYLIGHT
BEGIN:STANDARD
TZOFFSETFROM:-0230
TZOFFSETTO:-0330
TZNAME:NST
DTSTART:20241103T043000
END:STANDARD
END:VTIMEZONE
BEGIN:VEVENT
DTSTART;TZID=America/St_Johns:20230308T120000
DTEND;TZID=America/St_Johns:20230308T170000
DTSTAMP:20260422T122101
CREATED:20230217T143015Z
LAST-MODIFIED:20230217T143015Z
UID:20402-1678276800-1678294800@lsnl.ca
SUMMARY:The ChatGPT Lawyer: Opportunities and Risks of Generative AI for the Legal Profession
DESCRIPTION:The Law Commission of Ontario (LCO) in cooperation with University of Ottawa Centre for Law\, Technology and Society is pleased to bring you The ChatGPT Lawyer\, a free one-hour webinar discussing the impact of the newest generative AI\, ChatGPT\, in the legal field. \nSince its release in November 2022\, ChatGPT has become a phenomenon. Industries and sectors across the world are beginning to consider the impact of ChatGPT and others forms of generative AI. \nThis webinar will discuss the opportunities and risks posed by ChatGPT and generative AI in the justice system. Topics discussed will include: \n\nwhat lawyers need to know about ChatGPT\nhow ChatGPT can be used in legal practice\nethical obligations to which lawyers must adhere\nopportunities and risks for access to justice\n\nSpeakers include: \nNye Thomas – Executive Director\, LCO \nRyan Fritsch – Counsel\, LCO \nAmy Salyzyn – Associate Professor\, Faculty of Law\, University of Ottawa \nColin Lachance – Jurisage\, AltaML \nDaniel W. Linna Jr. – Senior Lecturer and Director of Law and Technology Initiatives\, Northwestern Pritzker School of Law and McCormick School of Engineering \nEvent Details: \nDate/Time: Wednesday\, March 8\, 2023\, 12:00 pm EST \nPrice: Free \nWhere: Virtual (registration is required) \nRegistration: Eventbrite \nFor more information about this event\, visit the event page:\nhttps://techlaw.uottawa.ca/aisociety/events/chatgpt-lawyer\n\n\n\n\n\n\n\n  \n\n\n\n\n\n\n\n\nFor other inquiries\, please contact: \nLaw Commission of Ontario \nEmail: LawCommission@lco-cdo.org\nWeb: www.lco-cdo.org\nTwitter: @LCO_CDO\nTel: (416) 650-8406\nToll-free: 1 (866) 950-8406
URL:https://lsnl.ca/event/the-chatgpt-lawyer-opportunities-and-risks-of-generative-ai-for-the-legal-profession/
LOCATION:Online
CATEGORIES:Continuing Professional Development
END:VEVENT
BEGIN:VEVENT
DTSTART;TZID=America/St_Johns:20230308T133000
DTEND;TZID=America/St_Johns:20230308T143000
DTSTAMP:20260422T122101
CREATED:20230307T154812Z
LAST-MODIFIED:20230307T154812Z
UID:20526-1678282200-1678285800@lsnl.ca
SUMMARY:Free French Webinar - Women in Justice
DESCRIPTION:Register for this free webinar taking place on March 8\, International Women’s Day. This session will highlight the career paths of women in the legal profession\, as well as share experiences\, successes\, challenges & realities of women in this field. \n(709) 800-6200\njustice@fftnl.ca\nwww.francotnl.ca \n 
URL:https://lsnl.ca/event/free-french-webinar-women-in-justice/
LOCATION:Online
CATEGORIES:Continuing Professional Development
END:VEVENT
BEGIN:VEVENT
DTSTART;TZID=America/St_Johns:20230308T163000
DTEND;TZID=America/St_Johns:20230308T173000
DTSTAMP:20260422T122101
CREATED:20230302T131539Z
LAST-MODIFIED:20230302T131615Z
UID:20493-1678293000-1678296600@lsnl.ca
SUMMARY:Sentencing Guidance in Canada: Conceptual Trends and Practical Problems
DESCRIPTION:This webinar will examine the Canadian approach to sentencing guidance (both legislative and appellate) as it has shaped up in recent years. The first part of the webinar will be more conceptual and historical\, exploring the uniqueness of the Canadian approach\, in comparative perspective\, and examining the idea of “individualized proportionality”\, which has developed as the guiding concept in the jurisprudence over the last 20 years. The second part of the webinar will turn to certain practical problems and issues that are in tension with this overall conceptual trend\, notably the role of starting points\, sentencing ranges\, and the interpretation of legislative “signals”. Building on the presenter’s current research\, attendees will be presented with an argument about the recalibration of sentencing ranges that appears available\, but has not yet been tested in courts.\n\n\nThis is the eighth webinar in the Criminal Law Scholar Series hosted by the Criminal Defense Advocacy Society and Courthouse Libraries BC. \nParticipants may claim 1.5 hours of CPD with LSBC. \nPresenter: Benjamin Berger\, Professor & York Research Chair in Pluralism and Public Law \nModerator: Tamara Levy\, KC \n\n\n\n4:30 PM (Vancouver)
URL:https://lsnl.ca/event/sentencing-guidance-in-canada-conceptual-trends-and-practical-problems/
LOCATION:Online
CATEGORIES:Continuing Professional Development
END:VEVENT
END:VCALENDAR