BEGIN:VCALENDAR
VERSION:2.0
PRODID:-//The Law Society of Newfoundland and Labrador - ECPv6.15.19//NONSGML v1.0//EN
CALSCALE:GREGORIAN
METHOD:PUBLISH
X-ORIGINAL-URL:https://lsnl.ca
X-WR-CALDESC:Events for The Law Society of Newfoundland and Labrador
REFRESH-INTERVAL;VALUE=DURATION:PT1H
X-Robots-Tag:noindex
X-PUBLISHED-TTL:PT1H
BEGIN:VTIMEZONE
TZID:America/St_Johns
BEGIN:DAYLIGHT
TZOFFSETFROM:-0330
TZOFFSETTO:-0230
TZNAME:NDT
DTSTART:20220313T053000
END:DAYLIGHT
BEGIN:STANDARD
TZOFFSETFROM:-0230
TZOFFSETTO:-0330
TZNAME:NST
DTSTART:20221106T043000
END:STANDARD
BEGIN:DAYLIGHT
TZOFFSETFROM:-0330
TZOFFSETTO:-0230
TZNAME:NDT
DTSTART:20230312T053000
END:DAYLIGHT
BEGIN:STANDARD
TZOFFSETFROM:-0230
TZOFFSETTO:-0330
TZNAME:NST
DTSTART:20231105T043000
END:STANDARD
BEGIN:DAYLIGHT
TZOFFSETFROM:-0330
TZOFFSETTO:-0230
TZNAME:NDT
DTSTART:20240310T053000
END:DAYLIGHT
BEGIN:STANDARD
TZOFFSETFROM:-0230
TZOFFSETTO:-0330
TZNAME:NST
DTSTART:20241103T043000
END:STANDARD
END:VTIMEZONE
BEGIN:VEVENT
DTSTART;TZID=America/St_Johns:20230310T130000
DTEND;TZID=America/St_Johns:20230310T140000
DTSTAMP:20260422T141140
CREATED:20230224T201457Z
LAST-MODIFIED:20230224T202512Z
UID:20472-1678453200-1678456800@lsnl.ca
SUMMARY:Managing Difficult Phone Calls
DESCRIPTION:$44.00 (regular rate)\n$35.00 (*early rate) \nTrainer Christina Reimer \nLocation: Online Virtual \n*early rate expires 02/24/2023 \n1 Continuing Education Credit Hours (CEC) \nHandling difficult interactions on the phone is a challenging task\, especially if the caller is in a heightened state of emotion. For many\, the ability to navigate difficult phone conversations with respect and professionalism is an essential workplace skill. This webinar is designed to provide practical strategies for dealing with clients and customers over the phone who are in a heightened emotional state. Participants will learn over-the-phone techniques for de-escalating anger\, resolving conflict\, and communicating effectively. \nLearning Objectives \nAt the end of this webinar\, participants should be able to: \n\n\n\n\n\n\n\n\n\n\n\n\n\nList effective listening skills to enhance understanding\nDescribe the steps to emotionally heightened clients over the phone\nUnderstand how problem-solving is used with clients for best outcomes\n\n*Please allow only the registered individual(s) to view webinar materials \n\n\n\n\n\nTarget Audience\nThis is an introductory-intermediate level webinar intended for anyone interested in learning more about this topic. \n\n\nTerms & Conditions\nView our cancellation policy and other information regarding your webinar here \n\n\n\n\n\n\n\n\n\n\n\nTrainer: Christina Reimer \nChristina has a diverse background as a leadership trainer\, director and team building and conflict resolution facilitator. With a PhD in religion\, she teaches university courses on ethics\, the world’s major religions\, and other topics. Christina has travelled extensively and worked internationally for non-profit organizations that focus on peace-building and community development. She values workplaces that promote diversity and equity and strive to resolve corporate and interpersonal conflict in productive ways. She believes that communicating well is one of the keys to creating healthy working environments. Christina has an enthusiastic and engaging presentation style and uses storytelling and humour to make workshops interesting as well as informative.
URL:https://lsnl.ca/event/managing-difficult-phone-calls/
LOCATION:Online
CATEGORIES:Continuing Professional Development
END:VEVENT
END:VCALENDAR