BEGIN:VCALENDAR
VERSION:2.0
PRODID:-//The Law Society of Newfoundland and Labrador - ECPv6.15.19//NONSGML v1.0//EN
CALSCALE:GREGORIAN
METHOD:PUBLISH
X-ORIGINAL-URL:https://lsnl.ca
X-WR-CALDESC:Events for The Law Society of Newfoundland and Labrador
REFRESH-INTERVAL;VALUE=DURATION:PT1H
X-Robots-Tag:noindex
X-PUBLISHED-TTL:PT1H
BEGIN:VTIMEZONE
TZID:America/St_Johns
BEGIN:DAYLIGHT
TZOFFSETFROM:-0330
TZOFFSETTO:-0230
TZNAME:NDT
DTSTART:20220313T053000
END:DAYLIGHT
BEGIN:STANDARD
TZOFFSETFROM:-0230
TZOFFSETTO:-0330
TZNAME:NST
DTSTART:20221106T043000
END:STANDARD
BEGIN:DAYLIGHT
TZOFFSETFROM:-0330
TZOFFSETTO:-0230
TZNAME:NDT
DTSTART:20230312T053000
END:DAYLIGHT
BEGIN:STANDARD
TZOFFSETFROM:-0230
TZOFFSETTO:-0330
TZNAME:NST
DTSTART:20231105T043000
END:STANDARD
BEGIN:DAYLIGHT
TZOFFSETFROM:-0330
TZOFFSETTO:-0230
TZNAME:NDT
DTSTART:20240310T053000
END:DAYLIGHT
BEGIN:STANDARD
TZOFFSETFROM:-0230
TZOFFSETTO:-0330
TZNAME:NST
DTSTART:20241103T043000
END:STANDARD
END:VTIMEZONE
BEGIN:VEVENT
DTSTART;TZID=America/St_Johns:20230327T130000
DTEND;TZID=America/St_Johns:20230327T170000
DTSTAMP:20260422T091036
CREATED:20230220T153825Z
LAST-MODIFIED:20230220T153825Z
UID:20427-1679922000-1679936400@lsnl.ca
SUMMARY:Trauma-Informed Training for Legal Professionals
DESCRIPTION:The Journey Project is teaming up with the RISE Program (PEI) to offer two free\, virtual workshops on trauma-informed legal practice! Facilitated by clinical psychologist Dr. Lori Haskell\, participants will gain skills and knowledge in supporting survivors of sexual violence and intimate partner violence. \n⏰ March 27th from 9 am – 1 pm (AST) \nParticipants Will Learn How: \nTrauma is stored in the body and limbic system\, creating physical and psychological symptoms. \nTrauma can impact victim memory\, reactions and behaviour and how misinterpreting this behaviour impacts sexual assault investigations. \nTo assess your own practices and processes with a trauma-informed lens. \nTo Register:\nMarch 27th registration link: https://www.surveymonkey.com/r/HaskellMarch27 \n \nFor more information about joining the Journey Project Legal Support Service\, visit https://journeyproject.ca/lawyers/ or email support@journeyprojectnl.com
URL:https://lsnl.ca/event/trauma-informed-training-for-legal-professionals-2/
LOCATION:Online
CATEGORIES:Continuing Professional Development
END:VEVENT
END:VCALENDAR