BEGIN:VCALENDAR
VERSION:2.0
PRODID:-//The Law Society of Newfoundland and Labrador - ECPv6.15.19//NONSGML v1.0//EN
CALSCALE:GREGORIAN
METHOD:PUBLISH
X-ORIGINAL-URL:https://lsnl.ca
X-WR-CALDESC:Events for The Law Society of Newfoundland and Labrador
REFRESH-INTERVAL;VALUE=DURATION:PT1H
X-Robots-Tag:noindex
X-PUBLISHED-TTL:PT1H
BEGIN:VTIMEZONE
TZID:UTC
BEGIN:STANDARD
TZOFFSETFROM:+0000
TZOFFSETTO:+0000
TZNAME:UTC
DTSTART:20220101T000000
END:STANDARD
END:VTIMEZONE
BEGIN:VTIMEZONE
TZID:America/St_Johns
BEGIN:DAYLIGHT
TZOFFSETFROM:-0330
TZOFFSETTO:-0230
TZNAME:NDT
DTSTART:20220313T053000
END:DAYLIGHT
BEGIN:STANDARD
TZOFFSETFROM:-0230
TZOFFSETTO:-0330
TZNAME:NST
DTSTART:20221106T043000
END:STANDARD
BEGIN:DAYLIGHT
TZOFFSETFROM:-0330
TZOFFSETTO:-0230
TZNAME:NDT
DTSTART:20230312T053000
END:DAYLIGHT
BEGIN:STANDARD
TZOFFSETFROM:-0230
TZOFFSETTO:-0330
TZNAME:NST
DTSTART:20231105T043000
END:STANDARD
BEGIN:DAYLIGHT
TZOFFSETFROM:-0330
TZOFFSETTO:-0230
TZNAME:NDT
DTSTART:20240310T053000
END:DAYLIGHT
BEGIN:STANDARD
TZOFFSETFROM:-0230
TZOFFSETTO:-0330
TZNAME:NST
DTSTART:20241103T043000
END:STANDARD
END:VTIMEZONE
BEGIN:VEVENT
DTSTART;TZID=UTC:20230330T080000
DTEND;TZID=UTC:20230330T170000
DTSTAMP:20260422T090947
CREATED:20221208T155144Z
LAST-MODIFIED:20221208T155144Z
UID:20055-1680163200-1680195600@lsnl.ca
SUMMARY:Drafting and Reviewing Search Warrants
DESCRIPTION:Offered by: Osgoode School of Law \nTake advantage of this unique opportunity to take a deep dive into how to draft legally solid and successful Warrants. \nCourt decisions continue to make apparent the importance of clear\, accurate and complete warrant applications and the dire consequences of deficient drafting. \nThis practical program will give you the knowledge and skills you need to draft\, review\, and revise a wide variety of Search Warrants and to identify and develop winning strategies for defending or attacking them. \n\nCan’t make the live date? Registration includes 120-day unlimited\, online access to the recorded program. Please note the workshop will NOT be recorded. \n\n\n\nWhat You’ll Learn \n\n\n\n\n\nPractical Issues in the Warrant Process: Cross-Discipline Panel Discussion\nLatest Hot Issues in Computer and Related Technology Searches\nReview of the Foundational Principles of Search and Seizure\nWarrant Writing and Reviewing 101\nInformers and Tipsters: Challenges and Strategies for Using Anonymous Sources\nTake your learning to the next level in the optional\, warrant drafting workshop on March 31. Space is strictly limited to ensure interactivity (for Day One registrants only).\n\n\n\n\n\n\n\n\n\n\n\nWho Should Attend \n\n\n\n\n\nLaw enforcement officers\nRegulatory investigators; federal and provincial\nDefence lawyers\nJudges including Justices of the Peace\, lower court judges form all provinces and territories\nCrown Attorneys and Federal Prosecutors
URL:https://lsnl.ca/event/drafting-and-reviewing-search-warrants/
LOCATION:Online
CATEGORIES:Continuing Professional Development
ORGANIZER;CN="Osgood Law School":MAILTO:obarich@osgoode.yorku.ca
END:VEVENT
BEGIN:VEVENT
DTSTART;TZID=America/St_Johns:20230330T093000
DTEND;TZID=America/St_Johns:20230330T120000
DTSTAMP:20260422T090947
CREATED:20230209T163513Z
LAST-MODIFIED:20230209T163807Z
UID:20363-1680168600-1680177600@lsnl.ca
SUMMARY:An Overview of the Adult Protection Act\, 2021
DESCRIPTION:Place: 3rd Floor\, Law Society Building\, 196-198 Water Street \nSeminar Overview\nThe Adult Protection Act\, 2021 recently came into force on December 15\, 2022. This legislation is intended to protect adults 18 years of age and older in Newfoundland and Labrador who are at risk of abuse\, neglect and/or self-neglect\, and who do not understand or appreciate that risk. Join our presenters for an overview of the Act as well as its implications for lawyers in practice. \nSeminar Presenters \n\nHenry Kielley\, MSW\, RSW (Director\, Seniors and Aging & Adult Population\, Department of Children\, Seniors and Social Development)\nThe Hon. J. Derek Green (Former Chief Justice of Newfoundland and Labrador)\nMelissa Saunders (Partner\, Tupman & Bloom LLP)\nMichael Collins (Counsel\, Tupman & Bloom LLP)\n\nRegistration Fee: $115.00 ($100.00 + HST) HST # R108086463 \nTo register for this seminar\, please click here.\n\nYOUR SPACE WILL NOT BE CONFIRMED UNTIL PAYMENT IS RECEIVED AND REFUNDS WILL NOT BE ISSUED FOR CANCELLATION AFTER MARCH 29\, 2023. \nCPD Credit: 2.5 hours
URL:https://lsnl.ca/event/an-overview-of-the-adult-protection-act-2021/
LOCATION:3rd Floor\, Law Society Building\, 196-198 Water Street\, St. John’s\, Canada
CATEGORIES:Continuing Professional Development
ORGANIZER;CN="Law Society of Newfoundland & Labrador":MAILTO:churley@lsnl.ca
END:VEVENT
BEGIN:VEVENT
DTSTART;TZID=UTC:20230330T130000
DTEND;TZID=UTC:20230330T140000
DTSTAMP:20260422T090947
CREATED:20230106T124900Z
LAST-MODIFIED:20230106T124900Z
UID:20172-1680181200-1680184800@lsnl.ca
SUMMARY:De-escalating Potentially Violent Situations™ by Crisis & Trauma Resource Institute
DESCRIPTION:This is a live virtual event using Zoom\, an online meeting platform. Please check your system requirements prior to registering.\n\n\n\n\nDetails\nMarch 30\, 2023\n(01:00 PM – 02:00 PM CDT )\n\n$44.00 (regular rate) \n$35.00 (*early rate)\n\nTrainer Nathan Gerbrandt MSW\, RSW\nLocation: Online Virtual\n*(early rate expires 16-3-23 )\n\n\n1 Continuing Education Credit Hours (CEC)\n\n\nRegister Now\n \n\nFor those who work in an environment where there is potential for violence\, it is important to develop the skills needed to defuse dangerous situations. This webinar is designed to teach people to de-escalate potentially violent situations through assertiveness and interpersonal communication. Viewers will develop a clear understanding of how to assess the potential for violence and respond with a diverse set of interpersonal tools and strategies designed to defuse potentially violent situations.\n\n\n\n\n\n\n\n\n\n\n\nLearning Objectives\nAt the end of this webinar\, participants should be able to: \n\nDescribe the role of anger in violent incidents\nList appropriate strategies to de-escalate violent situations\nDescribe different forms of violence\n\n*Please allow only the registered individual(s) to view webinar materials \n\n\n\n\n\nTarget Audience\nThis is an introductory-intermediate level webinar intended for anyone interested in learning more about this topic. \n\n\nTerms & Conditions\nView our cancellation policy and other information regarding your webinar here. \n\n\n\n\n\n\n\n\n\n\n\nTrainer: Nathan Gerbrandt\, MSW\, RSW \nNathan is the Managing Director of CTRI. He is passionate about promoting trauma-informed practices that support individuals\, organizations and communities. Prior to working with CTRI\, Nathan coordinated service delivery and rehabilitation planning for people with co-occurring disorders and complex trauma in conflict with the law. He has refined skills in violence prevention\, risk management\, and collaborative treatment planning for vulnerable people. In addition\, Nathan possesses specialty in the areas of disability services\, case management\, and working with people with Fetal Alcohol Spectrum Disorder. He holds a Master of Social Work degree and is a Registered Social Worker. Nathan believes that the key to improving people’s lives through training is to find the right fit. When this connection is made it inspires a ripple effect that can extend to everyone we meet. He is co-author of A Little Book About Trauma-Informed Workplaces and the editor of many several CTRI’s training materials including Trauma-Informed Care\, Fetal Alcohol Spectrum Disorder\, and De-escalating Potentially Violent Situations™.  Nathan is an engaging presenter who uses an interactive style to find real-life meaning in his workshops. Read blogs written by Nathan here. Contact Nathan at: nathan@ctrinstitute.com 204-452-0179
URL:https://lsnl.ca/event/de-escalating-potentially-violent-situations-by-crisis-trauma-resource-institute/
LOCATION:Online
CATEGORIES:Continuing Professional Development
END:VEVENT
BEGIN:VEVENT
DTSTART;TZID=America/St_Johns:20230330T193000
DTEND;TZID=America/St_Johns:20230330T203000
DTSTAMP:20260422T090947
CREATED:20230327T132214Z
LAST-MODIFIED:20230327T132331Z
UID:20626-1680204600-1680208200@lsnl.ca
SUMMARY:Newfoundland and Labrador Historical Society Lecture: The Mysterious Lambert de Boilieu by Robin McGrath 
DESCRIPTION:Please join us online on Thursday\, March 30 at 7:30 p.m. (7:00 p.m. ADT) for this month’s NLHS lecture: \nThe Mysterious Lambert de Boilieu by Robin McGrath  \nRecollection of Labrador Life was first published in England in 1861 by Lambert de Boilieu\, then reprinted with editing and notes by Thomas F. Bredin by Ryerson Press in 1969. The work has been widely accepted as a memoir of life at Battle Harbour in the 1850s\, and is frequently cited in popular and academic articles. However\, research about the book and its author clearly indicated that no such person as de Boilieu existed by that name\, and many of the events described could not have happened in the 1850s\, if at all. Using various documents\, including court records\, Dr. Robin McGrath makes a tentative identification of the true author of the book and attempts to clarify his motivations for presenting fiction as fact. \nPlease register through this link: http://bit.ly/3ZFvQ7P   \nAfter registering\, you will receive an email with the link to the lecture. \nPresented by the Newfoundland & Labrador Historical Society \nUli Brown\nOffice Manager\nNewfoundland and Labrador Historical Society\nP.O. Box 23154\, Churchill Square\, St. John’s\, NL   A1B 4J9\n(709) 722-3191\nnlhistsociety@gmail.com\nwww.nlhistory.ca
URL:https://lsnl.ca/event/newfoundland-and-labrador-historical-society-lecture-the-mysterious-lambert-de-boilieu-by-robin-mcgrath/
LOCATION:Online
CATEGORIES:Continuing Professional Development,SS Daisy Legal History Committee
END:VEVENT
END:VCALENDAR