BEGIN:VCALENDAR
VERSION:2.0
PRODID:-//The Law Society of Newfoundland and Labrador - ECPv6.15.19//NONSGML v1.0//EN
CALSCALE:GREGORIAN
METHOD:PUBLISH
X-ORIGINAL-URL:https://lsnl.ca
X-WR-CALDESC:Events for The Law Society of Newfoundland and Labrador
REFRESH-INTERVAL;VALUE=DURATION:PT1H
X-Robots-Tag:noindex
X-PUBLISHED-TTL:PT1H
BEGIN:VTIMEZONE
TZID:UTC
BEGIN:STANDARD
TZOFFSETFROM:+0000
TZOFFSETTO:+0000
TZNAME:UTC
DTSTART:20220101T000000
END:STANDARD
END:VTIMEZONE
BEGIN:VEVENT
DTSTART;TZID=UTC:20230411T080000
DTEND;TZID=UTC:20230411T170000
DTSTAMP:20260422T091042
CREATED:20221208T154856Z
LAST-MODIFIED:20221208T154856Z
UID:20053-1681200000-1681232400@lsnl.ca
SUMMARY:Mental Health Law for Children and Youth
DESCRIPTION:Offered by: Osgood School of Law \nEngage with experts and peers on the most pressing current and emerging issues in mental health law for children and youth. \nDeveloped based on your requests for a program that would bring together legal\, health care\, mental health\, education and law enforcement professional\, this annual OsgoodePD program brings together these professionals for a comprehensive one-day update of essential\, current and emerging issues\, together with practical legal advice on how to deal with them. \nYou’ll walk away with knowledge\, tools\, strategies and tactics that will help you tackle these complex legal issues in your day-to-day working life. \n\nRegistration includes 120-day unlimited\, online access to the recorded program. \n\n\n\nWhat You’ll Learn \n\n\n\n\n\nThe law guiding your actions: what is applicable to children’s mental health?\nMental health laws in the school setting\nPrivacy\, confidentiality and information sharing in the context of children and youth with mental health challenges\nYouth in Crisis: medical and legal options for treatment\nUnderstanding\, recognizing and responding to mental health needs of children 0-6\nThe ins and outs of representing children in family law: interacting with the Office of the Children’s Lawyer\n\n\n\n\n\n\n\n\n\n\n\nWho Should Attend \n\n\n\n\n\nSchool Administrators/Directors of Education/Supervisory Officers\nMental health leads\nTeachers\nHealth care risk managers\nRepresentatives from hospitals\, psychiatric facilities and community care agencies\nPsychiatrists\, physicians\, nurses and other licensed medical professionals\nLawyers in private practice specializing in health\, criminal or education law\nCrown lawyersGovernment and public policy advisors\nExpert witnesses and mental health consultants\nMental health patient advocates\nSocial workers\nHealth and social service professionals\nLaw enforcement officers\nCorrections and rehabilitation service representatives
URL:https://lsnl.ca/event/mental-health-law-for-children-and-youth/
LOCATION:Online
CATEGORIES:Continuing Professional Development
ORGANIZER;CN="Osgood Law School":MAILTO:obarich@osgoode.yorku.ca
END:VEVENT
END:VCALENDAR