BEGIN:VCALENDAR
VERSION:2.0
PRODID:-//The Law Society of Newfoundland and Labrador - ECPv6.15.19//NONSGML v1.0//EN
CALSCALE:GREGORIAN
METHOD:PUBLISH
X-ORIGINAL-URL:https://lsnl.ca
X-WR-CALDESC:Events for The Law Society of Newfoundland and Labrador
REFRESH-INTERVAL;VALUE=DURATION:PT1H
X-Robots-Tag:noindex
X-PUBLISHED-TTL:PT1H
BEGIN:VTIMEZONE
TZID:UTC
BEGIN:STANDARD
TZOFFSETFROM:+0000
TZOFFSETTO:+0000
TZNAME:UTC
DTSTART:20220101T000000
END:STANDARD
END:VTIMEZONE
BEGIN:VTIMEZONE
TZID:America/St_Johns
BEGIN:DAYLIGHT
TZOFFSETFROM:-0330
TZOFFSETTO:-0230
TZNAME:NDT
DTSTART:20220313T053000
END:DAYLIGHT
BEGIN:STANDARD
TZOFFSETFROM:-0230
TZOFFSETTO:-0330
TZNAME:NST
DTSTART:20221106T043000
END:STANDARD
BEGIN:DAYLIGHT
TZOFFSETFROM:-0330
TZOFFSETTO:-0230
TZNAME:NDT
DTSTART:20230312T053000
END:DAYLIGHT
BEGIN:STANDARD
TZOFFSETFROM:-0230
TZOFFSETTO:-0330
TZNAME:NST
DTSTART:20231105T043000
END:STANDARD
BEGIN:DAYLIGHT
TZOFFSETFROM:-0330
TZOFFSETTO:-0230
TZNAME:NDT
DTSTART:20240310T053000
END:DAYLIGHT
BEGIN:STANDARD
TZOFFSETFROM:-0230
TZOFFSETTO:-0330
TZNAME:NST
DTSTART:20241103T043000
END:STANDARD
END:VTIMEZONE
BEGIN:VEVENT
DTSTART;TZID=UTC:20230412T080000
DTEND;TZID=UTC:20230421T170000
DTSTAMP:20260422T091044
CREATED:20221208T154356Z
LAST-MODIFIED:20221208T154356Z
UID:20051-1681286400-1682096400@lsnl.ca
SUMMARY:Residential Landlord-Tenant Disputes
DESCRIPTION:The crucial updates for all residential landlord and tenant practitioners. \nGet expert perspectives on some of the most important areas of residential tenancies law affecting your practice \nIn this annual update\, practitioners for both landlords and tenants with many years’ experience litigating residential tenancies issues will provide you with a comprehensive overview of all the important elements and changes from the past year. \n\nRegistration includes 120-day unlimited\, online access to the recorded program. \n\n\n\nWhat You’ll Learn \n\n\n\n\n\nThe Human Rights Code in residential tenancies (the year in review)\nRecent significant decision affecting your practice\nLandlord and tenant perspectives on some of the most topical areas\nPractical and legal issues with respect to procedural fairness and access to justice\nProcedural changes at the Landlord and Tenant Board: post-pandemic and other key administrative/procedural developments\n\n\n\n\n\n\n\n\n\n\n\nWho Should Attend \n\n\n\n\n\nLawyers and paralegals who appear at the Landlord and Tenant Board
URL:https://lsnl.ca/event/residential-landlord-tenant-disputes/
LOCATION:Online
CATEGORIES:Continuing Professional Development
ORGANIZER;CN="Osgood Law School":MAILTO:obarich@osgoode.yorku.ca
END:VEVENT
BEGIN:VEVENT
DTSTART;TZID=America/St_Johns:20230420T123000
DTEND;TZID=America/St_Johns:20230420T140000
DTSTAMP:20260422T091044
CREATED:20230328T180456Z
LAST-MODIFIED:20230328T180456Z
UID:20634-1681993800-1681999200@lsnl.ca
SUMMARY:Free Virtual Presentation on Bill C-27 by IAPP
DESCRIPTION:Please join the IAPP St. John’s Chapter for a FREE\, Virtual presentation on Bill C-27. You do not need to be an IAPP member to attend but you do need to register using the link below. The chapter is grateful to Ernst and Young team members Heather Youden\, Manager\, Privacy and Data Trust and Safayat Moahamad\, Senior Consultant\, Privacy & Data Trust. \nREGISTER NOW \nBill C-27\, An Act to enact the Consumer Privacy Protection Act\, the Personal Information and Data Protection Tribunal Act and the Artificial Intelligence and Data Act and to make consequential and related amendments to other Acts\, is also known as the Digital Charter Implementation Act\, 2022 may have a significant impact on the way businesses must operate. This session will include: \n\nShort discussion regarding worldwide trends in privacy legislation\, the Canadian landscape\, and anticipated changes to come\nKey objectives of Bill C-27\, a summary of changes proposed through the CPPA and demystifying Bill C-27\nHow E&Y have seen business responding to these proposed changes\, some of the tools that we are using to help clients with the transition
URL:https://lsnl.ca/event/free-virtual-presentation-on-bill-c-27-by-iapp/
LOCATION:Online
CATEGORIES:Continuing Professional Development
END:VEVENT
BEGIN:VEVENT
DTSTART;TZID=America/St_Johns:20230420T130000
DTEND;TZID=America/St_Johns:20230420T140000
DTSTAMP:20260422T091044
CREATED:20230403T124307Z
LAST-MODIFIED:20230403T125021Z
UID:20646-1681995600-1681999200@lsnl.ca
SUMMARY:Finances and Dementia Webinar – Advice for the Journey by IG Wealth Management and the Alzheimer Society
DESCRIPTION:Time \n1:00 PM Eastern Daylight Time \n\nSummary\nToday\, there are more than 600\,000 people living with dementia in Canada. By 2030\, we can expect this number to be close to 1 million.  Apart from the emotional and mental health impact\, costs for people with dementia are 5.5 times greater than for individuals who have not been diagnosed with the condition. \nThe seniors\, parents and grandparents of our communities often face unique financial challenges that come with age. For those facing the journey with dementia\, the need for advice has never been greater. \nJoin Christine Van Cauwenberghe\, Head of Financial Planning\, IG Wealth Management\, and Dr. Sarah Main\, Research Scientist\, Alzheimer Society of Canada for this interactive webinar. \nTogether they will provide: \n\nTips and tools for wealth planning for aging individuals\nAdvice for caregivers and people living with dementia\nTax considerations and resources available for Canadians\n\nIG Wealth Management is a proud partner of the Alzheimer Society and as part of the IG Empower Your Tomorrow community program\, we are committed to increasing the financial confidence of all Canadians. \n\nExpress Consent: By providing my telephone number and/or email address\, I CONSENT to IG Wealth Management using this information to contact me for marketing purposes. We are committed to keeping personal information confidential.  The information collected above may be used by IG Wealth Management and shared with its affiliates to inform you on investment opportunities\, provide additional financial information from time to time\, and for other internal purposes. \n\n\nSpeakers\n\n\n\n\nVas Pachapurkar\nVP\, Private Wealth Management\nIG Wealth Management\n\n\nWith over 30 years of business development\, critical thinking and wealth management experience\, Vas brings an innate ability to communicate and connect ideas\, tactics\, strategies and philosophies through his experience as a Consultant\, Field Director\, MFDA Panelist and member of the National Distribution Leadership team. Vas is a proud graduate of Wilfred Laurier University and holds his RRC and CFP designations. Prior to IG Wealth Management\, Vas worked with PricewaterhouseCoopers and Dresdner Bank AG. \nWithin his community\, Vas has worked with the Make-a-Wish Foundation\, the Herb Carnegie Foundation and Tour for Kids in partnership with Coast to Coast Against Cancer. Vas is also a driving force behind the IG Wealth Management Walk for Memories in support of the Alzheimer Society of Toronto. Vas and his family reside in Toronto\, Ontario. \n\n\n\n\nChristine Van Cauwenberghe\nHead of Financial Planning\nIG Wealth Management\n\n\nChristine is the Head of the Financial Planning Division of IG Wealth Management. Christine obtained both her Commerce and Law degree from the University of Manitoba prior to being called to the Bar in both Manitoba (1995) and Ontario (2004). Christine spent several years practicing tax law with a large law firm in Winnipeg prior to joining IG Wealth Management in 2001. \nChristine is a member of the Canadian Tax Foundation\, has her Certified Financial Planner designation\, is a Registered Retirement Consultant and is a Trust & Estate Practitioner\, as certified by the Society of Trust and Estate Practitioners (“STEP”). She has previously served on the board of STEP Canada and is a recipient of a STEP Founder’s Award. \nChristine is also the author of Wealth Planning Strategies for Canadians\, which is published annually by Thomson Carswell and is currently in its 15th edition. She has published several industry papers\, including with the Canadian Tax Foundation\, the Canadian Association of Life Underwriters\, the Law Society of Manitoba and the Estates\, Trusts and Pension Journal. Christine has given lectures to numerous professional groups and is a regular media spokesperson for IG Wealth Management. Christine lives in Winnipeg with her husband and son. \n\n\n\n\nDr. Sarah Main\nResearch Scientist\nAlzheimer Society of Canada\n\n\nDr. Sarah Main is a Research Scientist for the Alzheimer Society of Canada (ASC)\, a leading not-for-profit health organization working nationwide to improve the quality of life and well-being of persons living with dementia and care partners. \nSarah has been on this career path for over 10 years\, motivated by her family’s own personal experiences with dementia. Throughout this time\, Sarah has led many dementia-focused initiatives and works with a range of collaborators\, including persons living with dementia\, care partners and health care professionals to see these projects through. Sarah has been involved in creating regional dementia strategies\, improving community-based supports\, creating educational materials for health care professionals\, and developing evaluation frameworks to support quality improvement efforts for numerous healthcare organizations\, among other efforts. Sarah is committed to working alongside dementia advocates to illuminate and transform healthcare system inequities. \nSarah currently oversees the National Dementia Guidelines Program\, which is a new strategic initiative launched by ASC to create standardized best practices that will improve experiences across the continuum of care for all impacted groups\, including persons living with dementia\, care partners\, and health care professionals.
URL:https://lsnl.ca/event/finances-and-dementia-webinar-advice-for-the-journey-by-ig-wealth-management-and-the-alzheimer-society/
LOCATION:Online
CATEGORIES:Continuing Professional Development
END:VEVENT
END:VCALENDAR