BEGIN:VCALENDAR
VERSION:2.0
PRODID:-//The Law Society of Newfoundland and Labrador - ECPv6.15.19//NONSGML v1.0//EN
CALSCALE:GREGORIAN
METHOD:PUBLISH
X-ORIGINAL-URL:https://lsnl.ca
X-WR-CALDESC:Events for The Law Society of Newfoundland and Labrador
REFRESH-INTERVAL;VALUE=DURATION:PT1H
X-Robots-Tag:noindex
X-PUBLISHED-TTL:PT1H
BEGIN:VTIMEZONE
TZID:America/St_Johns
BEGIN:DAYLIGHT
TZOFFSETFROM:-0330
TZOFFSETTO:-0230
TZNAME:NDT
DTSTART:20220313T053000
END:DAYLIGHT
BEGIN:STANDARD
TZOFFSETFROM:-0230
TZOFFSETTO:-0330
TZNAME:NST
DTSTART:20221106T043000
END:STANDARD
BEGIN:DAYLIGHT
TZOFFSETFROM:-0330
TZOFFSETTO:-0230
TZNAME:NDT
DTSTART:20230312T053000
END:DAYLIGHT
BEGIN:STANDARD
TZOFFSETFROM:-0230
TZOFFSETTO:-0330
TZNAME:NST
DTSTART:20231105T043000
END:STANDARD
BEGIN:DAYLIGHT
TZOFFSETFROM:-0330
TZOFFSETTO:-0230
TZNAME:NDT
DTSTART:20240310T053000
END:DAYLIGHT
BEGIN:STANDARD
TZOFFSETFROM:-0230
TZOFFSETTO:-0330
TZNAME:NST
DTSTART:20241103T043000
END:STANDARD
END:VTIMEZONE
BEGIN:VEVENT
DTSTART;TZID=America/St_Johns:20230425T130000
DTEND;TZID=America/St_Johns:20230425T140000
DTSTAMP:20260422T091043
CREATED:20230417T120953Z
LAST-MODIFIED:20230417T120953Z
UID:20715-1682427600-1682431200@lsnl.ca
SUMMARY:Free Webinar: Employment Law Post-Pandemic
DESCRIPTION:Tuesday April 25\, 2023 at 1:00-2:00 pm ET  /  Mardi 25 avril 2023 de 13 h 00 à 14 h 00 HE \nContent available in English only / Contenu disponible en anglais seulement \nSean J. O’Donnell\, author of Employment Law during a Pandemic\, will provide updated guidance on some of the major employment law issues that employers faced during the COVID-19 pandemic\, including: \n\nWrongful dismissal and constructive dismissal\nMitigation of damages\nHuman rights issues\nOccupational health & safety issues\nVaccination issues\n\nWhat’s Included \n\nCPD Credits: 1 hour (Substantive)\nA chance to interact through online question and answer periods\nA recording of the live event\n\nAbout the Speaker / À propos du conférencier \nSean J. O’Donnell\, LL.B. is the founder and principal of SJO Legal Professional Corporation where he practises employment law\, human rights law\, and civil litigation. He has acted as counsel at various Ontario tribunals\, various federal courts across Canada\, as well as all court levels in Ontario\, the Supreme Court of Newfoundland & Labrador\, and The Supreme Court of Canada. He provides advice and advocacy to employers and employees on a broad range of employment matters. \nREGISTER HERE  /  INSCRIVEZ-VOUS ICI \nLexisNexis Canada\n111 Gordon Baker Road Suite 900\nToronto\, ON M2H 3R1 Canada\nTel / Tél.: 1-800-255-5174
URL:https://lsnl.ca/event/free-webinar-employment-law-post-pandemic/
LOCATION:Online
CATEGORIES:Continuing Professional Development
END:VEVENT
END:VCALENDAR