BEGIN:VCALENDAR
VERSION:2.0
PRODID:-//The Law Society of Newfoundland and Labrador - ECPv6.15.19//NONSGML v1.0//EN
CALSCALE:GREGORIAN
METHOD:PUBLISH
X-WR-CALNAME:The Law Society of Newfoundland and Labrador
X-ORIGINAL-URL:https://lsnl.ca
X-WR-CALDESC:Events for The Law Society of Newfoundland and Labrador
REFRESH-INTERVAL;VALUE=DURATION:PT1H
X-Robots-Tag:noindex
X-PUBLISHED-TTL:PT1H
BEGIN:VTIMEZONE
TZID:America/St_Johns
BEGIN:DAYLIGHT
TZOFFSETFROM:-0330
TZOFFSETTO:-0230
TZNAME:NDT
DTSTART:20220313T053000
END:DAYLIGHT
BEGIN:STANDARD
TZOFFSETFROM:-0230
TZOFFSETTO:-0330
TZNAME:NST
DTSTART:20221106T043000
END:STANDARD
BEGIN:DAYLIGHT
TZOFFSETFROM:-0330
TZOFFSETTO:-0230
TZNAME:NDT
DTSTART:20230312T053000
END:DAYLIGHT
BEGIN:STANDARD
TZOFFSETFROM:-0230
TZOFFSETTO:-0330
TZNAME:NST
DTSTART:20231105T043000
END:STANDARD
BEGIN:DAYLIGHT
TZOFFSETFROM:-0330
TZOFFSETTO:-0230
TZNAME:NDT
DTSTART:20240310T053000
END:DAYLIGHT
BEGIN:STANDARD
TZOFFSETFROM:-0230
TZOFFSETTO:-0330
TZNAME:NST
DTSTART:20241103T043000
END:STANDARD
END:VTIMEZONE
BEGIN:VEVENT
DTSTART;TZID=America/St_Johns:20230427T123000
DTEND;TZID=America/St_Johns:20230427T140000
DTSTAMP:20260422T090744
CREATED:20230414T153247Z
LAST-MODIFIED:20230414T153247Z
UID:20711-1682598600-1682604000@lsnl.ca
SUMMARY:Child Forensic Interviewing: Dos and Don'ts by The Criminal Defense Advocacy Society and Courthouse Libraries BC
DESCRIPTION:In the 1980s and 1990s there were several high-profile criminal cases involving child witnesses who reported heinous acts of abuse that could not have occurred as described by the children. Reports were elicited by aggressive and coercive interviewers who were committed to uncovering abuse. These cases spurred a tremendous amount of research on the strengths and limitations of children’s eyewitness memory. In turn\, this research was the foundation for the development of several child forensic interview protocols. Although there are many different protocols\, all the good ones follow a few best-practice principles. \nThe Criminal Defense Advocacy Society and Courthouse Libraries BC invite criminal law practitioners to join us for a webinar on Child Forensic Interviewing: Dos and Don’ts. This is the 10th webinar in the Criminal Law Scholar Series which will take place on Thursday\, April 27 from 12:30 – 2:00 PM.  Our presenter\, Professor Deborah Connolly will describe the principles of good child forensic interviews\, why they are important\, and possible consequences if the principles are not followed. \nParticipants may claim up to 1.5 hours of CPD with LSBC. \nPresented by Deborah Connolly\, Professor and Chair of the Department of Psychology at Simon Fraser University and moderated by Tamara Levy\, KC.
URL:https://lsnl.ca/event/child-forensic-interviewing-dos-and-donts-by-the-criminal-defense-advocacy-society-and-courthouse-libraries-bc/
LOCATION:Online
CATEGORIES:Continuing Professional Development
END:VEVENT
END:VCALENDAR