BEGIN:VCALENDAR
VERSION:2.0
PRODID:-//The Law Society of Newfoundland and Labrador - ECPv6.15.19//NONSGML v1.0//EN
CALSCALE:GREGORIAN
METHOD:PUBLISH
X-ORIGINAL-URL:https://lsnl.ca
X-WR-CALDESC:Events for The Law Society of Newfoundland and Labrador
REFRESH-INTERVAL;VALUE=DURATION:PT1H
X-Robots-Tag:noindex
X-PUBLISHED-TTL:PT1H
BEGIN:VTIMEZONE
TZID:America/St_Johns
BEGIN:DAYLIGHT
TZOFFSETFROM:-0330
TZOFFSETTO:-0230
TZNAME:NDT
DTSTART:20220313T053000
END:DAYLIGHT
BEGIN:STANDARD
TZOFFSETFROM:-0230
TZOFFSETTO:-0330
TZNAME:NST
DTSTART:20221106T043000
END:STANDARD
BEGIN:DAYLIGHT
TZOFFSETFROM:-0330
TZOFFSETTO:-0230
TZNAME:NDT
DTSTART:20230312T053000
END:DAYLIGHT
BEGIN:STANDARD
TZOFFSETFROM:-0230
TZOFFSETTO:-0330
TZNAME:NST
DTSTART:20231105T043000
END:STANDARD
BEGIN:DAYLIGHT
TZOFFSETFROM:-0330
TZOFFSETTO:-0230
TZNAME:NDT
DTSTART:20240310T053000
END:DAYLIGHT
BEGIN:STANDARD
TZOFFSETFROM:-0230
TZOFFSETTO:-0330
TZNAME:NST
DTSTART:20241103T043000
END:STANDARD
END:VTIMEZONE
BEGIN:VEVENT
DTSTART;TZID=America/St_Johns:20230501T090000
DTEND;TZID=America/St_Johns:20230503T160000
DTSTAMP:20260422T090944
CREATED:20230303T141308Z
LAST-MODIFIED:20230303T141547Z
UID:20496-1682931600-1683129600@lsnl.ca
SUMMARY:Restorative Justice - Facilitating Dialogue
DESCRIPTION:This is a live virtual event using Zoom\, an online meeting platform. Please check your system requirements prior to registering.\n\n\n\n\n\n\n\n\n\n(09:00 AM – 04:00 PM CDT )\n\n\nRate\n\n$759.00 (regular rate) \n$699.00 (*early rate)\n\n\n*early rate expires 04/10/2023\n\nTrainer\nAlana Abramson MA\, PhD\n\nLocation\nVirtual\n\n18 Continuing Education Credit Hours (CEC)\n\n\n\n\nA restorative justice approach works to repair harm and strengthen communities where wrong has occurred. It seeks to meet the needs of those harmed\, while also considering the causes of the wrongful behaviour in order to promote accountability and growth for the one who caused harm. This highly experiential workshop utilizes a trauma-informed approach\, and provides frameworks for identifying and responding to the needs of all those who were impacted by the wrong. Participants will be trained in the philosophy of restorative justice and will learn the foundational skills for facilitating encounters that lead to restorative outcomes.\n\n\n\n\n\n\n\n\n\n\n\nLearning Objectives\nUpon completion\, participants should be able to: \n\nList the principles of restorative justice as contrasted with retributive justice\nDefine common needs of those who have suffered\, caused\, and witnessed harm\nIdentify steps to apply a restorative justice framework to their own environment\nFacilitate preparatory meetings for face-to-face encounters\nFacilitate face-to-face restorative justice encounters\n\n*Please allow only the registered individual(s) to view webinar materials \n\n\nMethod of Delivery\nPresentation\, video\, case study exercises\, experiential practice\, personal reflection\, and delivered electronically. \n\n\n\n\n\nSome of the Topics Included\n\nPhilosophy and Values of Restorative Justice\nTrauma and Restorative Justice\nStarting with a Needs-Based Approach\nThe Role of Accountability and Repair\nProcess Options\nAssessing What Process to Use\nHow to Prepare People to Meet\nKey Facilitation Approaches and Skills\n\n\n\nTarget Audience\nThis is an intermediate level workshop intended for anyone wishing to learn more about the principles of restorative justice and how to facilitate restorative encounters. \n\n\nTerms & Conditions\nView our cancellation policy and other information regarding your live virtual workshop or for your in-person workshop. \nTrainer: Alana Abramson\, MA\, PHD \n\n\n\n\n\n\n\n\n\n\n\nAlana has extensive experience working in the areas of restorative justice in justice\, community\, and school settings. She holds a PhD in Criminology on the topic of transformational learning. In addition to training with CTRI\, she is a Faculty member at Kwantlen Polytechnic University in the Criminology Department and restorative justice trainer for Fraser Region Community Justice Initiatives. She believes in collaborative dialogue and life-long learning as a source of personal and social transformation. Throughout her career\, Alana has assisted in developing various initiatives involving elders\, at-risk adults\, people with disabilities\, Indigenous communities\, youth\, former prisoners\, and victims and survivors. She is an engaging presenter who is passionate about her work\, which allows her to easily facilitate ongoing learning for workshop participants.
URL:https://lsnl.ca/event/restorative-justice-facilitating-dialogue/
CATEGORIES:Continuing Professional Development
END:VEVENT
BEGIN:VEVENT
DTSTART;TZID=America/St_Johns:20230503T120000
DTEND;TZID=America/St_Johns:20230503T141500
DTSTAMP:20260422T090944
CREATED:20230307T184213Z
LAST-MODIFIED:20230307T190921Z
UID:20530-1683115200-1683123300@lsnl.ca
SUMMARY:Advanced Securities 2023: Series
DESCRIPTION:Review a year of securities law developments over lunch! \nRegister to attend all three sessions: \n\nWednesday\, May 3\, 2023\nWednesday\, May 17\, 2023\nWednesday\, May 31\, 2023\n\n12:00 pm – 2:15 pm (all three sessions) via webinar only \nCan’t make the webinar or rebroadcasts?\nWant online CPD available 24/7? \nSubscribe to Courses On Demand\, our comprehensive online resource with 1\,500+ videos and 5\,400+ papers from CLEBC courses. This course will be added to Courses on Demand approximately 30 days from the original course date. \nWho should attend: Securities law practitioners (both solicitors and litigators) \nLearning level: Advanced \nSecurities practice doesn’t always leave much time for you to keep up with all the developments and transactions happening in the market. Because it’s hard to leave your desk for a whole day\, we’ve split this conference into a three-part series. This will be your efficient solution to learning about the latest developments. \nLeading securities practitioners have curated only the most important big transactions\, trends\, and hot topics to discuss with you. As always\, we look forward to sharing with you the ever-popular and valuable Case Law Update. You will leave this series confident and current. \nDon’t worry if you can’t make one of the sessions. If you register for the SERIES\, you can access subsequent rebroadcasts in July and December 2023 for free! Rebroadcast dates will be confirmed at a later date. \nLaw Society of BC CPD Hours: 6 hours (this course does not contain professional responsibility and ethics\, client care and relations\, and/or practice management) \nCourse Chairs\nFred R. Pletcher — Borden Ladner Gervais LLP\, Vancouver\nLeo Raffin — McMillan LLP\, Vancouver \nPricing EARLY BIRD \nRegister by Apr. 5/23 Regular Price\nAfter Apr. 5/23\nLive Webinar $492   $443 $549   $492\nLive Webinar Articled Student $274.50   $246 $274.50   $246 \nPlease click here for more information on pricing. \nRegistration includes an electronic copy of the reference materials.
URL:https://lsnl.ca/event/advanced-securities-2023-series/
LOCATION:Online
CATEGORIES:Continuing Professional Development
END:VEVENT
END:VCALENDAR