BEGIN:VCALENDAR
VERSION:2.0
PRODID:-//The Law Society of Newfoundland and Labrador - ECPv6.15.19//NONSGML v1.0//EN
CALSCALE:GREGORIAN
METHOD:PUBLISH
X-WR-CALNAME:The Law Society of Newfoundland and Labrador
X-ORIGINAL-URL:https://lsnl.ca
X-WR-CALDESC:Events for The Law Society of Newfoundland and Labrador
REFRESH-INTERVAL;VALUE=DURATION:PT1H
X-Robots-Tag:noindex
X-PUBLISHED-TTL:PT1H
BEGIN:VTIMEZONE
TZID:America/St_Johns
BEGIN:DAYLIGHT
TZOFFSETFROM:-0330
TZOFFSETTO:-0230
TZNAME:NDT
DTSTART:20220313T053000
END:DAYLIGHT
BEGIN:STANDARD
TZOFFSETFROM:-0230
TZOFFSETTO:-0330
TZNAME:NST
DTSTART:20221106T043000
END:STANDARD
BEGIN:DAYLIGHT
TZOFFSETFROM:-0330
TZOFFSETTO:-0230
TZNAME:NDT
DTSTART:20230312T053000
END:DAYLIGHT
BEGIN:STANDARD
TZOFFSETFROM:-0230
TZOFFSETTO:-0330
TZNAME:NST
DTSTART:20231105T043000
END:STANDARD
BEGIN:DAYLIGHT
TZOFFSETFROM:-0330
TZOFFSETTO:-0230
TZNAME:NDT
DTSTART:20240310T053000
END:DAYLIGHT
BEGIN:STANDARD
TZOFFSETFROM:-0230
TZOFFSETTO:-0330
TZNAME:NST
DTSTART:20241103T043000
END:STANDARD
END:VTIMEZONE
BEGIN:VEVENT
DTSTART;TZID=America/St_Johns:20230513T110000
DTEND;TZID=America/St_Johns:20230513T150000
DTSTAMP:20260422T090810
CREATED:20230410T183047Z
LAST-MODIFIED:20230410T183047Z
UID:20685-1683975600-1683990000@lsnl.ca
SUMMARY:Webinar: Canadian Driving Offences - Emond
DESCRIPTION: \n\n\nExplore topical legal issues related to drinking and drugged driving with Karen Jokinen\, Peter Keen\, and a panel of cross-national experts.\n\n\n\nThe COVID-19 pandemic and the 2018 repeal of driving provisions in the Criminal Code have significantly changed the Canadian justice system’s approach to impaired driving cases. Join us for a CPD-accredited webinar that will explore important legal developments\, review relevant cases in context\, and provide vital analysis\, strategy\, and tactical advice to help you navigate the complexities of driving offences in Canada. \nThis 4-hour webinar will take place on Saturday\, May 13\, 2023\, from 11:00 a.m. EST to 3:00 p.m. EST on Zoom. Attendance is limited. Register to reserve your spot:\n\n\n\n\n\n\nREGISTER NOW\n\n\n\n\n\n\nWhat You Will Learn About:\n\n\n\n•   Legal requirements for proving alcohol impairment\, including the use of alcohol standard solution.\n•   Issues related to the repeal of section 794(2) of the Criminal Code.\n•   Developments regarding police stops based on racial profiling\, rules of admissibility of evidence\, and interpretation of section 10(b) of the Charter.\n•   Topical cases such as R v. McColman and developments in drug “per se” charges.\n•   Sentencing practices across Canada\, including the use of interlock devices to prevent impaired driving.\n\n\nThis webinar is proudly presented by Emond Publishing in partnership with the award-winning Criminal Law Series.\n\n\n\n\n\n\n\n\n\n\nInterested in learning more about impaired driving? Click here →
URL:https://lsnl.ca/event/webinar-canadian-driving-offences-emond/
LOCATION:Online
CATEGORIES:Continuing Professional Development
END:VEVENT
END:VCALENDAR