BEGIN:VCALENDAR
VERSION:2.0
PRODID:-//The Law Society of Newfoundland and Labrador - ECPv6.15.19//NONSGML v1.0//EN
CALSCALE:GREGORIAN
METHOD:PUBLISH
X-WR-CALNAME:The Law Society of Newfoundland and Labrador
X-ORIGINAL-URL:https://lsnl.ca
X-WR-CALDESC:Events for The Law Society of Newfoundland and Labrador
REFRESH-INTERVAL;VALUE=DURATION:PT1H
X-Robots-Tag:noindex
X-PUBLISHED-TTL:PT1H
BEGIN:VTIMEZONE
TZID:America/St_Johns
BEGIN:DAYLIGHT
TZOFFSETFROM:-0330
TZOFFSETTO:-0230
TZNAME:NDT
DTSTART:20220313T053000
END:DAYLIGHT
BEGIN:STANDARD
TZOFFSETFROM:-0230
TZOFFSETTO:-0330
TZNAME:NST
DTSTART:20221106T043000
END:STANDARD
BEGIN:DAYLIGHT
TZOFFSETFROM:-0330
TZOFFSETTO:-0230
TZNAME:NDT
DTSTART:20230312T053000
END:DAYLIGHT
BEGIN:STANDARD
TZOFFSETFROM:-0230
TZOFFSETTO:-0330
TZNAME:NST
DTSTART:20231105T043000
END:STANDARD
BEGIN:DAYLIGHT
TZOFFSETFROM:-0330
TZOFFSETTO:-0230
TZNAME:NDT
DTSTART:20240310T053000
END:DAYLIGHT
BEGIN:STANDARD
TZOFFSETFROM:-0230
TZOFFSETTO:-0330
TZNAME:NST
DTSTART:20241103T043000
END:STANDARD
END:VTIMEZONE
BEGIN:VEVENT
DTSTART;TZID=America/St_Johns:20230518T090000
DTEND;TZID=America/St_Johns:20230519T153000
DTSTAMP:20260422T090735
CREATED:20230322T193223Z
LAST-MODIFIED:20230322T193223Z
UID:20608-1684400400-1684510200@lsnl.ca
SUMMARY:Civil Litigation Basics 2023
DESCRIPTION:Learn from CLEBC’s team of litigation experts—not the school of hard knocks! \n\n\n\n\n\n\nThursday\, May 18\, 2023 (9:00 am – 3:00 pm)\nFriday\, May 19\, 2023 (9:00 am – 3:30 pm)\nVancouver location TBA\, or via webinar \nCan’t make the webinar or rebroadcasts?\nWant online CPD available 24/7?\n\nSubscribe to Courses On Demand\, our comprehensive online resource with 1\,500+ videos and 5\,400+ papers from CLEBC courses. This course will be added to Courses on Demand approximately 30 days from the original course date. \nWho should attend: Junior civil litigators and experienced litigators seeking a refresher on key elements within civil litigation \nLearning level: Fundamental \nHere is a chance to experience top litigators presenting actual arguments to actual judges. This unique course is designed for several groups\, including: lawyers in the first two years of practice\, lawyers changing areas of practice\, and experienced lawyers who want a conceptual refresher on key elements within civil litigation. The program will also be of interest to law students and articled students. \nLaunched in 2021 as a Zoom webinar\, this innovative program takes a new approach\, as registrants will experience the entire life cycle of a case by watching counsel present the necessary arguments at various stages of a single fact pattern. \nThe first time through their presentation\, counsel will be making all the mistakes that drive judges crazy. Participants will try to identify all those errors in real time\, then listen as the judges and counsel debrief on what should have been done better. Counsel will then re-present the argument in the most effective manner. \nRegistrants will have an opportunity to test their skills against those of their colleagues\, as prizes will be awarded to those who can identify the most errors. This course will focus on providing registrants with the knowledge base they need to avoid falling into error themselves. \nJoin us for the first in-person edition of this practical and practice-focused program! \nPlease note: the practice-focused course materials will relate to the fact pattern\, the analysis of issues\, and error identification within each stage of the litigation process. Registrants seeking a topic-by-topic review of the elements of civil litigation are directed to CLEBC’s Courses on Demand archive of Civil Litigation Basics 2018 and the associated reference materials. \nLaw Society of BC CPD Hours: 9 hours (this course will contain a minimum of 2 hours pertaining to professional responsibility and ethics\, client care and relations\, and/or practice management) \nCourse Chairs\nThe Honourable Mr. Justice Ward K. Branch — Supreme Court of BC\, Vancouver\nLuciana P. Brasil — Branch MacMaster LLP\, Vancouver \n\n\n\nPricing\nEARLY BIRD \nRegister by Apr. 20/23\nRegular Price\nAfter Apr. 20/23\n\n\n\n\nIn-person*\n$844\n$918\n\n\nIn-person Articled Student\n$549\n$549\n\n\nWebinar\n$664\n$738\n\n\nWebinar Articled Student\n$369\n$369\n\n\n\n\n\n\n\n*Please note: The in-person session is dependant on a minimum number of registrants and may not be confirmed until 4 weeks before the course date. \nAre you an Indigenous lawyer or community member?\nClick here for special pricing.\n \nDo you need financial assistance?\nClick here for bursary information. \nExperiencing financial hardship due to COVID-19?\nYou may be eligible for further reductions in our course prices.\nPlease contact Customer Service for more information. \nRegistration includes an electronic copy of the reference materials and lunch on both days.\n\n\n\nWant to register for a course now\, but prefer a monthly payment plan?\nCheck out our Easy Pay Plan. \nCLEBC Program Lawyer*\nRaymond Lee\nrlee@cle.bc.ca\n*non-practising
URL:https://lsnl.ca/event/civil-litigation-basics-2023/
LOCATION:Online
CATEGORIES:Continuing Professional Development
ORGANIZER;CN="Continuing Legal Education":MAILTO:cle@lawsociety.nf.ca
END:VEVENT
END:VCALENDAR