BEGIN:VCALENDAR
VERSION:2.0
PRODID:-//The Law Society of Newfoundland and Labrador - ECPv6.15.19//NONSGML v1.0//EN
CALSCALE:GREGORIAN
METHOD:PUBLISH
X-ORIGINAL-URL:https://lsnl.ca
X-WR-CALDESC:Events for The Law Society of Newfoundland and Labrador
REFRESH-INTERVAL;VALUE=DURATION:PT1H
X-Robots-Tag:noindex
X-PUBLISHED-TTL:PT1H
BEGIN:VTIMEZONE
TZID:America/St_Johns
BEGIN:DAYLIGHT
TZOFFSETFROM:-0330
TZOFFSETTO:-0230
TZNAME:NDT
DTSTART:20220313T053000
END:DAYLIGHT
BEGIN:STANDARD
TZOFFSETFROM:-0230
TZOFFSETTO:-0330
TZNAME:NST
DTSTART:20221106T043000
END:STANDARD
BEGIN:DAYLIGHT
TZOFFSETFROM:-0330
TZOFFSETTO:-0230
TZNAME:NDT
DTSTART:20230312T053000
END:DAYLIGHT
BEGIN:STANDARD
TZOFFSETFROM:-0230
TZOFFSETTO:-0330
TZNAME:NST
DTSTART:20231105T043000
END:STANDARD
BEGIN:DAYLIGHT
TZOFFSETFROM:-0330
TZOFFSETTO:-0230
TZNAME:NDT
DTSTART:20240310T053000
END:DAYLIGHT
BEGIN:STANDARD
TZOFFSETFROM:-0230
TZOFFSETTO:-0330
TZNAME:NST
DTSTART:20241103T043000
END:STANDARD
END:VTIMEZONE
BEGIN:VEVENT
DTSTART;TZID=America/St_Johns:20230619T090000
DTEND;TZID=America/St_Johns:20230918T163000
DTSTAMP:20260422T061510
CREATED:20230619T132722Z
LAST-MODIFIED:20230619T132722Z
UID:21047-1687165200-1695054600@lsnl.ca
SUMMARY:Effective Decision Writing for Administrative Adjudicators by Osgoode Hall Law School
DESCRIPTION:What You’ll Learn \n\n\n\n\n\n\n\n\n\n\n\n\n\n\n\n\nYou will engage in practical writing exercises\, and learn: \n\n\n\nThe key components of clear\, concise\, well-reasoned decisions\nCore writing principles\, including context and point-first writing\nStrategies for drafting effective introductions\nPowerful tips on decision structure and issue-driven organization\nRecent developments in the duty to give reasons\n\n\n\n\nPLUS! You will obtain valuable resources including checklists\, tip sheets\, legal sources on sufficiency and sample decisions. \n\n\n\n\n\n\n\nWho Should Attend \n\n\n\n\nNew and experienced decision-writers\, reviewers\, and counsel with administrative and regulatory agencies\, boards and tribunals. \n\n\n\n\n\n\nThis is an introductory course but will be useful for anyone who has not done a full-day structured program on decision writing\, or who wants a refresher.
URL:https://lsnl.ca/event/effective-decision-writing-for-administrative-adjudicators-by-osgoode-hall-law-school/
LOCATION:Online
CATEGORIES:Continuing Professional Development
END:VEVENT
BEGIN:VEVENT
DTSTART;TZID=America/St_Johns:20230621T140000
DTEND;TZID=America/St_Johns:20230621T153000
DTSTAMP:20260422T061510
CREATED:20230425T142912Z
LAST-MODIFIED:20230425T143432Z
UID:20767-1687356000-1687361400@lsnl.ca
SUMMARY:AI Language Models for Law: Potential and Pitfalls by the Law Society of Newfoundland and Labrador Webinar
DESCRIPTION:Seminar Overview        \nWhen ChatGPT was released in late 2022\, large language models (LLMs) went from being a fringe pursuit to being a mainstream preoccupation. This presentation will address how LLMs may affect the practice of law and the pitfalls that the legal community could face in adapting to the new technology. It will give a primer on how LLMs work\, how useful they are at present\, and how this will affect the practice of law in the short to medium term. \nSeminar Presenters \nAmy Salyzyn  \nAmy Salyzyn is an Associate Professor at the Faculty of Law\, University of Ottawa. Professor Salyzyn has written extensively in the area of legal ethics\, lawyer regulation\, technology in legal service delivery and access to justice\, having now published over 20 articles in Canadian and international journals on these topics. She is also the author of three book chapters\, including a chapter on client confidentiality in Lawyers’ Ethics and Professional Regulation\, 4th ed. Professor Salyzyn is a regular legal ethics columnist for Slaw.ca. Prior to entering academia\, Professor Salyzyn received her J.S.D. and LL.M. from Yale Law School and her J.D. from the University of Toronto Law School\, where she was awarded the Dean’s Key upon graduation. Before coming to the University of Ottawa\, Professor Salyzyn also served as a judicial law clerk at the Court of Appeal for Ontario and practiced at a Toronto litigation boutique. She is currently the Board Chair for the Canadian Association for Legal Ethics. \nPeter Wills \nPeter Wills is a Doctoral Candidate at the Faculty of Law\, University of Oxford. His research focuses on the application of tort law doctrine to events caused by various forms of artificial intelligence\, including large language models (LLMs). He has taught Private International Law and a course on computer programming for lawyers at the Lincoln Alexander School of Law at Toronto Metropolitan University and has clerked at the Supreme Court of Canada for Justice Rowe and at the Court of Appeal for British Columbia for Chief Justice Bauman. He holds law degrees from Harvard Law School (JD) and the University of Cambridge (LLM). He also holds a master’s degree in engineering from the University of Toronto and once spent a year making robots decorate cupcakes. \nRegistration Fee  \n$57.50 ($50.00 + HST)  HST # R108086463 \nTo register for this seminar\, please click the following link:\nhttps://us06web.zoom.us/webinar/register/WN_4WNiYSPbTaWmtGVsHTmxcQ \nCPD Credit\n1.5 hours
URL:https://lsnl.ca/event/ai-language-models-for-law-potential-and-pitfalls-by-the-law-society-of-newfoundland-and-labrador-webinar/
LOCATION:Online
CATEGORIES:Continuing Professional Development
ORGANIZER;CN="Law Society of Newfoundland & Labrador":MAILTO:churley@lsnl.ca
END:VEVENT
END:VCALENDAR