BEGIN:VCALENDAR
VERSION:2.0
PRODID:-//The Law Society of Newfoundland and Labrador - ECPv6.15.19//NONSGML v1.0//EN
CALSCALE:GREGORIAN
METHOD:PUBLISH
X-ORIGINAL-URL:https://lsnl.ca
X-WR-CALDESC:Events for The Law Society of Newfoundland and Labrador
REFRESH-INTERVAL;VALUE=DURATION:PT1H
X-Robots-Tag:noindex
X-PUBLISHED-TTL:PT1H
BEGIN:VTIMEZONE
TZID:America/St_Johns
BEGIN:DAYLIGHT
TZOFFSETFROM:-0330
TZOFFSETTO:-0230
TZNAME:NDT
DTSTART:20220313T053000
END:DAYLIGHT
BEGIN:STANDARD
TZOFFSETFROM:-0230
TZOFFSETTO:-0330
TZNAME:NST
DTSTART:20221106T043000
END:STANDARD
BEGIN:DAYLIGHT
TZOFFSETFROM:-0330
TZOFFSETTO:-0230
TZNAME:NDT
DTSTART:20230312T053000
END:DAYLIGHT
BEGIN:STANDARD
TZOFFSETFROM:-0230
TZOFFSETTO:-0330
TZNAME:NST
DTSTART:20231105T043000
END:STANDARD
BEGIN:DAYLIGHT
TZOFFSETFROM:-0330
TZOFFSETTO:-0230
TZNAME:NDT
DTSTART:20240310T053000
END:DAYLIGHT
BEGIN:STANDARD
TZOFFSETFROM:-0230
TZOFFSETTO:-0330
TZNAME:NST
DTSTART:20241103T043000
END:STANDARD
END:VTIMEZONE
BEGIN:VEVENT
DTSTART;TZID=America/St_Johns:20230619T090000
DTEND;TZID=America/St_Johns:20230918T163000
DTSTAMP:20260422T025006
CREATED:20230619T132722Z
LAST-MODIFIED:20230619T132722Z
UID:21047-1687165200-1695054600@lsnl.ca
SUMMARY:Effective Decision Writing for Administrative Adjudicators by Osgoode Hall Law School
DESCRIPTION:What You’ll Learn \n\n\n\n\n\n\n\n\n\n\n\n\n\n\n\n\nYou will engage in practical writing exercises\, and learn: \n\n\n\nThe key components of clear\, concise\, well-reasoned decisions\nCore writing principles\, including context and point-first writing\nStrategies for drafting effective introductions\nPowerful tips on decision structure and issue-driven organization\nRecent developments in the duty to give reasons\n\n\n\n\nPLUS! You will obtain valuable resources including checklists\, tip sheets\, legal sources on sufficiency and sample decisions. \n\n\n\n\n\n\n\nWho Should Attend \n\n\n\n\nNew and experienced decision-writers\, reviewers\, and counsel with administrative and regulatory agencies\, boards and tribunals. \n\n\n\n\n\n\nThis is an introductory course but will be useful for anyone who has not done a full-day structured program on decision writing\, or who wants a refresher.
URL:https://lsnl.ca/event/effective-decision-writing-for-administrative-adjudicators-by-osgoode-hall-law-school/
LOCATION:Online
CATEGORIES:Continuing Professional Development
END:VEVENT
BEGIN:VEVENT
DTSTART;TZID=America/St_Johns:20230717T080000
DTEND;TZID=America/St_Johns:20230728T170000
DTSTAMP:20260422T025006
CREATED:20230717T113226Z
LAST-MODIFIED:20230717T113226Z
UID:21190-1689580800-1690563600@lsnl.ca
SUMMARY:Summer Series Rebroadcasts: July 17 to 28
DESCRIPTION:Ready to make the most of your summer? Join us next week for our Summer Series Rebroadcasts — the perfect chance to earn CPD during the more relaxed days of summer. \nFrom July 17 to 28\, we are rebroadcasting over 30 of our most popular and in-demand courses from the past few months. Watch and learn from the convenience of your home\, office\, or wherever you may be\, and complete your credits at a more leisurely pace. \nAmong the many rebroadcasts\, you will find courses such as: \n\nEmployment Law Conference 2023\nSecrets of Chambers \nEstate Planning Express – 15 Minute Topics\nAdvanced Securities 2023\nTrusts in the 21st Century: The Seas Are Getting Choppier\nFamily Law Drafting Basics\nIntroduction to Financial Statements for Lawyers\n\nDon’t miss this opportunity to learn from the best legal experts BC has to offer! \nSave your spot now and make the most of your summer!
URL:https://lsnl.ca/event/summer-series-rebroadcasts-july-17-to-28/
LOCATION:Online
CATEGORIES:Continuing Professional Development
END:VEVENT
BEGIN:VEVENT
DTSTART;VALUE=DATE:20230726
DTEND;VALUE=DATE:20230727
DTSTAMP:20260422T025006
CREATED:20230717T115006Z
LAST-MODIFIED:20230717T115006Z
UID:21198-1690329600-1690415999@lsnl.ca
SUMMARY:Collaborative Decision-making in Child Welfare
DESCRIPTION:—Rebroadcast—\nOn the rebroadcast date\, you will have until midnight of that rebroadcast date to access the course. Please note that technical support will be available during regular CLEBC business hours. \nSummer Series 2023\nWednesday\, July 19\, 2023\nWednesday\, July 26\, 2023 \nLast Kick at the Can Series 2023\nTuesday\, December 12\, 2023\nWednesday\, December 20\, 2023 \n(Original Webinar Date: June 19\, 2023) \nCan’t make the webinar or rebroadcasts?\nWant online CPD available 24/7?\nSubscribe to Courses On Demand\, our comprehensive online resource with 1\,500+ videos and 5\,400+ papers from CLEBC courses. This course will be added to Courses on Demand approximately 30 days from the original course date. \nWho should attend: Lawyers\, legal advocates\, frontline support workers\, and others engaged with families navigating the child welfare system \nLearning level: All levels \nEngaging with the child welfare system can be incredibly disempowering for families. Numerous Collaborative Decision-making (CDM) processes are available and are designed to empower families\, including youth\, to participate actively in decision-making that impacts them. CDM processes include mediation\, family group conferences (FGCs)\, family case planning conferences (FCPCs)\, youth transition conferences\, and traditional decision-making. \nWith so many options\, it can be very difficult for families to navigate process choice. When would it be better to request mediation instead of an FGC? When and where can one ask for a youth transition conference? \nParticipants will learn more about existing collaborative decision-making processes and how to assist clients to choose the process(es) that best supports them. Speakers will share information about navigation services\, research into “early” and preventative mediation\, and how to best support clients in preparing for and participating in these processes. \nSpeakers will also discuss examples of changes and increased opportunities for CDM\, as First Nations exercise jurisdiction for their children and develop legislation to guide decision-making in this area. \nLegal advocates\, please contact Customer Service for a special price. \nMediate BC Roster mediators will receive 20% off the full regular course registration fee. Please contact Customer Service to register. \nLaw Society of BC CPD Hours: 3.5 hours (a minimum of 1 hour pertaining to professional responsibility and ethics\, client care and relations\, and/or practice management). Please note: The CPD hours of the rebroadcast will either meet or exceed the CPD hours of the original live webinar course. \nCourse Instructors\nLori Frank\, RRM — Director of Child Welfare Initiatives\, Mediate BC and Lori Frank Mediation & Consulting\, Victoria\nSharon Sutherland\, RRM — Executive Director\, Mediate BC\, Tsawwassen\nRowena Veylan — Indigenous Initiatives Lead\, Mediate BC\, North Vancouver \nJust want the materials from the course?\nSubscribe to Online Course Materials and access 5\,400+ papers produced for CLEBC courses since 2001.
URL:https://lsnl.ca/event/collaborative-decision-making-in-child-welfare/
LOCATION:Online
CATEGORIES:Continuing Professional Development
END:VEVENT
BEGIN:VEVENT
DTSTART;VALUE=DATE:20230726
DTEND;VALUE=DATE:20230727
DTSTAMP:20260422T025006
CREATED:20230717T115308Z
LAST-MODIFIED:20230717T115308Z
UID:21202-1690329600-1690415999@lsnl.ca
SUMMARY:Indigenous Governance & Economic Development 2023
DESCRIPTION:Best practices for effective business development\n\n\n\n\n\n\n\n—Rebroadcast—\nOn the rebroadcast date\, you will have until midnight of that rebroadcast date to access the course. Please note that technical support will be available during regular CLEBC business hours. \nSummer Series 2023\nWednesday\, July 19\, 2023\nWednesday\, July 26\, 2023 \nLast Kick at the Can Series 2023\nTuesday\, December 12\, 2023\nWednesday\, December 20\, 2023 \n(Original Webinar Date: April 26\, 2023) \nCan’t make the webinar or rebroadcasts?\nWant online CPD available 24/7?\nSubscribe to Courses On Demand\, our comprehensive online resource with 1\,500+ videos and 5\,400+ papers from CLEBC courses. This course will be added to Courses on Demand approximately 30 days from the original course date. \nWho should attend: Lawyers practicing in the area of Business and Aboriginal law\, in private practice\, industry\, and government; others who focus on Aboriginal law issues will also benefit\, including Indigenous organizations\, in-house counsel\, and law students \nLearning level: All levels \nEffective Indigenous governance has often been closely tied to effective business development. \nWe will explore how to develop potential best practices for economic development models and structures in the context of industry\, technology\, services sectors\, construction\, land development\, and finance. Having a sound understanding of the options and context for Indigenous business will assist industry\, government\, and Indigenous leaders to form effective business and governance structures and successful business partnerships. \nLearn from experts in the field of Indigenous governance\, economic development\, and industry-Aboriginal partnerships\, and hear them discuss their challenges and experiences. \nLaw Society of BC CPD Hours: 6 hours (this course will contain a minimum of 1 hour pertaining to professional responsibility and ethics\, client care and relations\, and/or practice management). Please note: The CPD hours of the rebroadcast will either meet or exceed the CPD hours of the original live webinar course. \nCourse Chair\nAdam Munnings — Munnings Law\, West Vancouver \nJust want the materials from the course?\nSubscribe to Online Course Materials and access 5\,400+ papers produced for CLEBC courses since 2001. 
URL:https://lsnl.ca/event/indigenous-governance-economic-development-2023/
LOCATION:Online
CATEGORIES:Continuing Professional Development
END:VEVENT
END:VCALENDAR