BEGIN:VCALENDAR
VERSION:2.0
PRODID:-//The Law Society of Newfoundland and Labrador - ECPv6.15.19//NONSGML v1.0//EN
CALSCALE:GREGORIAN
METHOD:PUBLISH
X-ORIGINAL-URL:https://lsnl.ca
X-WR-CALDESC:Events for The Law Society of Newfoundland and Labrador
REFRESH-INTERVAL;VALUE=DURATION:PT1H
X-Robots-Tag:noindex
X-PUBLISHED-TTL:PT1H
BEGIN:VTIMEZONE
TZID:America/St_Johns
BEGIN:DAYLIGHT
TZOFFSETFROM:-0330
TZOFFSETTO:-0230
TZNAME:NDT
DTSTART:20220313T053000
END:DAYLIGHT
BEGIN:STANDARD
TZOFFSETFROM:-0230
TZOFFSETTO:-0330
TZNAME:NST
DTSTART:20221106T043000
END:STANDARD
BEGIN:DAYLIGHT
TZOFFSETFROM:-0330
TZOFFSETTO:-0230
TZNAME:NDT
DTSTART:20230312T053000
END:DAYLIGHT
BEGIN:STANDARD
TZOFFSETFROM:-0230
TZOFFSETTO:-0330
TZNAME:NST
DTSTART:20231105T043000
END:STANDARD
BEGIN:DAYLIGHT
TZOFFSETFROM:-0330
TZOFFSETTO:-0230
TZNAME:NDT
DTSTART:20240310T053000
END:DAYLIGHT
BEGIN:STANDARD
TZOFFSETFROM:-0230
TZOFFSETTO:-0330
TZNAME:NST
DTSTART:20241103T043000
END:STANDARD
END:VTIMEZONE
BEGIN:VEVENT
DTSTART;TZID=America/St_Johns:20230928T123000
DTEND;TZID=America/St_Johns:20230928T133000
DTSTAMP:20260422T042415
CREATED:20230831T135039Z
LAST-MODIFIED:20230831T135222Z
UID:21392-1695904200-1695907800@lsnl.ca
SUMMARY:FREE EVENT Privacy by Design: More Than Just a Catchy Phrase - Webinar by the International Association of Privacy Professionals
DESCRIPTION:If you are working on any kind of process change\, information\, security or privacy management initiative then you will not want to miss Privacy by Design: More Than Just a Catchy Phrase . This session is open to all and is FREE of charge. \nDescription\n“Privacy by design” has been part of the privacy practitioners’ vernacular for well over a decade\, but for many the phrase remains vague. In this talk\, the author of the IAPP CIPT textbook\, Strategic Privacy by Design\, will walk through the development of a hypothetical smart thermostat following the recently released Design Process Standard from the Institute of Operational Privacy Design. For many participants this will open up a new avenue of thinking about privacy beyond the laws\, principles and programmatic elements they are most familiar with and provide a level of concreteness to the concept beyond the broad to “build privacy in.”     \nSpeaker\nR. Jason Cronk\, FIP\, CIPP/US\, CIPT\, CIPM \nPresident of the Institute of Operational Privacy Design\, Section Leader of the IAPP Privacy Engineering Section\, Principal Consultant at Enterprivacy Consulting Group\, Privacy Engineer\, Attorney and Author of the Strategic Privacy by Design\, 2nd Ed.
URL:https://lsnl.ca/event/free-event-privacy-by-design-more-than-just-a-catchy-phrase-webinar-by-the-international-association-of-privacy-professionals/
LOCATION:Online
CATEGORIES:Continuing Professional Development
END:VEVENT
END:VCALENDAR