BEGIN:VCALENDAR
VERSION:2.0
PRODID:-//The Law Society of Newfoundland and Labrador - ECPv6.15.19//NONSGML v1.0//EN
CALSCALE:GREGORIAN
METHOD:PUBLISH
X-ORIGINAL-URL:https://lsnl.ca
X-WR-CALDESC:Events for The Law Society of Newfoundland and Labrador
REFRESH-INTERVAL;VALUE=DURATION:PT1H
X-Robots-Tag:noindex
X-PUBLISHED-TTL:PT1H
BEGIN:VTIMEZONE
TZID:America/St_Johns
BEGIN:DAYLIGHT
TZOFFSETFROM:-0330
TZOFFSETTO:-0230
TZNAME:NDT
DTSTART:20220313T053000
END:DAYLIGHT
BEGIN:STANDARD
TZOFFSETFROM:-0230
TZOFFSETTO:-0330
TZNAME:NST
DTSTART:20221106T043000
END:STANDARD
BEGIN:DAYLIGHT
TZOFFSETFROM:-0330
TZOFFSETTO:-0230
TZNAME:NDT
DTSTART:20230312T053000
END:DAYLIGHT
BEGIN:STANDARD
TZOFFSETFROM:-0230
TZOFFSETTO:-0330
TZNAME:NST
DTSTART:20231105T043000
END:STANDARD
BEGIN:DAYLIGHT
TZOFFSETFROM:-0330
TZOFFSETTO:-0230
TZNAME:NDT
DTSTART:20240310T053000
END:DAYLIGHT
BEGIN:STANDARD
TZOFFSETFROM:-0230
TZOFFSETTO:-0330
TZNAME:NST
DTSTART:20241103T043000
END:STANDARD
END:VTIMEZONE
BEGIN:VEVENT
DTSTART;VALUE=DATE:20231016
DTEND;VALUE=DATE:20231017
DTSTAMP:20260421T214627
CREATED:20230913T114648Z
LAST-MODIFIED:20230913T114648Z
UID:21446-1697414400-1697500799@lsnl.ca
SUMMARY:Annual International Conference on Privacy\, Security & Trust Industry Summit
DESCRIPTION:Please join the Canadian Institute for Cybersecurity in Fredericton\, New Brunswick in October for the Annual International Conference on Privacy\, Security & Trust Industry Summit.  PST2023 provides a premier forum for sharing advances in cybersecurity research. \nWe included the speakers on the attached flyers\, or you can view the list online here\, https://pstnet.ca/speakers.html. \nFeaturing: \n\nSunday\, October 15th\, PST Conference Networking Mixer compliments of Knowledge Park\nPresentations from leading industry and government cybersecurity professionals\nPanel discussion on “Safeguarding Cybersecurity Research and Innovation in Canada”\nCybersecurity student research poster display\n\nLogistics: \n\nWhen:  All day\, Monday\, October 16th\nWhere:  Fredericton Convention Centre\, 670 Queen Street\nRegistration:  https://site.pheedloop.com/event/PST2023/home/\n\n\n\n\nREGISTRATION TYPE\nFEE\n\n\nRegular\n$ 300.00\n\n\nUNB Students / CIC Members\n$ 150.00 (Discount Code can be applied)\n\n\nNon-UNB Students / Post-Doctorals\n$ 150.00\n\n\nSponsors / Exhibitors\n$ 250.00 (Discount Code can be applied)\n\n\nIEEE Members\n$ 250.00\n\n\nNon-Profit Organizations\n$ 250.00\n\n\nSpeakers & Panellists\n$ 250.00 (Discount Code can be applied)\n\n\nVirtual\nFREE
URL:https://lsnl.ca/event/annual-international-conference-on-privacy-security-trust-industry-summit/
CATEGORIES:Continuing Professional Development
END:VEVENT
END:VCALENDAR