BEGIN:VCALENDAR
VERSION:2.0
PRODID:-//The Law Society of Newfoundland and Labrador - ECPv6.15.19//NONSGML v1.0//EN
CALSCALE:GREGORIAN
METHOD:PUBLISH
X-ORIGINAL-URL:https://lsnl.ca
X-WR-CALDESC:Events for The Law Society of Newfoundland and Labrador
REFRESH-INTERVAL;VALUE=DURATION:PT1H
X-Robots-Tag:noindex
X-PUBLISHED-TTL:PT1H
BEGIN:VTIMEZONE
TZID:America/St_Johns
BEGIN:DAYLIGHT
TZOFFSETFROM:-0330
TZOFFSETTO:-0230
TZNAME:NDT
DTSTART:20220313T053000
END:DAYLIGHT
BEGIN:STANDARD
TZOFFSETFROM:-0230
TZOFFSETTO:-0330
TZNAME:NST
DTSTART:20221106T043000
END:STANDARD
BEGIN:DAYLIGHT
TZOFFSETFROM:-0330
TZOFFSETTO:-0230
TZNAME:NDT
DTSTART:20230312T053000
END:DAYLIGHT
BEGIN:STANDARD
TZOFFSETFROM:-0230
TZOFFSETTO:-0330
TZNAME:NST
DTSTART:20231105T043000
END:STANDARD
BEGIN:DAYLIGHT
TZOFFSETFROM:-0330
TZOFFSETTO:-0230
TZNAME:NDT
DTSTART:20240310T053000
END:DAYLIGHT
BEGIN:STANDARD
TZOFFSETFROM:-0230
TZOFFSETTO:-0330
TZNAME:NST
DTSTART:20241103T043000
END:STANDARD
END:VTIMEZONE
BEGIN:VEVENT
DTSTART;TZID=America/St_Johns:20231018T080000
DTEND;TZID=America/St_Johns:20231018T170000
DTSTAMP:20260421T214624
CREATED:20230807T135739Z
LAST-MODIFIED:20230829T135132Z
UID:21306-1697616000-1697648400@lsnl.ca
SUMMARY:Fundamentals of Indigenous Peoples and Canadian Law by Osgoode Hall Law School
DESCRIPTION:Understand this complex and vitally important body of law. It is a concise\, deep dive into the knowledge and strategies you need to be able to work more thoughtfully and effectively when dealing with Indigenous law issues. A truly outstanding faculty of experts\, including practicing lawyers\, government and industry reps and academics drawn from across the country will concentrate on the core aspects of Indigenous law\, focusing not just on the law itself\, but also those practical considerations that are key to understanding the rapidly changing legal environment. \n\n\n\n\n\n\nRegistration includes 120-day unlimited\, online access to the recorded program.\n\n\n  \nWhat You’ll Learn \n\nThe aim of the program is to give you a practical and foundational understanding of Indigenous rights and title\, the constitutional framework\, reserve lands and developments on reserve\, treaty interpretation\, modern treaties\, the duty to consult framework and practical strategies.\nThe historic narrative and constitutional framework\nAn overview of the case law and key legal concepts from the last 40 years\nUnderstanding historic treaties – the context\, perspectives and contemporary realities\nThe Indian Act: key issues for practitioners and policy makers\n“Section 35” – understanding its purpose\, framework and emerging issues\nUnderstanding modern day treaties using case studies and a Canada wide comparative analysis\, including First Nation\, Inuit and Métis perspectives\nAddressing overlapping territories\, private lands\, submerged land and waterways\nThe Duty to Consult and Accommodate – its origins\, recent case law developments and current practices\nConsultation approaches\, policies and perspectives across Canada\, including best practices\nIndigenous self-governance\nUNDRIP and what it means going forward\n\n\n\n\n\n\n\nWho Should Attend \n\n\n\n\n\nLawyers practicing in the areas of Aboriginal law\, natural resources\, environmental and Constitutional law\nGovernment lawyers/officials – federal\, provincial and municipal sectors\nIn-house Counsel\, particularly those working in the energy\, resource and infrastructure development sectors\nLeaders\, councilors and advisors of Indigenous communities\nNegotiators and mediators for industry\, government and Indigenous communities\n\n\n\n\n\n\n\n\n\nAgenda \n\nDay 1 – October 18\, 2023 9:00 a.m – 5:00 p.m. (The Foundations)\nDay 2 – October 25\, 2023 9:00 a.m. – 5:00 p.m. (The Indian Act)\nDay 3 – November 1\, 2023 9:00 a.m. – 5:00 p.m. (The Aboriginal Rights Framework in Section 35)\nDay 4 – November 8\, 2023 9:00 a.m. – 5:00 p.m. (The Modern Day Treaties)\nDay 5 – November 15\, 2023 9:00 a.m. – 5:00 p.m. (The Duty to Consult and Accommodate)\nDay 6 – November 22\, 2023 9:00 a.m. – 5:00 p.m. (Where We Are and What’s To Come)
URL:https://lsnl.ca/event/fundamentals-of-indigenous-peoples-and-canadian-law-by-osgoode-hall-law-school/
LOCATION:Online
CATEGORIES:Continuing Professional Development
END:VEVENT
END:VCALENDAR