BEGIN:VCALENDAR
VERSION:2.0
PRODID:-//The Law Society of Newfoundland and Labrador - ECPv6.15.19//NONSGML v1.0//EN
CALSCALE:GREGORIAN
METHOD:PUBLISH
X-WR-CALNAME:The Law Society of Newfoundland and Labrador
X-ORIGINAL-URL:https://lsnl.ca
X-WR-CALDESC:Events for The Law Society of Newfoundland and Labrador
REFRESH-INTERVAL;VALUE=DURATION:PT1H
X-Robots-Tag:noindex
X-PUBLISHED-TTL:PT1H
BEGIN:VTIMEZONE
TZID:America/St_Johns
BEGIN:DAYLIGHT
TZOFFSETFROM:-0330
TZOFFSETTO:-0230
TZNAME:NDT
DTSTART:20220313T053000
END:DAYLIGHT
BEGIN:STANDARD
TZOFFSETFROM:-0230
TZOFFSETTO:-0330
TZNAME:NST
DTSTART:20221106T043000
END:STANDARD
BEGIN:DAYLIGHT
TZOFFSETFROM:-0330
TZOFFSETTO:-0230
TZNAME:NDT
DTSTART:20230312T053000
END:DAYLIGHT
BEGIN:STANDARD
TZOFFSETFROM:-0230
TZOFFSETTO:-0330
TZNAME:NST
DTSTART:20231105T043000
END:STANDARD
BEGIN:DAYLIGHT
TZOFFSETFROM:-0330
TZOFFSETTO:-0230
TZNAME:NDT
DTSTART:20240310T053000
END:DAYLIGHT
BEGIN:STANDARD
TZOFFSETFROM:-0230
TZOFFSETTO:-0330
TZNAME:NST
DTSTART:20241103T043000
END:STANDARD
END:VTIMEZONE
BEGIN:VEVENT
DTSTART;TZID=America/St_Johns:20231024T143000
DTEND;TZID=America/St_Johns:20231024T160000
DTSTAMP:20260421T214432
CREATED:20231023T153324Z
LAST-MODIFIED:20231023T153324Z
UID:21692-1698157800-1698163200@lsnl.ca
SUMMARY:Fostering an A2J-Oriented Legal Community: Early Introduction to A2J
DESCRIPTION:Date and Time\n\n\n\n\n\n\n \n\nTue\, Oct 24\, 2023 2:30 PM – 4:00 PM NDT\n\n\n\n\n\n\n\n\n\n\n\n\nLocation\nOnline \n\n\n\n\n\n\n\n\nAbout this event \n\n\n1 hour 30 minutes\nMobile eTicket\n\n\n\n\nOver Summer 2023\, the Action Committee surveyed individuals involved in legal education\, including current students\, educators\, and young legal professionals. The objective of this research was to better understand the impact of a2j education on the career choices of young legal professionals\, including decisions to incorporate access to justice work into their legal careers. This panel provides an overview of the research findings\, and explores how a broader understanding of young professional’s views and experiences with a2j can potentially help inform where the broader A2J sector’s priorities — including those of the Action Committee at this critical juncture — should lie. \nSpeakers \n\nDana Rotenberg\, National Director of Pro Bono Students Canada\nJérémy Boulanger-Bonnelly\, Assistant Professor at McGill University\nAyesha Adamjee\, Lawyer\n\nModerator\nAshley Major\, Calibrate Solutions
URL:https://lsnl.ca/event/fostering-an-a2j-oriented-legal-community-early-introduction-to-a2j/
LOCATION:Online
CATEGORIES:Continuing Professional Development
END:VEVENT
END:VCALENDAR