BEGIN:VCALENDAR
VERSION:2.0
PRODID:-//The Law Society of Newfoundland and Labrador - ECPv6.15.19//NONSGML v1.0//EN
CALSCALE:GREGORIAN
METHOD:PUBLISH
X-WR-CALNAME:The Law Society of Newfoundland and Labrador
X-ORIGINAL-URL:https://lsnl.ca
X-WR-CALDESC:Events for The Law Society of Newfoundland and Labrador
REFRESH-INTERVAL;VALUE=DURATION:PT1H
X-Robots-Tag:noindex
X-PUBLISHED-TTL:PT1H
BEGIN:VTIMEZONE
TZID:America/St_Johns
BEGIN:DAYLIGHT
TZOFFSETFROM:-0330
TZOFFSETTO:-0230
TZNAME:NDT
DTSTART:20220313T053000
END:DAYLIGHT
BEGIN:STANDARD
TZOFFSETFROM:-0230
TZOFFSETTO:-0330
TZNAME:NST
DTSTART:20221106T043000
END:STANDARD
BEGIN:DAYLIGHT
TZOFFSETFROM:-0330
TZOFFSETTO:-0230
TZNAME:NDT
DTSTART:20230312T053000
END:DAYLIGHT
BEGIN:STANDARD
TZOFFSETFROM:-0230
TZOFFSETTO:-0330
TZNAME:NST
DTSTART:20231105T043000
END:STANDARD
BEGIN:DAYLIGHT
TZOFFSETFROM:-0330
TZOFFSETTO:-0230
TZNAME:NDT
DTSTART:20240310T053000
END:DAYLIGHT
BEGIN:STANDARD
TZOFFSETFROM:-0230
TZOFFSETTO:-0330
TZNAME:NST
DTSTART:20241103T043000
END:STANDARD
END:VTIMEZONE
BEGIN:VEVENT
DTSTART;VALUE=DATE:20231030
DTEND;VALUE=DATE:20231031
DTSTAMP:20260421T194844
CREATED:20230829T114431Z
LAST-MODIFIED:20230829T114431Z
UID:21382-1698624000-1698710399@lsnl.ca
SUMMARY:Personal Injury Conference 2023 by the Continuing Legal Education Society of British Columbia
DESCRIPTION:Can’t make the webinar or rebroadcasts? Want online CPD available 24/7?\nSubscribe to Courses On Demand\, our comprehensive online resource with 1\,500+ videos and 5\,400+ papers from CLEBC courses. This course will be added to Courses on Demand approximately 30 days from the original course date. \nWho should attend: Personal injury litigators\, both plaintiff and defence\, personal injury paralegals\, insurance industry personnel \nLearning level: All levels \nWith the expanded jurisdiction of the Civil Resolution Tribunal\, the personal injury landscape in BC continues to evolve\, but this does not mean that personal injury practice is about to disappear anytime soon. Cases in the pipeline will continue to be litigated and questions of law and practice will continue to be important. If you are a personal injury litigator—this conference is still your must-attend event of the year. \nAs with past conferences\, the centrepiece will be the comprehensive Murray Jamieson case law and legislation update. Rounding out this year’s program are sessions on sexual assault civil claims\, class actions\, mediation/arbitration\, PI and the CRT\, sports and torts\, loss of capacity\, direct examination of the plaintiff\, and\, six months before trial\, what you should be doing to prepare. \nLaw Society of BC CPD Hours: 6 hours (this course will contain a minimum of 1 hour pertaining to professional responsibility and ethics\, client care and relations\, and/or practice management) \nCourse Chairs\nKrista L. Simon — Hammerco Lawyers LLP\, Vancouver\nJames D. Vilvang\, KC — Richards Buell Sutton LLP\, Vancouver \nJust want the materials from the course?\nSubscribe to Online Course Materials and access 5\,400+ papers produced for CLEBC courses since 2001.
URL:https://lsnl.ca/event/personal-injury-conference-2023-by-the-continuing-legal-education-society-of-british-columbia/
LOCATION:Online
CATEGORIES:Continuing Professional Development
END:VEVENT
BEGIN:VEVENT
DTSTART;TZID=America/St_Johns:20231030T180000
DTEND;TZID=America/St_Johns:20231030T190000
DTSTAMP:20260421T194844
CREATED:20231023T164455Z
LAST-MODIFIED:20231023T164455Z
UID:21700-1698688800-1698692400@lsnl.ca
SUMMARY:Online Information Session by the Atlantic Immigrant Career Loan Fund (AICLF)
DESCRIPTION:On October 30\, join us for a one-hour webinar to learn about the Atlantic Immigrant Career Loan Fund (AICLF). This ISANS-led initiative can help immigrants with permanent resident status or Canadian citizenship obtain training and certification in their chosen fields or related fields in their new home provinces. \nDuring this event\, you will learn: \n\nWho is eligible for the AICLF\nWhat costs the AICLF can cover\nThe kinds of programs the AICLF can help pay for\nHow the AICLF is funded and how it is administered across Atlantic Canada\nWhy the AICLF is a better choice for immigrants in Atlantic Canada than funding through a private institution on their own\n\nDuring and after the presentation\, you can also ask any questions you might have about AICLF. \n Registration and attendance details: \n\nRegister for the event at this link\nThe registration deadline is 5 pm Friday\, October 27\nYou will receive a link to the meeting before the event\n\nFor more information\, please contact:   Ken Partridge  |  kpartridge@isans.ca \nMonday\, October 30 \n6:00 – 7:00 pm\nPlatform: Microsoft Teams
URL:https://lsnl.ca/event/online-information-session-by-the-atlantic-immigrant-career-loan-fund-aiclf/
LOCATION:Online
CATEGORIES:Continuing Professional Development
END:VEVENT
END:VCALENDAR