BEGIN:VCALENDAR
VERSION:2.0
PRODID:-//The Law Society of Newfoundland and Labrador - ECPv6.15.19//NONSGML v1.0//EN
CALSCALE:GREGORIAN
METHOD:PUBLISH
X-WR-CALNAME:The Law Society of Newfoundland and Labrador
X-ORIGINAL-URL:https://lsnl.ca
X-WR-CALDESC:Events for The Law Society of Newfoundland and Labrador
REFRESH-INTERVAL;VALUE=DURATION:PT1H
X-Robots-Tag:noindex
X-PUBLISHED-TTL:PT1H
BEGIN:VTIMEZONE
TZID:America/St_Johns
BEGIN:DAYLIGHT
TZOFFSETFROM:-0330
TZOFFSETTO:-0230
TZNAME:NDT
DTSTART:20220313T053000
END:DAYLIGHT
BEGIN:STANDARD
TZOFFSETFROM:-0230
TZOFFSETTO:-0330
TZNAME:NST
DTSTART:20221106T043000
END:STANDARD
BEGIN:DAYLIGHT
TZOFFSETFROM:-0330
TZOFFSETTO:-0230
TZNAME:NDT
DTSTART:20230312T053000
END:DAYLIGHT
BEGIN:STANDARD
TZOFFSETFROM:-0230
TZOFFSETTO:-0330
TZNAME:NST
DTSTART:20231105T043000
END:STANDARD
BEGIN:DAYLIGHT
TZOFFSETFROM:-0330
TZOFFSETTO:-0230
TZNAME:NDT
DTSTART:20240310T053000
END:DAYLIGHT
BEGIN:STANDARD
TZOFFSETFROM:-0230
TZOFFSETTO:-0330
TZNAME:NST
DTSTART:20241103T043000
END:STANDARD
END:VTIMEZONE
BEGIN:VEVENT
DTSTART;TZID=America/St_Johns:20231031T120000
DTEND;TZID=America/St_Johns:20231031T140000
DTSTAMP:20260421T213551
CREATED:20230717T123008Z
LAST-MODIFIED:20230717T123008Z
UID:21217-1698753600-1698760800@lsnl.ca
SUMMARY:Managing Conflict in the Legal Workplace and Building a Stronger Team
DESCRIPTION:Location\n\nView this webcast-only program from your home or office computer \n\n\n\n\n\n\n\n\nChair\n\n\n\n\n\nBill Eddy\, LCSW\, Chief Innovation Officer\n\n\nHigh Conflict Institute\n\n\n\n\n\n\nDescription \n\nIn 2023\, many of us will find ourselves experiencing new challenges in the workplace. The altered dynamics of (fully remote/hybrid/in-office) are starting to emerge\, and the potential conflict in even the most collegial workplace has returned\, too. Back by popular demand\, published author and noted speaker\, Bill Eddy addresses and advises on disruptive workplace behaviours by drawing on his experience as a lawyer\, mediator\, and clinical social worker. His presentation can help you to acknowledge the potentials for conflict and to meet those challenges\, as you look to improve morale and achieve positive outcomes in your workplace\, whatever configuration it might take. \n\nUnderstand how to manage yourself and others in the workplace\nLearn methods to respond to workplace conflicts\nBe aware of when to call in an objective third party
URL:https://lsnl.ca/event/managing-conflict-in-the-legal-workplace-and-building-a-stronger-team/
LOCATION:Online
CATEGORIES:Continuing Professional Development
END:VEVENT
END:VCALENDAR