BEGIN:VCALENDAR
VERSION:2.0
PRODID:-//The Law Society of Newfoundland and Labrador - ECPv6.15.19//NONSGML v1.0//EN
CALSCALE:GREGORIAN
METHOD:PUBLISH
X-WR-CALNAME:The Law Society of Newfoundland and Labrador
X-ORIGINAL-URL:https://lsnl.ca
X-WR-CALDESC:Events for The Law Society of Newfoundland and Labrador
REFRESH-INTERVAL;VALUE=DURATION:PT1H
X-Robots-Tag:noindex
X-PUBLISHED-TTL:PT1H
BEGIN:VTIMEZONE
TZID:America/St_Johns
BEGIN:DAYLIGHT
TZOFFSETFROM:-0330
TZOFFSETTO:-0230
TZNAME:NDT
DTSTART:20220313T053000
END:DAYLIGHT
BEGIN:STANDARD
TZOFFSETFROM:-0230
TZOFFSETTO:-0330
TZNAME:NST
DTSTART:20221106T043000
END:STANDARD
BEGIN:DAYLIGHT
TZOFFSETFROM:-0330
TZOFFSETTO:-0230
TZNAME:NDT
DTSTART:20230312T053000
END:DAYLIGHT
BEGIN:STANDARD
TZOFFSETFROM:-0230
TZOFFSETTO:-0330
TZNAME:NST
DTSTART:20231105T043000
END:STANDARD
BEGIN:DAYLIGHT
TZOFFSETFROM:-0330
TZOFFSETTO:-0230
TZNAME:NDT
DTSTART:20240310T053000
END:DAYLIGHT
BEGIN:STANDARD
TZOFFSETFROM:-0230
TZOFFSETTO:-0330
TZNAME:NST
DTSTART:20241103T043000
END:STANDARD
END:VTIMEZONE
BEGIN:VEVENT
DTSTART;TZID=America/St_Johns:20231121T090000
DTEND;TZID=America/St_Johns:20231121T120000
DTSTAMP:20260421T194313
CREATED:20231102T150710Z
LAST-MODIFIED:20231102T150710Z
UID:21744-1700557200-1700568000@lsnl.ca
SUMMARY:Deeper Dive into the Details of Persuasive Writing 2023
DESCRIPTION:Clear\, concise\, persuasive legal writing \nPlease note: This course will not be added to Courses on Demand. Courses involving professional speakers and skills-based workshops generally do not get added to Courses on Demand. \nWho should attend: Lawyers who know that fluff is for pillows\, not legal documents—those who want to learn to distill their writing to its essence and become more persuasive in the process \nLearning level: Fundamental/Intermediate \nStuart Teicher\, Esq. used to think that semicolons were stupid\, editing was a waste\, and letters were irrelevant. But oh\, how he was wrong! These details of legal writing are actually critical elements in being persuasive. Join the “CLE Performer” as he takes a deeper dive into the details of persuasive writing that will make your writing go from good to great! \nHour 1: Semicolons are stupid and other legal writing myths: Stuart explains how small elements like punctuation and grammar are critical for lawyers to take their writing to the next level…and he does so in a (surprisingly?) engaging way. \nHour 2: Building the structure and fine-tuning the finish: Every generation of lawyers is taught a different legal writing acronym that teaches the proper structure for legal writing. Now learn the acronym to end all acronyms—CIREAC. Also\, Stuart explains how the finishing touches are the most important touches\, and he reveals his process for editing your documents. \nHour 3: Killer correspondence! One of the sharpest tools in the lawyer’s arsenal is a surprisingly common item: the letter. Whether it’s a demand letter\, a note sent during negotiations\, or a client communication\, your success could be dependent on a piece of correspondence. In this hour\, Stuart explains how to write them with the proper persuasive edge. \nAfter taking this workshop\, you will be able to: \n\nuse plain English and proper grammar to create documents that are clear\, concise\, and direct\nunderstand the proper structure of a persuasive writing\nensure success with a structured editing process\n\nYou may also be interested in Breaking Out of the Form: Smart Direction for Better Drafting on Friday\, November 24\, 2023. \nCourse Instructor\nStuart Teicher\, Esq. — Teicher Professional Growth\, LLC\, East Brunswick\, New Jersey
URL:https://lsnl.ca/event/deeper-dive-into-the-details-of-persuasive-writing-2023/
LOCATION:Online
CATEGORIES:Continuing Professional Development
END:VEVENT
END:VCALENDAR